BEGIN:VCALENDAR
VERSION:2.0
PRODID:-//EZFacility.com, Inc.//EZL 2.5.5.28621
BEGIN:VEVENT
UID:2658888@ezleagues.ezfacility.com
DTSTAMP:20260426T033531Z
CREATED:20260426T033531Z
DTSTART:20100123T223000Z
DTEND:20100123T232000Z
LOCATION:SANDHILLS (Field #2) 
CONTACT:
SUMMARY:Dep. Jarocho VS. Dep. Armenia
DESCRIPTION:League Name: Hispanic League Winter II 2010 Division Azul\nGame
  Type: Regular\nGame Status: Complete\nHome Team: Dep. Jarocho\nAway Team:
  Dep. Armenia\nHome Score: 4\nAway Score: 6
END:VEVENT
BEGIN:VEVENT
UID:2682154@ezleagues.ezfacility.com
DTSTAMP:20260426T033531Z
CREATED:20260426T033531Z
DTSTART:20100130T204000Z
DTEND:20100130T213000Z
LOCATION:SANDHILLS (Field #2) 
CONTACT:Mower
SUMMARY:Dep. Jarocho VS. Celtic
DESCRIPTION:League Name: Hispanic League Winter II 2010 Division Azul\nGame
  Type: Regular\nGame Status: Complete\nHome Team: Dep. Jarocho\nAway Team:
  Celtic\nHome Score: 6\nAway Score: 5
END:VEVENT
BEGIN:VEVENT
UID:2708415@ezleagues.ezfacility.com
DTSTAMP:20260426T033531Z
CREATED:20260426T033531Z
DTSTART:20100206T175500Z
DTEND:20100206T184500Z
LOCATION:SANDHILLS (Field #2) 
CONTACT:
SUMMARY:Rayados VS. Dep. Jarocho
DESCRIPTION:League Name: Hispanic League Winter II 2010 Division Azul\nGame
  Type: Regular\nGame Status: Complete\nHome Team: Rayados\nAway Team: Dep.
  Jarocho\nHome Score: 6\nAway Score: 4
END:VEVENT
BEGIN:VEVENT
UID:2708527@ezleagues.ezfacility.com
DTSTAMP:20260426T033531Z
CREATED:20260426T033531Z
DTSTART:20100213T211000Z
DTEND:20100213T220000Z
LOCATION:SANDHILLS (Bi-Lo #1)
CONTACT:Mower
SUMMARY:Dep. Jarocho VS. Las Aguilas
DESCRIPTION:League Name: Hispanic League Winter II 2010 Division Azul\nGame
  Type: Regular\nGame Status: Complete\nHome Team: Dep. Jarocho\nAway Team:
  Las Aguilas\nHome Score: 3\nAway Score: 4
END:VEVENT
BEGIN:VEVENT
UID:2708605@ezleagues.ezfacility.com
DTSTAMP:20260426T033531Z
CREATED:20260426T033531Z
DTSTART:20100220T223000Z
DTEND:20100220T232000Z
LOCATION:SANDHILLS (Field #2) 
CONTACT:Mower
SUMMARY:Atl. Chivas VS. Dep. Jarocho
DESCRIPTION:League Name: Hispanic League Winter II 2010 Division Azul\nGame
  Type: Regular\nGame Status: Complete\nHome Team: Atl. Chivas\nAway Team: 
 Dep. Jarocho\nHome Score: 4\nAway Score: 8
END:VEVENT
BEGIN:VEVENT
UID:2708608@ezleagues.ezfacility.com
DTSTAMP:20260426T033531Z
CREATED:20260426T033531Z
DTSTART:20100227T192000Z
DTEND:20100227T201000Z
LOCATION:SANDHILLS (Bi-Lo #1)
CONTACT:
SUMMARY:Inter VS. Dep. Jarocho
DESCRIPTION:League Name: Hispanic League Winter II 2010 Division Azul\nGame
  Type: Regular\nGame Status: Complete\nHome Team: Inter\nAway Team: Dep. J
 arocho\nHome Score: 4\nAway Score: 5
END:VEVENT
BEGIN:VEVENT
UID:2708611@ezleagues.ezfacility.com
DTSTAMP:20260426T033531Z
CREATED:20260426T033531Z
DTSTART:20100305T211500Z
DTEND:20100305T220500Z
LOCATION:SANDHILLS (Field #2) 
CONTACT:
SUMMARY:Dep. Jarocho VS. Pumas
DESCRIPTION:League Name: Hispanic League Winter II 2010 Division Azul\nGame
  Type: Regular\nGame Status: Complete\nHome Team: Dep. Jarocho\nAway Team:
  Pumas\nHome Score: 9\nAway Score: 6
END:VEVENT
BEGIN:VEVENT
UID:2708620@ezleagues.ezfacility.com
DTSTAMP:20260426T033531Z
CREATED:20260426T033531Z
DTSTART:20100314T014000Z
DTEND:20100314T023000Z
LOCATION:SANDHILLS (Field #2) 
CONTACT:
SUMMARY:Dep. Tuxtepec VS. Dep. Jarocho
DESCRIPTION:League Name: Hispanic League Winter II 2010 Division Azul\nGame
  Type: Regular\nGame Status: Complete\nHome Team: Dep. Tuxtepec\nAway Team
 : Dep. Jarocho\nHome Score: 3\nAway Score: 1
END:VEVENT
END:VCALENDAR
