BEGIN:VCALENDAR
VERSION:2.0
PRODID:-//EZFacility.com, Inc.//EZL 2.5.5.28621
BEGIN:VEVENT
UID:2810304@ezleagues.ezfacility.com
DTSTAMP:20260424T044107Z
CREATED:20260424T044107Z
DTSTART:20100320T233000Z
DTEND:20100321T003000Z
LOCATION:South Rink
CONTACT:
SUMMARY:KW Glass VS. Dogpound
DESCRIPTION:League Name: 2009-10 Saturday 19+ Hockey League "B" PLAYOFFS\nG
 ame Type: Regular\nGame Status: Complete\nHome Team: KW Glass\nAway Team: 
 Dogpound\nHome Score: 8\nAway Score: 3
END:VEVENT
BEGIN:VEVENT
UID:2810317@ezleagues.ezfacility.com
DTSTAMP:20260424T044107Z
CREATED:20260424T044107Z
DTSTART:20100327T230000Z
DTEND:20100328T000000Z
LOCATION:North Rink
CONTACT:
SUMMARY:Thunder VS. KW Glass
DESCRIPTION:League Name: 2009-10 Saturday 19+ Hockey League "B" PLAYOFFS\nG
 ame Type: Regular\nGame Status: Complete\nHome Team: Thunder\nAway Team: K
 W Glass\nHome Score: 3\nAway Score: 4
END:VEVENT
BEGIN:VEVENT
UID:2810327@ezleagues.ezfacility.com
DTSTAMP:20260424T044107Z
CREATED:20260424T044107Z
DTSTART:20100410T203000Z
DTEND:20100410T213000Z
LOCATION:South Rink
CONTACT:
SUMMARY:Bullies VS. KW Glass
DESCRIPTION:League Name: 2009-10 Saturday 19+ Hockey League "B" PLAYOFFS\nG
 ame Type: Regular\nGame Status: Complete\nHome Team: Bullies\nAway Team: K
 W Glass\nHome Score: 8\nAway Score: 3
END:VEVENT
END:VCALENDAR
