BEGIN:VCALENDAR
VERSION:2.0
PRODID:-//EZFacility.com, Inc.//EZL 2.5.5.28621
BEGIN:VEVENT
UID:2870761@ezleagues.ezfacility.com
DTSTAMP:20260424T043234Z
CREATED:20260424T043234Z
DTSTART:20100411T200000Z
DTEND:20100411T210000Z
LOCATION:Beaverton Hoop YMCA Ct. #5
CONTACT:
SUMMARY:Falcons VS. Lincoln
DESCRIPTION:League Name: 10-Spring-Hoop-Spring League-6th Grade Boys\nGame 
 Type: Regular\nGame Status: Complete\nHome Team: Falcons\nAway Team: Linco
 ln\nHome Score: 35\nAway Score: 22
END:VEVENT
BEGIN:VEVENT
UID:2870766@ezleagues.ezfacility.com
DTSTAMP:20260424T043234Z
CREATED:20260424T043234Z
DTSTART:20100411T220000Z
DTEND:20100411T230000Z
LOCATION:Beaverton Hoop YMCA Ct. #1
CONTACT:
SUMMARY:All in One Brown VS. Falcons
DESCRIPTION:League Name: 10-Spring-Hoop-Spring League-6th Grade Boys\nGame 
 Type: Regular\nGame Status: Complete\nHome Team: All in One Brown\nAway Te
 am: Falcons\nHome Score: 34\nAway Score: 68
END:VEVENT
BEGIN:VEVENT
UID:2883368@ezleagues.ezfacility.com
DTSTAMP:20260424T043234Z
CREATED:20260424T043234Z
DTSTART:20100418T160000Z
DTEND:20100418T170000Z
LOCATION:Beaverton Hoop YMCA Ct. #5
CONTACT:
SUMMARY:ICP 5th VS. Falcons
DESCRIPTION:League Name: 10-Spring-Hoop-Spring League-6th Grade Boys\nGame 
 Type: Regular\nGame Status: Complete\nHome Team: ICP 5th\nAway Team: Falco
 ns\nHome Score: 33\nAway Score: 34
END:VEVENT
BEGIN:VEVENT
UID:2883373@ezleagues.ezfacility.com
DTSTAMP:20260424T043234Z
CREATED:20260424T043234Z
DTSTART:20100418T180000Z
DTEND:20100418T190000Z
LOCATION:Beaverton Hoop YMCA Ct. #4
CONTACT:
SUMMARY:Team Concept 2 VS. Falcons
DESCRIPTION:League Name: 10-Spring-Hoop-Spring League-6th Grade Boys\nGame 
 Type: Regular\nGame Status: Complete\nHome Team: Team Concept 2\nAway Team
 : Falcons\nHome Score: 52\nAway Score: 36
END:VEVENT
BEGIN:VEVENT
UID:2893945@ezleagues.ezfacility.com
DTSTAMP:20260424T043234Z
CREATED:20260424T043234Z
DTSTART:20100425T200000Z
DTEND:20100425T210000Z
LOCATION:Beaverton Hoop YMCA Ct. #4
CONTACT:
SUMMARY:All in One-Hurd VS. Falcons
DESCRIPTION:League Name: 10-Spring-Hoop-Spring League-6th Grade Boys\nGame 
 Type: Regular\nGame Status: Complete\nHome Team: All in One-Hurd\nAway Tea
 m: Falcons\nHome Score: 28\nAway Score: 47
END:VEVENT
BEGIN:VEVENT
UID:2893951@ezleagues.ezfacility.com
DTSTAMP:20260424T043234Z
CREATED:20260424T043234Z
DTSTART:20100425T220000Z
DTEND:20100425T230000Z
LOCATION:Beaverton Hoop YMCA Ct. #5
CONTACT:
SUMMARY:Just Ice 1 VS. Falcons
DESCRIPTION:League Name: 10-Spring-Hoop-Spring League-6th Grade Boys\nGame 
 Type: Regular\nGame Status: Complete\nHome Team: Just Ice 1\nAway Team: Fa
 lcons\nHome Score: 48\nAway Score: 22
END:VEVENT
BEGIN:VEVENT
UID:2906436@ezleagues.ezfacility.com
DTSTAMP:20260424T043234Z
CREATED:20260424T043234Z
DTSTART:20100502T170000Z
DTEND:20100502T180000Z
LOCATION:Beaverton Hoop YMCA Ct. #1
CONTACT:
SUMMARY:Falcons VS. nash 5th
DESCRIPTION:League Name: 10-Spring-Hoop-Spring League-6th Grade Boys\nGame 
 Type: Regular\nGame Status: Complete\nHome Team: Falcons\nAway Team: nash 
 5th\nHome Score: 43\nAway Score: 21
END:VEVENT
BEGIN:VEVENT
UID:2906442@ezleagues.ezfacility.com
DTSTAMP:20260424T043234Z
CREATED:20260424T043234Z
DTSTART:20100502T190000Z
DTEND:20100502T200000Z
LOCATION:Beaverton Hoop YMCA Ct. #1
CONTACT:
SUMMARY:Falcons VS. Sunset
DESCRIPTION:League Name: 10-Spring-Hoop-Spring League-6th Grade Boys\nGame 
 Type: Regular\nGame Status: Complete\nHome Team: Falcons\nAway Team: Sunse
 t\nHome Score: 50\nAway Score: 22
END:VEVENT
BEGIN:VEVENT
UID:2932615@ezleagues.ezfacility.com
DTSTAMP:20260424T043234Z
CREATED:20260424T043234Z
DTSTART:20100516T160000Z
DTEND:20100516T170000Z
LOCATION:Beaverton Hoop YMCA Ct. #2
CONTACT:
SUMMARY:Fast 5th VS. Falcons
DESCRIPTION:League Name: 10-Spring-Hoop-Spring League-6th Grade Boys\nGame 
 Type: Regular\nGame Status: Complete\nHome Team: Fast 5th\nAway Team: Falc
 ons\nHome Score: 18\nAway Score: 59
END:VEVENT
BEGIN:VEVENT
UID:2932652@ezleagues.ezfacility.com
DTSTAMP:20260424T043234Z
CREATED:20260424T043234Z
DTSTART:20100516T180000Z
DTEND:20100516T190000Z
LOCATION:Beaverton Hoop YMCA Ct. #5
CONTACT:
SUMMARY:Hoop Team VS. Falcons
DESCRIPTION:League Name: 10-Spring-Hoop-Spring League-6th Grade Boys\nGame 
 Type: Regular\nGame Status: Complete\nHome Team: Hoop Team\nAway Team: Fal
 cons\nHome Score: 18\nAway Score: 51
END:VEVENT
BEGIN:VEVENT
UID:2950340@ezleagues.ezfacility.com
DTSTAMP:20260424T043234Z
CREATED:20260424T043234Z
DTSTART:20100523T160000Z
DTEND:20100523T170000Z
LOCATION:Beaverton Hoop YMCA Ct. #4
CONTACT:
SUMMARY:All in One Lucas VS. Falcons
DESCRIPTION:League Name: 10-Spring-Hoop-Spring League-6th Grade Boys\nGame 
 Type: Regular\nGame Status: Complete\nHome Team: All in One Lucas\nAway Te
 am: Falcons\nHome Score: 36\nAway Score: 45
END:VEVENT
BEGIN:VEVENT
UID:2950351@ezleagues.ezfacility.com
DTSTAMP:20260424T043234Z
CREATED:20260424T043234Z
DTSTART:20100523T180000Z
DTEND:20100523T190000Z
LOCATION:Beaverton Hoop YMCA Ct. #5
CONTACT:
SUMMARY:ICP 5th VS. Falcons
DESCRIPTION:League Name: 10-Spring-Hoop-Spring League-6th Grade Boys\nGame 
 Type: Regular\nGame Status: Complete\nHome Team: ICP 5th\nAway Team: Falco
 ns\nHome Score: 30\nAway Score: 37
END:VEVENT
END:VCALENDAR
