BEGIN:VCALENDAR
VERSION:2.0
PRODID:-//EZFacility.com, Inc.//EZL 2.5.5.28621
BEGIN:VEVENT
UID:2870723@ezleagues.ezfacility.com
DTSTAMP:20260424T043925Z
CREATED:20260424T043925Z
DTSTART:20100411T160000Z
DTEND:20100411T170000Z
LOCATION:Beaverton Hoop YMCA Ct. #1
CONTACT:
SUMMARY:Fast 5th VS. Team Concept 2
DESCRIPTION:League Name: 10-Spring-Hoop-Spring League-6th Grade Boys\nGame 
 Type: Regular\nGame Status: Complete\nHome Team: Fast 5th\nAway Team: Team
  Concept 2\nHome Score: 20\nAway Score: 60
END:VEVENT
BEGIN:VEVENT
UID:2870738@ezleagues.ezfacility.com
DTSTAMP:20260424T043925Z
CREATED:20260424T043925Z
DTSTART:20100411T180000Z
DTEND:20100411T190000Z
LOCATION:Beaverton Hoop YMCA Ct. #1
CONTACT:
SUMMARY:Fast 5th VS. Tualatin Timberwolves
DESCRIPTION:League Name: 10-Spring-Hoop-Spring League-6th Grade Boys\nGame 
 Type: Regular\nGame Status: Complete\nHome Team: Fast 5th\nAway Team: Tual
 atin Timberwolves\nHome Score: 30\nAway Score: 25
END:VEVENT
BEGIN:VEVENT
UID:2883371@ezleagues.ezfacility.com
DTSTAMP:20260424T043925Z
CREATED:20260424T043925Z
DTSTART:20100418T170000Z
DTEND:20100418T180000Z
LOCATION:Beaverton Hoop YMCA Ct. #5
CONTACT:
SUMMARY:Fast 5th VS. Salem Swish
DESCRIPTION:League Name: 10-Spring-Hoop-Spring League-6th Grade Boys\nGame 
 Type: Regular\nGame Status: Complete\nHome Team: Fast 5th\nAway Team: Sale
 m Swish\nHome Score: 39\nAway Score: 36
END:VEVENT
BEGIN:VEVENT
UID:2883376@ezleagues.ezfacility.com
DTSTAMP:20260424T043925Z
CREATED:20260424T043925Z
DTSTART:20100418T190000Z
DTEND:20100418T200000Z
LOCATION:Beaverton Hoop YMCA Ct. #4
CONTACT:
SUMMARY:Hoop Team VS. Fast 5th
DESCRIPTION:League Name: 10-Spring-Hoop-Spring League-6th Grade Boys\nGame 
 Type: Regular\nGame Status: Complete\nHome Team: Hoop Team\nAway Team: Fas
 t 5th\nHome Score: 31\nAway Score: 54
END:VEVENT
BEGIN:VEVENT
UID:2893937@ezleagues.ezfacility.com
DTSTAMP:20260424T043925Z
CREATED:20260424T043925Z
DTSTART:20100425T170000Z
DTEND:20100425T180000Z
LOCATION:Beaverton Hoop YMCA Ct. #1
CONTACT:
SUMMARY:Team Concept 1 VS. Fast 5th
DESCRIPTION:League Name: 10-Spring-Hoop-Spring League-6th Grade Boys\nGame 
 Type: Regular\nGame Status: Complete\nHome Team: Team Concept 1\nAway Team
 : Fast 5th\nHome Score: 40\nAway Score: 36
END:VEVENT
BEGIN:VEVENT
UID:2893943@ezleagues.ezfacility.com
DTSTAMP:20260424T043925Z
CREATED:20260424T043925Z
DTSTART:20100425T190000Z
DTEND:20100425T200000Z
LOCATION:Beaverton Hoop YMCA Ct. #5
CONTACT:
SUMMARY:Just Ice 2 VS. Fast 5th
DESCRIPTION:League Name: 10-Spring-Hoop-Spring League-6th Grade Boys\nGame 
 Type: Regular\nGame Status: Complete\nHome Team: Just Ice 2\nAway Team: Fa
 st 5th\nHome Score: 43\nAway Score: 38
END:VEVENT
BEGIN:VEVENT
UID:2906447@ezleagues.ezfacility.com
DTSTAMP:20260424T043925Z
CREATED:20260424T043925Z
DTSTART:20100502T200000Z
DTEND:20100502T210000Z
LOCATION:Beaverton Hoop YMCA Ct. #2
CONTACT:
SUMMARY:All in One Lucas VS. Fast 5th
DESCRIPTION:League Name: 10-Spring-Hoop-Spring League-6th Grade Boys\nGame 
 Type: Regular\nGame Status: Complete\nHome Team: All in One Lucas\nAway Te
 am: Fast 5th\nHome Score: 69\nAway Score: 31
END:VEVENT
BEGIN:VEVENT
UID:2906454@ezleagues.ezfacility.com
DTSTAMP:20260424T043925Z
CREATED:20260424T043925Z
DTSTART:20100502T220000Z
DTEND:20100502T230000Z
LOCATION:Beaverton Hoop YMCA Ct.  #3
CONTACT:
SUMMARY:Fast 5th VS. Just Ice 2
DESCRIPTION:League Name: 10-Spring-Hoop-Spring League-6th Grade Boys\nGame 
 Type: Regular\nGame Status: Complete\nHome Team: Fast 5th\nAway Team: Just
  Ice 2\nHome Score: 36\nAway Score: 27
END:VEVENT
BEGIN:VEVENT
UID:2918220@ezleagues.ezfacility.com
DTSTAMP:20260424T043925Z
CREATED:20260424T043925Z
DTSTART:20100509T170000Z
DTEND:20100509T180000Z
LOCATION:Beaverton Hoop YMCA Ct. #4
CONTACT:
SUMMARY:Fast 5th VS. All in One-Hurd
DESCRIPTION:League Name: 10-Spring-Hoop-Spring League-6th Grade Boys\nGame 
 Type: Regular\nGame Status: Complete\nHome Team: Fast 5th\nAway Team: All 
 in One-Hurd\nHome Score: 39\nAway Score: 54
END:VEVENT
BEGIN:VEVENT
UID:2918239@ezleagues.ezfacility.com
DTSTAMP:20260424T043925Z
CREATED:20260424T043925Z
DTSTART:20100509T190000Z
DTEND:20100509T200000Z
LOCATION:Beaverton Hoop YMCA Ct. #4
CONTACT:
SUMMARY:Fast 5th VS. Sunset
DESCRIPTION:League Name: 10-Spring-Hoop-Spring League-6th Grade Boys\nGame 
 Type: Regular\nGame Status: Complete\nHome Team: Fast 5th\nAway Team: Suns
 et\nHome Score: 57\nAway Score: 49
END:VEVENT
BEGIN:VEVENT
UID:2932615@ezleagues.ezfacility.com
DTSTAMP:20260424T043925Z
CREATED:20260424T043925Z
DTSTART:20100516T160000Z
DTEND:20100516T170000Z
LOCATION:Beaverton Hoop YMCA Ct. #2
CONTACT:
SUMMARY:Fast 5th VS. Falcons
DESCRIPTION:League Name: 10-Spring-Hoop-Spring League-6th Grade Boys\nGame 
 Type: Regular\nGame Status: Complete\nHome Team: Fast 5th\nAway Team: Falc
 ons\nHome Score: 18\nAway Score: 59
END:VEVENT
BEGIN:VEVENT
UID:2932653@ezleagues.ezfacility.com
DTSTAMP:20260424T043925Z
CREATED:20260424T043925Z
DTSTART:20100516T180000Z
DTEND:20100516T190000Z
LOCATION:Beaverton Hoop YMCA Ct. #2
CONTACT:
SUMMARY:Tualatin Timberwolves VS. Fast 5th
DESCRIPTION:League Name: 10-Spring-Hoop-Spring League-6th Grade Boys\nGame 
 Type: Regular\nGame Status: Complete\nHome Team: Tualatin Timberwolves\nAw
 ay Team: Fast 5th\nHome Score: 42\nAway Score: 39
END:VEVENT
BEGIN:VEVENT
UID:2950346@ezleagues.ezfacility.com
DTSTAMP:20260424T043925Z
CREATED:20260424T043925Z
DTSTART:20100523T170000Z
DTEND:20100523T180000Z
LOCATION:Beaverton Hoop YMCA Ct. #5
CONTACT:
SUMMARY:Fast 5th VS. Just Ice 1
DESCRIPTION:League Name: 10-Spring-Hoop-Spring League-6th Grade Boys\nGame 
 Type: Regular\nGame Status: Complete\nHome Team: Fast 5th\nAway Team: Just
  Ice 1\nHome Score: 29\nAway Score: 46
END:VEVENT
BEGIN:VEVENT
UID:2950357@ezleagues.ezfacility.com
DTSTAMP:20260424T043925Z
CREATED:20260424T043925Z
DTSTART:20100523T190000Z
DTEND:20100523T200000Z
LOCATION:Beaverton Hoop YMCA Ct. #1
CONTACT:
SUMMARY:Team Concept 2 VS. Fast 5th
DESCRIPTION:League Name: 10-Spring-Hoop-Spring League-6th Grade Boys\nGame 
 Type: Regular\nGame Status: Complete\nHome Team: Team Concept 2\nAway Team
 : Fast 5th\nHome Score: 18\nAway Score: 55
END:VEVENT
END:VCALENDAR
