BEGIN:VCALENDAR
VERSION:2.0
PRODID:-//EZFacility.com, Inc.//EZL 2.5.5.28621
BEGIN:VEVENT
UID:2870803@ezleagues.ezfacility.com
DTSTAMP:20260424T043306Z
CREATED:20260424T043306Z
DTSTART:20100411T210000Z
DTEND:20100411T220000Z
LOCATION:Beaverton Hoop YMCA Ct. #4
CONTACT:
SUMMARY:All in One Nash VS. FAST Gold
DESCRIPTION:League Name: 10-Spring-Hoop-Spring League-7th Grade Boys\nGame 
 Type: Regular\nGame Status: Complete\nHome Team: All in One Nash\nAway Tea
 m: FAST Gold\nHome Score: 29\nAway Score: 53
END:VEVENT
BEGIN:VEVENT
UID:2870824@ezleagues.ezfacility.com
DTSTAMP:20260424T043306Z
CREATED:20260424T043306Z
DTSTART:20100411T230000Z
DTEND:20100412T000000Z
LOCATION:Beaverton Hoop YMCA Ct. #5
CONTACT:
SUMMARY:Salem Swish VS. FAST Gold
DESCRIPTION:League Name: 10-Spring-Hoop-Spring League-7th Grade Boys\nGame 
 Type: Regular\nGame Status: Complete\nHome Team: Salem Swish\nAway Team: F
 AST Gold\nHome Score: 25\nAway Score: 49
END:VEVENT
BEGIN:VEVENT
UID:2883349@ezleagues.ezfacility.com
DTSTAMP:20260424T043306Z
CREATED:20260424T043306Z
DTSTART:20100418T210000Z
DTEND:20100418T220000Z
LOCATION:Beaverton Hoop YMCA Ct. #1
CONTACT:
SUMMARY:FAST Gold VS. All in One Lucas
DESCRIPTION:League Name: 10-Spring-Hoop-Spring League-7th Grade Boys\nGame 
 Type: Regular\nGame Status: Complete\nHome Team: FAST Gold\nAway Team: All
  in One Lucas\nHome Score: 51\nAway Score: 27
END:VEVENT
BEGIN:VEVENT
UID:2883356@ezleagues.ezfacility.com
DTSTAMP:20260424T043306Z
CREATED:20260424T043306Z
DTSTART:20100418T230000Z
DTEND:20100419T000000Z
LOCATION:Beaverton Hoop YMCA Ct. #1
CONTACT:
SUMMARY:FAST Gold VS. ICP 7th
DESCRIPTION:League Name: 10-Spring-Hoop-Spring League-7th Grade Boys\nGame 
 Type: Regular\nGame Status: Complete\nHome Team: FAST Gold\nAway Team: ICP
  7th\nHome Score: 39\nAway Score: 63
END:VEVENT
BEGIN:VEVENT
UID:2893846@ezleagues.ezfacility.com
DTSTAMP:20260424T043306Z
CREATED:20260424T043306Z
DTSTART:20100425T210000Z
DTEND:20100425T220000Z
LOCATION:Beaverton Hoop YMCA Ct. #2
CONTACT:
SUMMARY:All in One-Hurd VS. FAST Gold
DESCRIPTION:League Name: 10-Spring-Hoop-Spring League-7th Grade Boys\nGame 
 Type: Regular\nGame Status: Complete\nHome Team: All in One-Hurd\nAway Tea
 m: FAST Gold\nHome Score: 45\nAway Score: 62
END:VEVENT
BEGIN:VEVENT
UID:2893883@ezleagues.ezfacility.com
DTSTAMP:20260424T043306Z
CREATED:20260424T043306Z
DTSTART:20100425T230000Z
DTEND:20100426T000000Z
LOCATION:Beaverton Hoop YMCA Ct.  #3
CONTACT:
SUMMARY:FAST Gold VS. All in One Jones
DESCRIPTION:League Name: 10-Spring-Hoop-Spring League-7th Grade Boys\nGame 
 Type: Regular\nGame Status: Complete\nHome Team: FAST Gold\nAway Team: All
  in One Jones\nHome Score: 65\nAway Score: 58
END:VEVENT
BEGIN:VEVENT
UID:2906412@ezleagues.ezfacility.com
DTSTAMP:20260424T043306Z
CREATED:20260424T043306Z
DTSTART:20100502T210000Z
DTEND:20100502T220000Z
LOCATION:Beaverton Hoop YMCA Ct. #2
CONTACT:
SUMMARY:FAST Gold VS. Lincoln
DESCRIPTION:League Name: 10-Spring-Hoop-Spring League-7th Grade Boys\nGame 
 Type: Regular\nGame Status: Complete\nHome Team: FAST Gold\nAway Team: Lin
 coln\nHome Score: 42\nAway Score: 43
END:VEVENT
BEGIN:VEVENT
UID:2906420@ezleagues.ezfacility.com
DTSTAMP:20260424T043306Z
CREATED:20260424T043306Z
DTSTART:20100502T230000Z
DTEND:20100503T000000Z
LOCATION:Beaverton Hoop YMCA Ct. #2
CONTACT:
SUMMARY:Portland Intensity VS. FAST Gold
DESCRIPTION:League Name: 10-Spring-Hoop-Spring League-7th Grade Boys\nGame 
 Type: Regular\nGame Status: Complete\nHome Team: Portland Intensity\nAway 
 Team: FAST Gold\nHome Score: 75\nAway Score: 38
END:VEVENT
BEGIN:VEVENT
UID:2918250@ezleagues.ezfacility.com
DTSTAMP:20260424T043306Z
CREATED:20260424T043306Z
DTSTART:20100509T200000Z
DTEND:20100509T210000Z
LOCATION:Beaverton Hoop YMCA Ct. #4
CONTACT:
SUMMARY:FAST Gold VS. ICP 7th
DESCRIPTION:League Name: 10-Spring-Hoop-Spring League-7th Grade Boys\nGame 
 Type: Regular\nGame Status: Complete\nHome Team: FAST Gold\nAway Team: ICP
  7th\nHome Score: 57\nAway Score: 69
END:VEVENT
BEGIN:VEVENT
UID:2918255@ezleagues.ezfacility.com
DTSTAMP:20260424T043306Z
CREATED:20260424T043306Z
DTSTART:20100509T220000Z
DTEND:20100509T230000Z
LOCATION:Beaverton Hoop YMCA Ct. #4
CONTACT:
SUMMARY:Glencoe VS. FAST Gold
DESCRIPTION:League Name: 10-Spring-Hoop-Spring League-7th Grade Boys\nGame 
 Type: Regular\nGame Status: Complete\nHome Team: Glencoe\nAway Team: FAST 
 Gold\nHome Score: 34\nAway Score: 35
END:VEVENT
BEGIN:VEVENT
UID:2932715@ezleagues.ezfacility.com
DTSTAMP:20260424T043306Z
CREATED:20260424T043306Z
DTSTART:20100517T000000Z
DTEND:20100517T010000Z
LOCATION:Beaverton Hoop YMCA Ct.  #3
CONTACT:
SUMMARY:MC Heat VS. FAST Gold
DESCRIPTION:League Name: 10-Spring-Hoop-Spring League-7th Grade Boys\nGame 
 Type: Regular\nGame Status: Complete\nHome Team: MC Heat\nAway Team: FAST 
 Gold\nHome Score: 45\nAway Score: 36
END:VEVENT
BEGIN:VEVENT
UID:2932724@ezleagues.ezfacility.com
DTSTAMP:20260424T043306Z
CREATED:20260424T043306Z
DTSTART:20100517T010000Z
DTEND:20100517T020000Z
LOCATION:Beaverton Hoop YMCA Ct. #2
CONTACT:
SUMMARY:FAST Gold VS. Putnam
DESCRIPTION:League Name: 10-Spring-Hoop-Spring League-7th Grade Boys\nGame 
 Type: Regular\nGame Status: Complete\nHome Team: FAST Gold\nAway Team: Put
 nam\nHome Score: 59\nAway Score: 38
END:VEVENT
BEGIN:VEVENT
UID:2950404@ezleagues.ezfacility.com
DTSTAMP:20260424T043306Z
CREATED:20260424T043306Z
DTSTART:20100523T200000Z
DTEND:20100523T210000Z
LOCATION:Beaverton Hoop YMCA Ct. #4
CONTACT:
SUMMARY:FAST Gold VS. All in One-Hurd
DESCRIPTION:League Name: 10-Spring-Hoop-Spring League-7th Grade Boys\nGame 
 Type: Regular\nGame Status: Complete\nHome Team: FAST Gold\nAway Team: All
  in One-Hurd\nHome Score: 24\nAway Score: 62
END:VEVENT
BEGIN:VEVENT
UID:2950375@ezleagues.ezfacility.com
DTSTAMP:20260424T043306Z
CREATED:20260424T043306Z
DTSTART:20100523T220000Z
DTEND:20100523T230000Z
LOCATION:Beaverton Hoop YMCA Ct. #1
CONTACT:
SUMMARY:Lincoln VS. FAST Gold
DESCRIPTION:League Name: 10-Spring-Hoop-Spring League-7th Grade Boys\nGame 
 Type: Regular\nGame Status: Complete\nHome Team: Lincoln\nAway Team: FAST 
 Gold\nHome Score: 36\nAway Score: 46
END:VEVENT
END:VCALENDAR
