BEGIN:VCALENDAR
VERSION:2.0
PRODID:-//EZFacility.com, Inc.//EZL 2.5.5.28621
BEGIN:VEVENT
UID:2870811@ezleagues.ezfacility.com
DTSTAMP:20260424T043958Z
CREATED:20260424T043958Z
DTSTART:20100411T210000Z
DTEND:20100411T220000Z
LOCATION:Beaverton Hoop YMCA Ct. #6
CONTACT:
SUMMARY:Salem Swish VS. Putnam
DESCRIPTION:League Name: 10-Spring-Hoop-Spring League-7th Grade Boys\nGame 
 Type: Regular\nGame Status: Complete\nHome Team: Salem Swish\nAway Team: P
 utnam\nHome Score: 85\nAway Score: 23
END:VEVENT
BEGIN:VEVENT
UID:2870824@ezleagues.ezfacility.com
DTSTAMP:20260424T043958Z
CREATED:20260424T043958Z
DTSTART:20100411T230000Z
DTEND:20100412T000000Z
LOCATION:Beaverton Hoop YMCA Ct. #5
CONTACT:
SUMMARY:Salem Swish VS. FAST Gold
DESCRIPTION:League Name: 10-Spring-Hoop-Spring League-7th Grade Boys\nGame 
 Type: Regular\nGame Status: Complete\nHome Team: Salem Swish\nAway Team: F
 AST Gold\nHome Score: 25\nAway Score: 49
END:VEVENT
BEGIN:VEVENT
UID:2883352@ezleagues.ezfacility.com
DTSTAMP:20260424T043958Z
CREATED:20260424T043958Z
DTSTART:20100418T210000Z
DTEND:20100418T220000Z
LOCATION:Beaverton Hoop YMCA Ct.  #3
CONTACT:
SUMMARY:Salem Swish VS. ICP 7th
DESCRIPTION:League Name: 10-Spring-Hoop-Spring League-7th Grade Boys\nGame 
 Type: Regular\nGame Status: Complete\nHome Team: Salem Swish\nAway Team: I
 CP 7th\nHome Score: 35\nAway Score: 90
END:VEVENT
BEGIN:VEVENT
UID:2883358@ezleagues.ezfacility.com
DTSTAMP:20260424T043958Z
CREATED:20260424T043958Z
DTSTART:20100418T230000Z
DTEND:20100419T000000Z
LOCATION:Beaverton Hoop YMCA Ct.  #3
CONTACT:
SUMMARY:All in One Jones VS. Salem Swish
DESCRIPTION:League Name: 10-Spring-Hoop-Spring League-7th Grade Boys\nGame 
 Type: Regular\nGame Status: Complete\nHome Team: All in One Jones\nAway Te
 am: Salem Swish\nHome Score: 39\nAway Score: 40
END:VEVENT
BEGIN:VEVENT
UID:2893927@ezleagues.ezfacility.com
DTSTAMP:20260424T043958Z
CREATED:20260424T043958Z
DTSTART:20100426T000000Z
DTEND:20100426T010000Z
LOCATION:Beaverton Hoop YMCA Ct. #2
CONTACT:
SUMMARY:All in One Lucas VS. Salem Swish
DESCRIPTION:League Name: 10-Spring-Hoop-Spring League-7th Grade Boys\nGame 
 Type: Regular\nGame Status: Complete\nHome Team: All in One Lucas\nAway Te
 am: Salem Swish\nHome Score: 55\nAway Score: 51
END:VEVENT
BEGIN:VEVENT
UID:2893929@ezleagues.ezfacility.com
DTSTAMP:20260424T043958Z
CREATED:20260424T043958Z
DTSTART:20100426T010000Z
DTEND:20100426T020000Z
LOCATION:Beaverton Hoop YMCA Ct.  #3
CONTACT:
SUMMARY:Salem Swish VS. MC Heat
DESCRIPTION:League Name: 10-Spring-Hoop-Spring League-7th Grade Boys\nGame 
 Type: Regular\nGame Status: Complete\nHome Team: Salem Swish\nAway Team: M
 C Heat\nHome Score: 31\nAway Score: 28
END:VEVENT
BEGIN:VEVENT
UID:2906417@ezleagues.ezfacility.com
DTSTAMP:20260424T043958Z
CREATED:20260424T043958Z
DTSTART:20100502T210000Z
DTEND:20100502T220000Z
LOCATION:Beaverton Hoop YMCA Ct. #6
CONTACT:
SUMMARY:Salem Swish VS. All in One Nash
DESCRIPTION:League Name: 10-Spring-Hoop-Spring League-7th Grade Boys\nGame 
 Type: Regular\nGame Status: Complete\nHome Team: Salem Swish\nAway Team: A
 ll in One Nash\nHome Score: 21\nAway Score: 42
END:VEVENT
BEGIN:VEVENT
UID:2906424@ezleagues.ezfacility.com
DTSTAMP:20260424T043958Z
CREATED:20260424T043958Z
DTSTART:20100502T230000Z
DTEND:20100503T000000Z
LOCATION:Beaverton Hoop YMCA Ct. #4
CONTACT:
SUMMARY:Putnam VS. Salem Swish
DESCRIPTION:League Name: 10-Spring-Hoop-Spring League-7th Grade Boys\nGame 
 Type: Regular\nGame Status: Complete\nHome Team: Putnam\nAway Team: Salem 
 Swish\nHome Score: 19\nAway Score: 61
END:VEVENT
BEGIN:VEVENT
UID:2918260@ezleagues.ezfacility.com
DTSTAMP:20260424T043958Z
CREATED:20260424T043958Z
DTSTART:20100510T000000Z
DTEND:20100510T010000Z
LOCATION:Beaverton Hoop YMCA Ct.  #3
CONTACT:
SUMMARY:Salem Swish VS. East All-Stars
DESCRIPTION:League Name: 10-Spring-Hoop-Spring League-7th Grade Boys\nGame 
 Type: Regular\nGame Status: Complete\nHome Team: Salem Swish\nAway Team: E
 ast All-Stars\nHome Score: 43\nAway Score: 45
END:VEVENT
BEGIN:VEVENT
UID:2918263@ezleagues.ezfacility.com
DTSTAMP:20260424T043958Z
CREATED:20260424T043958Z
DTSTART:20100510T010000Z
DTEND:20100510T020000Z
LOCATION:Beaverton Hoop YMCA Ct.  #3
CONTACT:
SUMMARY:Salem Swish VS. All in One Jones
DESCRIPTION:League Name: 10-Spring-Hoop-Spring League-7th Grade Boys\nGame 
 Type: Regular\nGame Status: Complete\nHome Team: Salem Swish\nAway Team: A
 ll in One Jones\nHome Score: 41\nAway Score: 47
END:VEVENT
BEGIN:VEVENT
UID:2932700@ezleagues.ezfacility.com
DTSTAMP:20260424T043958Z
CREATED:20260424T043958Z
DTSTART:20100516T210000Z
DTEND:20100516T220000Z
LOCATION:Beaverton Hoop YMCA Ct.  #3
CONTACT:
SUMMARY:All in One Brown VS. Salem Swish
DESCRIPTION:League Name: 10-Spring-Hoop-Spring League-7th Grade Boys\nGame 
 Type: Regular\nGame Status: Complete\nHome Team: All in One Brown\nAway Te
 am: Salem Swish\nHome Score: 19\nAway Score: 61
END:VEVENT
BEGIN:VEVENT
UID:2932711@ezleagues.ezfacility.com
DTSTAMP:20260424T043958Z
CREATED:20260424T043958Z
DTSTART:20100516T230000Z
DTEND:20100517T000000Z
LOCATION:Beaverton Hoop YMCA Ct. #6
CONTACT:
SUMMARY:Salem Swish VS. All in One Erickson
DESCRIPTION:League Name: 10-Spring-Hoop-Spring League-7th Grade Boys\nGame 
 Type: Regular\nGame Status: Complete\nHome Team: Salem Swish\nAway Team: A
 ll in One Erickson\nHome Score: 40\nAway Score: 42
END:VEVENT
BEGIN:VEVENT
UID:2950374@ezleagues.ezfacility.com
DTSTAMP:20260424T043958Z
CREATED:20260424T043958Z
DTSTART:20100523T210000Z
DTEND:20100523T220000Z
LOCATION:Beaverton Hoop YMCA Ct.  #3
CONTACT:
SUMMARY:Tigard VS. Salem Swish
DESCRIPTION:League Name: 10-Spring-Hoop-Spring League-7th Grade Boys\nGame 
 Type: Regular\nGame Status: Complete\nHome Team: Tigard\nAway Team: Salem 
 Swish\nHome Score: 63\nAway Score: 43
END:VEVENT
BEGIN:VEVENT
UID:2950385@ezleagues.ezfacility.com
DTSTAMP:20260424T043958Z
CREATED:20260424T043958Z
DTSTART:20100523T230000Z
DTEND:20100524T000000Z
LOCATION:Beaverton Hoop YMCA Ct.  #3
CONTACT:
SUMMARY:Salem Swish VS. NL 2
DESCRIPTION:League Name: 10-Spring-Hoop-Spring League-7th Grade Boys\nGame 
 Type: Regular\nGame Status: Complete\nHome Team: Salem Swish\nAway Team: N
 L 2\nHome Score: 31\nAway Score: 64
END:VEVENT
END:VCALENDAR
