BEGIN:VCALENDAR
VERSION:2.0
PRODID:-//EZFacility.com, Inc.//EZL 2.5.5.28621
BEGIN:VEVENT
UID:2917346@ezleagues.ezfacility.com
DTSTAMP:20260426T033425Z
CREATED:20260426T033425Z
DTSTART:20100516T190000Z
DTEND:20100516T200000Z
LOCATION:Court
CONTACT:
SUMMARY:TJ Baker Funeral Home VS. Red City Hawks
DESCRIPTION:League Name: Summer Men's A Basketball\nGame Type: Regular\nGam
 e Status: Complete\nHome Team: TJ Baker Funeral Home\nAway Team: Red City 
 Hawks\nHome Score: 68\nAway Score: 51
END:VEVENT
BEGIN:VEVENT
UID:2917358@ezleagues.ezfacility.com
DTSTAMP:20260426T033425Z
CREATED:20260426T033425Z
DTSTART:20100523T190000Z
DTEND:20100523T200000Z
LOCATION:Court
CONTACT:
SUMMARY:TJ Baker Funeral Home VS. W&C Construction
DESCRIPTION:League Name: Summer Men's A Basketball\nGame Type: Regular\nGam
 e Status: Complete\nHome Team: TJ Baker Funeral Home\nAway Team: W&C Const
 ruction\nHome Score: 71\nAway Score: 75
END:VEVENT
BEGIN:VEVENT
UID:2917364@ezleagues.ezfacility.com
DTSTAMP:20260426T033425Z
CREATED:20260426T033425Z
DTSTART:20100606T190000Z
DTEND:20100606T200000Z
LOCATION:Court
CONTACT:
SUMMARY:TJ Baker Funeral Home VS. Team Cocoa
DESCRIPTION:League Name: Summer Men's A Basketball\nGame Type: Regular\nGam
 e Status: Complete\nHome Team: TJ Baker Funeral Home\nAway Team: Team Coco
 a\nHome Score: 63\nAway Score: 51
END:VEVENT
BEGIN:VEVENT
UID:2917376@ezleagues.ezfacility.com
DTSTAMP:20260426T033425Z
CREATED:20260426T033425Z
DTSTART:20100613T190000Z
DTEND:20100613T200000Z
LOCATION:Court
CONTACT:
SUMMARY:TJ Baker Funeral Home VS. St. Pete's
DESCRIPTION:League Name: Summer Men's A Basketball\nGame Type: Regular\nGam
 e Status: Complete\nHome Team: TJ Baker Funeral Home\nAway Team: St. Pete'
 s\nHome Score: 66\nAway Score: 73
END:VEVENT
BEGIN:VEVENT
UID:2917382@ezleagues.ezfacility.com
DTSTAMP:20260426T033425Z
CREATED:20260426T033425Z
DTSTART:20100620T190000Z
DTEND:20100620T200000Z
LOCATION:Court
CONTACT:
SUMMARY:Doyle VS. TJ Baker Funeral Home
DESCRIPTION:League Name: Summer Men's A Basketball\nGame Type: Regular\nGam
 e Status: Complete\nHome Team: Doyle\nAway Team: TJ Baker Funeral Home\nHo
 me Score: 61\nAway Score: 68
END:VEVENT
BEGIN:VEVENT
UID:2917352@ezleagues.ezfacility.com
DTSTAMP:20260426T033425Z
CREATED:20260426T033425Z
DTSTART:20100711T200000Z
DTEND:20100711T210000Z
LOCATION:Court
CONTACT:
SUMMARY:Twin Valley VS. TJ Baker Funeral Home
DESCRIPTION:League Name: Summer Men's A Basketball\nGame Type: Regular\nGam
 e Status: Complete\nHome Team: Twin Valley\nAway Team: TJ Baker Funeral Ho
 me\nHome Score: 52\nAway Score: 56
END:VEVENT
BEGIN:VEVENT
UID:2917406@ezleagues.ezfacility.com
DTSTAMP:20260426T033425Z
CREATED:20260426T033425Z
DTSTART:20100718T190000Z
DTEND:20100718T200000Z
LOCATION:Court
CONTACT:
SUMMARY:TJ Baker Funeral Home VS. Dream Team
DESCRIPTION:League Name: Summer Men's A Basketball\nGame Type: Regular\nGam
 e Status: Complete\nHome Team: TJ Baker Funeral Home\nAway Team: Dream Tea
 m\nHome Score: 70\nAway Score: 60
END:VEVENT
BEGIN:VEVENT
UID:2917394@ezleagues.ezfacility.com
DTSTAMP:20260426T033425Z
CREATED:20260426T033425Z
DTSTART:20100725T190000Z
DTEND:20100725T200000Z
LOCATION:Court
CONTACT:
SUMMARY:Family First #1 VS. TJ Baker Funeral Home
DESCRIPTION:League Name: Summer Men's A Basketball\nGame Type: Regular\nGam
 e Status: Complete\nHome Team: Family First #1\nAway Team: TJ Baker Funera
 l Home\nHome Score: 61\nAway Score: 82
END:VEVENT
BEGIN:VEVENT
UID:2917370@ezleagues.ezfacility.com
DTSTAMP:20260426T033425Z
CREATED:20260426T033425Z
DTSTART:20100801T190000Z
DTEND:20100801T200000Z
LOCATION:Court
CONTACT:
SUMMARY:Pro Max Fence Systems VS. TJ Baker Funeral Home
DESCRIPTION:League Name: Summer Men's A Basketball\nGame Type: Regular\nGam
 e Status: Complete\nHome Team: Pro Max Fence Systems\nAway Team: TJ Baker 
 Funeral Home\nHome Score: 64\nAway Score: 59
END:VEVENT
BEGIN:VEVENT
UID:3069112@ezleagues.ezfacility.com
DTSTAMP:20260426T033425Z
CREATED:20260426T033425Z
DTSTART:20100815T190000Z
DTEND:20100815T200000Z
LOCATION:Court
CONTACT:
SUMMARY:TJ Baker Funeral Home VS. Dream Team
DESCRIPTION:League Name: Summer Men's A Basketball\nGame Type: Postseason\n
 Game Status: Complete\nHome Team: TJ Baker Funeral Home\nAway Team: Dream 
 Team\nHome Score: 79\nAway Score: 92
END:VEVENT
END:VCALENDAR
