BEGIN:VCALENDAR
VERSION:2.0
PRODID:-//EZFacility.com, Inc.//EZL 2.5.5.28621
BEGIN:VEVENT
UID:2917349@ezleagues.ezfacility.com
DTSTAMP:20260426T033421Z
CREATED:20260426T033421Z
DTSTART:20100516T180000Z
DTEND:20100516T190000Z
LOCATION:Court
CONTACT:
SUMMARY:Team Cocoa VS. Doyle
DESCRIPTION:League Name: Summer Men's A Basketball\nGame Type: Regular\nGam
 e Status: Complete\nHome Team: Team Cocoa\nAway Team: Doyle\nHome Score: 7
 6\nAway Score: 71
END:VEVENT
BEGIN:VEVENT
UID:2917363@ezleagues.ezfacility.com
DTSTAMP:20260426T033421Z
CREATED:20260426T033421Z
DTSTART:20100523T170000Z
DTEND:20100523T180000Z
LOCATION:Court
CONTACT:
SUMMARY:Team Cocoa VS. Family First #1
DESCRIPTION:League Name: Summer Men's A Basketball\nGame Type: Regular\nGam
 e Status: Complete\nHome Team: Team Cocoa\nAway Team: Family First #1\nHom
 e Score: 91\nAway Score: 66
END:VEVENT
BEGIN:VEVENT
UID:2917364@ezleagues.ezfacility.com
DTSTAMP:20260426T033421Z
CREATED:20260426T033421Z
DTSTART:20100606T190000Z
DTEND:20100606T200000Z
LOCATION:Court
CONTACT:
SUMMARY:TJ Baker Funeral Home VS. Team Cocoa
DESCRIPTION:League Name: Summer Men's A Basketball\nGame Type: Regular\nGam
 e Status: Complete\nHome Team: TJ Baker Funeral Home\nAway Team: Team Coco
 a\nHome Score: 63\nAway Score: 51
END:VEVENT
BEGIN:VEVENT
UID:2917380@ezleagues.ezfacility.com
DTSTAMP:20260426T033421Z
CREATED:20260426T033421Z
DTSTART:20100613T180000Z
DTEND:20100613T190000Z
LOCATION:Court
CONTACT:
SUMMARY:Red City Hawks VS. Team Cocoa
DESCRIPTION:League Name: Summer Men's A Basketball\nGame Type: Regular\nGam
 e Status: Complete\nHome Team: Red City Hawks\nAway Team: Team Cocoa\nHome
  Score: 46\nAway Score: 56
END:VEVENT
BEGIN:VEVENT
UID:2917386@ezleagues.ezfacility.com
DTSTAMP:20260426T033421Z
CREATED:20260426T033421Z
DTSTART:20100620T180000Z
DTEND:20100620T190000Z
LOCATION:Court
CONTACT:
SUMMARY:Team Cocoa VS. Pro Max Fence Systems
DESCRIPTION:League Name: Summer Men's A Basketball\nGame Type: Regular\nGam
 e Status: Complete\nHome Team: Team Cocoa\nAway Team: Pro Max Fence System
 s\nHome Score: 82\nAway Score: 94
END:VEVENT
BEGIN:VEVENT
UID:2917385@ezleagues.ezfacility.com
DTSTAMP:20260426T033421Z
CREATED:20260426T033421Z
DTSTART:20100620T200000Z
DTEND:20100620T210000Z
LOCATION:Court
CONTACT:
SUMMARY:Twin Valley VS. Team Cocoa
DESCRIPTION:League Name: Summer Men's A Basketball\nGame Type: Regular\nGam
 e Status: Complete\nHome Team: Twin Valley\nAway Team: Team Cocoa\nHome Sc
 ore: 30\nAway Score: 0
END:VEVENT
BEGIN:VEVENT
UID:2917390@ezleagues.ezfacility.com
DTSTAMP:20260426T033421Z
CREATED:20260426T033421Z
DTSTART:20100627T160000Z
DTEND:20100627T170000Z
LOCATION:Court
CONTACT:
SUMMARY:Team Cocoa VS. W&C Construction
DESCRIPTION:League Name: Summer Men's A Basketball\nGame Type: Regular\nGam
 e Status: Complete\nHome Team: Team Cocoa\nAway Team: W&C Construction\nHo
 me Score: 0\nAway Score: 30
END:VEVENT
BEGIN:VEVENT
UID:2917408@ezleagues.ezfacility.com
DTSTAMP:20260426T033421Z
CREATED:20260426T033421Z
DTSTART:20100718T160000Z
DTEND:20100718T170000Z
LOCATION:Court
CONTACT:
SUMMARY:Team Cocoa VS. St. Pete's
DESCRIPTION:League Name: Summer Men's A Basketball\nGame Type: Regular\nGam
 e Status: Complete\nHome Team: Team Cocoa\nAway Team: St. Pete's\nHome Sco
 re: 69\nAway Score: 80
END:VEVENT
BEGIN:VEVENT
UID:2917395@ezleagues.ezfacility.com
DTSTAMP:20260426T033421Z
CREATED:20260426T033421Z
DTSTART:20100725T160000Z
DTEND:20100725T170000Z
LOCATION:Court
CONTACT:
SUMMARY:Team Cocoa VS. Strickler
DESCRIPTION:League Name: Summer Men's A Basketball\nGame Type: Regular\nGam
 e Status: Complete\nHome Team: Team Cocoa\nAway Team: Strickler\nHome Scor
 e: 0\nAway Score: 20
END:VEVENT
BEGIN:VEVENT
UID:2917375@ezleagues.ezfacility.com
DTSTAMP:20260426T033421Z
CREATED:20260426T033421Z
DTSTART:20100801T180000Z
DTEND:20100801T190000Z
LOCATION:Court
CONTACT:
SUMMARY:Dream Team VS. Team Cocoa
DESCRIPTION:League Name: Summer Men's A Basketball\nGame Type: Regular\nGam
 e Status: Complete\nHome Team: Dream Team\nAway Team: Team Cocoa\nHome Sco
 re: 88\nAway Score: 97
END:VEVENT
BEGIN:VEVENT
UID:3069108@ezleagues.ezfacility.com
DTSTAMP:20260426T033421Z
CREATED:20260426T033421Z
DTSTART:20100808T160000Z
DTEND:20100808T170000Z
LOCATION:Court
CONTACT:
SUMMARY:Team Cocoa VS. Twin Valley
DESCRIPTION:League Name: Summer Men's A Basketball\nGame Type: Postseason\n
 Game Status: Complete\nHome Team: Team Cocoa\nAway Team: Twin Valley\nHome
  Score: 76\nAway Score: 65
END:VEVENT
BEGIN:VEVENT
UID:3069111@ezleagues.ezfacility.com
DTSTAMP:20260426T033421Z
CREATED:20260426T033421Z
DTSTART:20100815T180000Z
DTEND:20100815T190000Z
LOCATION:Court
CONTACT:
SUMMARY:Pro Max Fence Systems VS. Team Cocoa
DESCRIPTION:League Name: Summer Men's A Basketball\nGame Type: Postseason\n
 Game Status: Complete\nHome Team: Pro Max Fence Systems\nAway Team: Team C
 ocoa\nHome Score: 106\nAway Score: 81
END:VEVENT
END:VCALENDAR
