BEGIN:VCALENDAR
VERSION:2.0
PRODID:-//EZFacility.com, Inc.//EZL 2.5.5.28621
BEGIN:VEVENT
UID:2946583@ezleagues.ezfacility.com
DTSTAMP:20260426T033455Z
CREATED:20260426T033455Z
DTSTART:20100519T223000Z
DTEND:20100519T233000Z
LOCATION:Court
CONTACT:
SUMMARY:Millers Sanitary Services VS. GL Public Services
DESCRIPTION:League Name: Summer +35 Men's Basketball\nGame Type: Regular\nG
 ame Status: Complete\nHome Team: Millers Sanitary Services\nAway Team: GL 
 Public Services\nHome Score: 53\nAway Score: 62
END:VEVENT
BEGIN:VEVENT
UID:2946576@ezleagues.ezfacility.com
DTSTAMP:20260426T033455Z
CREATED:20260426T033455Z
DTSTART:20100526T233000Z
DTEND:20100527T003000Z
LOCATION:Court
CONTACT:
SUMMARY:Werner Farm Lawn & Landscaping VS. Millers Sanitary Services
DESCRIPTION:League Name: Summer +35 Men's Basketball\nGame Type: Regular\nG
 ame Status: Complete\nHome Team: Werner Farm Lawn & Landscaping\nAway Team
 : Millers Sanitary Services\nHome Score: 59\nAway Score: 57
END:VEVENT
BEGIN:VEVENT
UID:2946572@ezleagues.ezfacility.com
DTSTAMP:20260426T033455Z
CREATED:20260426T033455Z
DTSTART:20100602T233000Z
DTEND:20100603T003000Z
LOCATION:Court
CONTACT:
SUMMARY:Millers Sanitary Services VS. Chip 
DESCRIPTION:League Name: Summer +35 Men's Basketball\nGame Type: Regular\nG
 ame Status: Complete\nHome Team: Millers Sanitary Services\nAway Team: Chi
 p \nHome Score: 78\nAway Score: 71
END:VEVENT
BEGIN:VEVENT
UID:2946579@ezleagues.ezfacility.com
DTSTAMP:20260426T033455Z
CREATED:20260426T033455Z
DTSTART:20100616T233000Z
DTEND:20100617T003000Z
LOCATION:Court
CONTACT:
SUMMARY:Team 09 (Lash) VS. Millers Sanitary Services
DESCRIPTION:League Name: Summer +35 Men's Basketball\nGame Type: Regular\nG
 ame Status: Complete\nHome Team: Team 09 (Lash)\nAway Team: Millers Sanita
 ry Services\nHome Score: 58\nAway Score: 55
END:VEVENT
BEGIN:VEVENT
UID:2946587@ezleagues.ezfacility.com
DTSTAMP:20260426T033455Z
CREATED:20260426T033455Z
DTSTART:20100623T223000Z
DTEND:20100623T233000Z
LOCATION:Court
CONTACT:
SUMMARY:Chip  VS. Millers Sanitary Services
DESCRIPTION:League Name: Summer +35 Men's Basketball\nGame Type: Regular\nG
 ame Status: Complete\nHome Team: Chip \nAway Team: Millers Sanitary Servic
 es\nHome Score: 55\nAway Score: 48
END:VEVENT
BEGIN:VEVENT
UID:2946591@ezleagues.ezfacility.com
DTSTAMP:20260426T033455Z
CREATED:20260426T033455Z
DTSTART:20100630T223000Z
DTEND:20100630T233000Z
LOCATION:Court
CONTACT:
SUMMARY:Millers Sanitary Services VS. Werner Farm Lawn & Landscaping
DESCRIPTION:League Name: Summer +35 Men's Basketball\nGame Type: Regular\nG
 ame Status: Complete\nHome Team: Millers Sanitary Services\nAway Team: Wer
 ner Farm Lawn & Landscaping\nHome Score: 57\nAway Score: 47
END:VEVENT
BEGIN:VEVENT
UID:2946594@ezleagues.ezfacility.com
DTSTAMP:20260426T033455Z
CREATED:20260426T033455Z
DTSTART:20100707T223000Z
DTEND:20100707T233000Z
LOCATION:Court
CONTACT:
SUMMARY:Millers Sanitary Services VS. Team 09 (Lash)
DESCRIPTION:League Name: Summer +35 Men's Basketball\nGame Type: Regular\nG
 ame Status: Complete\nHome Team: Millers Sanitary Services\nAway Team: Tea
 m 09 (Lash)\nHome Score: 53\nAway Score: 63
END:VEVENT
BEGIN:VEVENT
UID:2946597@ezleagues.ezfacility.com
DTSTAMP:20260426T033455Z
CREATED:20260426T033455Z
DTSTART:20100714T233000Z
DTEND:20100715T003000Z
LOCATION:Court
CONTACT:
SUMMARY:Millers Sanitary Services VS. Team 09 (Lash)
DESCRIPTION:League Name: Summer +35 Men's Basketball\nGame Type: Regular\nG
 ame Status: Complete\nHome Team: Millers Sanitary Services\nAway Team: Tea
 m 09 (Lash)\nHome Score: 52\nAway Score: 51
END:VEVENT
BEGIN:VEVENT
UID:2946598@ezleagues.ezfacility.com
DTSTAMP:20260426T033455Z
CREATED:20260426T033455Z
DTSTART:20100721T233000Z
DTEND:20100722T003000Z
LOCATION:Court
CONTACT:
SUMMARY:GL Public Services VS. Millers Sanitary Services
DESCRIPTION:League Name: Summer +35 Men's Basketball\nGame Type: Regular\nG
 ame Status: Complete\nHome Team: GL Public Services\nAway Team: Millers Sa
 nitary Services\nHome Score: 56\nAway Score: 58
END:VEVENT
BEGIN:VEVENT
UID:2946606@ezleagues.ezfacility.com
DTSTAMP:20260426T033455Z
CREATED:20260426T033455Z
DTSTART:20100804T233000Z
DTEND:20100805T003000Z
LOCATION:Court
CONTACT:
SUMMARY:Chip  VS. Millers Sanitary Services
DESCRIPTION:League Name: Summer +35 Men's Basketball\nGame Type: Regular\nG
 ame Status: Complete\nHome Team: Chip \nAway Team: Millers Sanitary Servic
 es\nHome Score: 34\nAway Score: 67
END:VEVENT
BEGIN:VEVENT
UID:3073584@ezleagues.ezfacility.com
DTSTAMP:20260426T033455Z
CREATED:20260426T033455Z
DTSTART:20100811T233000Z
DTEND:20100812T003000Z
LOCATION:Court
CONTACT:
SUMMARY:Team 09 (Lash) VS. Millers Sanitary Services
DESCRIPTION:League Name: Summer +35 Men's Basketball\nGame Type: Postseason
 \nGame Status: Complete\nHome Team: Team 09 (Lash)\nAway Team: Millers San
 itary Services\nHome Score: 54\nAway Score: 68
END:VEVENT
BEGIN:VEVENT
UID:3073586@ezleagues.ezfacility.com
DTSTAMP:20260426T033455Z
CREATED:20260426T033455Z
DTSTART:20100818T230000Z
DTEND:20100819T000000Z
LOCATION:Court
CONTACT:
SUMMARY:GL Public Services VS. Millers Sanitary Services
DESCRIPTION:League Name: Summer +35 Men's Basketball\nGame Type: Postseason
 \nGame Status: Complete\nHome Team: GL Public Services\nAway Team: Millers
  Sanitary Services\nHome Score: 39\nAway Score: 47
END:VEVENT
END:VCALENDAR
