BEGIN:VCALENDAR
VERSION:2.0
PRODID:-//EZFacility.com, Inc.//EZL 2.5.5.28621
BEGIN:VEVENT
UID:2944495@ezleagues.ezfacility.com
DTSTAMP:20260426T035112Z
CREATED:20260426T035112Z
DTSTART:20100519T233000Z
DTEND:20100520T010000Z
LOCATION:Field 10
CONTACT:
SUMMARY:Club Columbus VS. Cobra Kai
DESCRIPTION:League Name: Spring Outdoor Men's 30+ 11v11 North\nGame Type: R
 egular\nGame Status: Complete\nHome Team: Club Columbus\nAway Team: Cobra 
 Kai\nHome Score: 5\nAway Score: 0
END:VEVENT
BEGIN:VEVENT
UID:2956452@ezleagues.ezfacility.com
DTSTAMP:20260426T035112Z
CREATED:20260426T035112Z
DTSTART:20100602T223000Z
DTEND:20100603T000000Z
LOCATION:Field 10
CONTACT:
SUMMARY:Columbus Hammers VS. Cobra Kai
DESCRIPTION:League Name: Spring Outdoor Men's 30+ 11v11 North\nGame Type: R
 egular\nGame Status: Complete\nHome Team: Columbus Hammers\nAway Team: Cob
 ra Kai\nHome Score: 4\nAway Score: 1
END:VEVENT
BEGIN:VEVENT
UID:2956453@ezleagues.ezfacility.com
DTSTAMP:20260426T035112Z
CREATED:20260426T035112Z
DTSTART:20100609T223000Z
DTEND:20100610T000000Z
LOCATION:Field 01
CONTACT:
SUMMARY:FC Pub VS. Cobra Kai
DESCRIPTION:League Name: Spring Outdoor Men's 30+ 11v11 North\nGame Type: R
 egular\nGame Status: Complete\nHome Team: FC Pub\nAway Team: Cobra Kai\nHo
 me Score: 5\nAway Score: 1
END:VEVENT
BEGIN:VEVENT
UID:2956393@ezleagues.ezfacility.com
DTSTAMP:20260426T035112Z
CREATED:20260426T035112Z
DTSTART:20100623T223000Z
DTEND:20100624T000000Z
LOCATION:Field 02
CONTACT:
SUMMARY:Cobra Kai VS. Capitals
DESCRIPTION:League Name: Spring Outdoor Men's 30+ 11v11 North\nGame Type: R
 egular\nGame Status: Complete\nHome Team: Cobra Kai\nAway Team: Capitals\n
 Home Score: 0\nAway Score: 5
END:VEVENT
BEGIN:VEVENT
UID:2956455@ezleagues.ezfacility.com
DTSTAMP:20260426T035112Z
CREATED:20260426T035112Z
DTSTART:20100630T223000Z
DTEND:20100701T000000Z
LOCATION:Field 02
CONTACT:
SUMMARY:Cobra Kai VS. Columbus United
DESCRIPTION:League Name: Spring Outdoor Men's 30+ 11v11 North\nGame Type: R
 egular\nGame Status: Complete\nHome Team: Cobra Kai\nAway Team: Columbus U
 nited\nHome Score: 3\nAway Score: 2
END:VEVENT
BEGIN:VEVENT
UID:2956449@ezleagues.ezfacility.com
DTSTAMP:20260426T035112Z
CREATED:20260426T035112Z
DTSTART:20100707T223000Z
DTEND:20100708T000000Z
LOCATION:Field 09
CONTACT:
SUMMARY:Cobra Kai VS. Club Columbus
DESCRIPTION:League Name: Spring Outdoor Men's 30+ 11v11 North\nGame Type: R
 egular\nGame Status: Complete\nHome Team: Cobra Kai\nAway Team: Club Colum
 bus\nHome Score: 3\nAway Score: 6
END:VEVENT
BEGIN:VEVENT
UID:2956456@ezleagues.ezfacility.com
DTSTAMP:20260426T035112Z
CREATED:20260426T035112Z
DTSTART:20100714T233000Z
DTEND:20100715T010000Z
LOCATION:Field 01
CONTACT:
SUMMARY:FC Pub VS. Cobra Kai
DESCRIPTION:League Name: Spring Outdoor Men's 30+ 11v11 North\nGame Type: R
 egular\nGame Status: Complete\nHome Team: FC Pub\nAway Team: Cobra Kai\nHo
 me Score: 4\nAway Score: 3
END:VEVENT
BEGIN:VEVENT
UID:2956383@ezleagues.ezfacility.com
DTSTAMP:20260426T035112Z
CREATED:20260426T035112Z
DTSTART:20100721T223000Z
DTEND:20100722T000000Z
LOCATION:Field 01
CONTACT:
SUMMARY:Cobra Kai VS. Arsenal
DESCRIPTION:League Name: Spring Outdoor Men's 30+ 11v11 North\nGame Type: R
 egular\nGame Status: Complete\nHome Team: Cobra Kai\nAway Team: Arsenal\nH
 ome Score: 1\nAway Score: 3
END:VEVENT
END:VCALENDAR
