BEGIN:VCALENDAR
VERSION:2.0
PRODID:-//EZFacility.com, Inc.//EZL 2.5.5.28621
BEGIN:VEVENT
UID:2944420@ezleagues.ezfacility.com
DTSTAMP:20260424T043211Z
CREATED:20260424T043211Z
DTSTART:20100518T220000Z
DTEND:20100518T233000Z
LOCATION:Field C
CONTACT:
SUMMARY:Filthy Fresh Crew VS. FC 108
DESCRIPTION:League Name: Spring Outdoor Coed 0pen 7v7 East\nGame Type: Regu
 lar\nGame Status: Complete\nHome Team: Filthy Fresh Crew\nAway Team: FC 10
 8\nHome Score: 4\nAway Score: 8
END:VEVENT
BEGIN:VEVENT
UID:2951638@ezleagues.ezfacility.com
DTSTAMP:20260424T043211Z
CREATED:20260424T043211Z
DTSTART:20100525T223000Z
DTEND:20100526T000000Z
LOCATION:Field J
CONTACT:
SUMMARY:How Now Brown Cow VS. Filthy Fresh Crew
DESCRIPTION:League Name: Spring Outdoor Coed 0pen 7v7 East\nGame Type: Regu
 lar\nGame Status: Complete\nHome Team: How Now Brown Cow\nAway Team: Filth
 y Fresh Crew\nHome Score: 6\nAway Score: 6
END:VEVENT
BEGIN:VEVENT
UID:2951642@ezleagues.ezfacility.com
DTSTAMP:20260424T043211Z
CREATED:20260424T043211Z
DTSTART:20100601T223000Z
DTEND:20100602T000000Z
LOCATION:Field K
CONTACT:
SUMMARY:Blue Team\, The VS. Filthy Fresh Crew
DESCRIPTION:League Name: Spring Outdoor Coed 0pen 7v7 East\nGame Type: Regu
 lar\nGame Status: Complete\nHome Team: Blue Team, The\nAway Team: Filthy F
 resh Crew\nHome Score: 5\nAway Score: 4
END:VEVENT
BEGIN:VEVENT
UID:2951646@ezleagues.ezfacility.com
DTSTAMP:20260424T043211Z
CREATED:20260424T043211Z
DTSTART:20100608T223000Z
DTEND:20100609T000000Z
LOCATION:Field A
CONTACT:
SUMMARY:Filthy Fresh Crew VS. Tide
DESCRIPTION:League Name: Spring Outdoor Coed 0pen 7v7 East\nGame Type: Regu
 lar\nGame Status: Complete\nHome Team: Filthy Fresh Crew\nAway Team: Tide\
 nHome Score: 11\nAway Score: 0
END:VEVENT
BEGIN:VEVENT
UID:2951655@ezleagues.ezfacility.com
DTSTAMP:20260424T043211Z
CREATED:20260424T043211Z
DTSTART:20100622T223000Z
DTEND:20100623T000000Z
LOCATION:Field A
CONTACT:
SUMMARY:Filthy Fresh Crew VS. Juices of Fire
DESCRIPTION:League Name: Spring Outdoor Coed 0pen 7v7 East\nGame Type: Regu
 lar\nGame Status: Complete\nHome Team: Filthy Fresh Crew\nAway Team: Juice
 s of Fire\nHome Score: 10\nAway Score: 1
END:VEVENT
BEGIN:VEVENT
UID:2951952@ezleagues.ezfacility.com
DTSTAMP:20260424T043211Z
CREATED:20260424T043211Z
DTSTART:20100629T223000Z
DTEND:20100630T000000Z
LOCATION:Field E
CONTACT:
SUMMARY:Filthy Fresh Crew VS. Made in the 80's
DESCRIPTION:League Name: Spring Outdoor Coed 0pen 7v7 East\nGame Type: Regu
 lar\nGame Status: Complete\nHome Team: Filthy Fresh Crew\nAway Team: Made 
 in the 80's\nHome Score: 3\nAway Score: 9
END:VEVENT
BEGIN:VEVENT
UID:2951665@ezleagues.ezfacility.com
DTSTAMP:20260424T043211Z
CREATED:20260424T043211Z
DTSTART:20100706T223000Z
DTEND:20100707T000000Z
LOCATION:Field K
CONTACT:
SUMMARY:Winded FC VS. Filthy Fresh Crew
DESCRIPTION:League Name: Spring Outdoor Coed 0pen 7v7 East\nGame Type: Regu
 lar\nGame Status: Complete\nHome Team: Winded FC\nAway Team: Filthy Fresh 
 Crew\nHome Score: 7\nAway Score: 6
END:VEVENT
BEGIN:VEVENT
UID:2951651@ezleagues.ezfacility.com
DTSTAMP:20260424T043211Z
CREATED:20260424T043211Z
DTSTART:20100720T223000Z
DTEND:20100721T000000Z
LOCATION:Field F
CONTACT:
SUMMARY:Stir-Fried Furnace VS. Filthy Fresh Crew
DESCRIPTION:League Name: Spring Outdoor Coed 0pen 7v7 East\nGame Type: Regu
 lar\nGame Status: Complete\nHome Team: Stir-Fried Furnace\nAway Team: Filt
 hy Fresh Crew\nHome Score: 4\nAway Score: 5
END:VEVENT
END:VCALENDAR
