BEGIN:VCALENDAR
VERSION:2.0
PRODID:-//EZFacility.com, Inc.//EZL 2.5.5.28621
BEGIN:VEVENT
UID:3015925@ezleagues.ezfacility.com
DTSTAMP:20260424T044259Z
CREATED:20260424T044259Z
DTSTART:20100704T032000Z
DTEND:20100704T042000Z
LOCATION:SANDHILLS (Field #2) 
CONTACT:
SUMMARY:San Jose VS. Real San Jose
DESCRIPTION:League Name: Hispanic League Summer Division Roja\nGame Type: R
 egular\nGame Status: Complete\nHome Team: San Jose\nAway Team: Real San Jo
 se\nHome Score: 3\nAway Score: 19
END:VEVENT
BEGIN:VEVENT
UID:3031875@ezleagues.ezfacility.com
DTSTAMP:20260424T044259Z
CREATED:20260424T044259Z
DTSTART:20100710T013500Z
DTEND:20100710T023500Z
LOCATION:SANDHILLS (Field #2) 
CONTACT:
SUMMARY:Holanda VS. Real San Jose
DESCRIPTION:League Name: Hispanic League Summer Division Roja\nGame Type: R
 egular\nGame Status: Complete\nHome Team: Holanda\nAway Team: Real San Jos
 e\nHome Score: 2\nAway Score: 5
END:VEVENT
BEGIN:VEVENT
UID:3040445@ezleagues.ezfacility.com
DTSTAMP:20260424T044259Z
CREATED:20260424T044259Z
DTSTART:20100717T014000Z
DTEND:20100717T024000Z
LOCATION:SANDHILLS (Bi-Lo #1)
CONTACT:
SUMMARY:Toluca VS. Real San Jose
DESCRIPTION:League Name: Hispanic League Summer Division Roja\nGame Type: R
 egular\nGame Status: Complete\nHome Team: Toluca\nAway Team: Real San Jose
 \nHome Score: 1\nAway Score: 7
END:VEVENT
BEGIN:VEVENT
UID:3050006@ezleagues.ezfacility.com
DTSTAMP:20260424T044259Z
CREATED:20260424T044259Z
DTSTART:20100724T004500Z
DTEND:20100724T014500Z
LOCATION:SANDHILLS (Field #2) 
CONTACT:Onate
SUMMARY:Real San Jose VS. Dep. San Luis
DESCRIPTION:League Name: Hispanic League Summer Division Roja\nGame Type: R
 egular\nGame Status: Complete\nHome Team: Real San Jose\nAway Team: Dep. S
 an Luis\nHome Score: 4\nAway Score: 6
END:VEVENT
BEGIN:VEVENT
UID:3051589@ezleagues.ezfacility.com
DTSTAMP:20260424T044259Z
CREATED:20260424T044259Z
DTSTART:20100731T014000Z
DTEND:20100731T024000Z
LOCATION:SANDHILLS (Field #2) 
CONTACT:Onate
SUMMARY:Real San Jose VS. Liverpool
DESCRIPTION:League Name: Hispanic League Summer Division Roja\nGame Type: R
 egular\nGame Status: Complete\nHome Team: Real San Jose\nAway Team: Liverp
 ool\nHome Score: 4\nAway Score: 8
END:VEVENT
BEGIN:VEVENT
UID:3051594@ezleagues.ezfacility.com
DTSTAMP:20260424T044259Z
CREATED:20260424T044259Z
DTSTART:20100808T032000Z
DTEND:20100808T042000Z
LOCATION:SANDHILLS (Field #2) 
CONTACT:
SUMMARY:San Jose VS. Real San Jose
DESCRIPTION:League Name: Hispanic League Summer Division Roja\nGame Type: R
 egular\nGame Status: Complete\nHome Team: San Jose\nAway Team: Real San Jo
 se\nHome Score: 6\nAway Score: 7
END:VEVENT
BEGIN:VEVENT
UID:3051595@ezleagues.ezfacility.com
DTSTAMP:20260424T044259Z
CREATED:20260424T044259Z
DTSTART:20100814T014000Z
DTEND:20100814T024000Z
LOCATION:SANDHILLS (Field #2) 
CONTACT:
SUMMARY:Holanda VS. Real San Jose
DESCRIPTION:League Name: Hispanic League Summer Division Roja\nGame Type: R
 egular\nGame Status: Complete\nHome Team: Holanda\nAway Team: Real San Jos
 e\nHome Score: 0\nAway Score: 6
END:VEVENT
BEGIN:VEVENT
UID:3051603@ezleagues.ezfacility.com
DTSTAMP:20260424T044259Z
CREATED:20260424T044259Z
DTSTART:20100821T014000Z
DTEND:20100821T024000Z
LOCATION:SANDHILLS (Field #2) 
CONTACT:
SUMMARY:Toluca VS. Real San Jose
DESCRIPTION:League Name: Hispanic League Summer Division Roja\nGame Type: R
 egular\nGame Status: Complete\nHome Team: Toluca\nAway Team: Real San Jose
 \nHome Score: 2\nAway Score: 7
END:VEVENT
END:VCALENDAR
