BEGIN:VCALENDAR
VERSION:2.0
PRODID:-//EZFacility.com, Inc.//EZL 2.5.5.28621
BEGIN:VEVENT
UID:3063051@ezleagues.ezfacility.com
DTSTAMP:20260422T164152Z
CREATED:20260422T164152Z
DTSTART:20100804T223000Z
DTEND:20100805T000000Z
LOCATION:Field 08
CONTACT:
SUMMARY:Janis VS. The Flash
DESCRIPTION:League Name: Fall Outdoor Men's 30 South\nGame Type: Regular\nG
 ame Status: Complete\nHome Team: Janis\nAway Team: The Flash\nHome Score: 
 2\nAway Score: 0
END:VEVENT
BEGIN:VEVENT
UID:3063056@ezleagues.ezfacility.com
DTSTAMP:20260422T164152Z
CREATED:20260422T164152Z
DTSTART:20100811T223000Z
DTEND:20100812T000000Z
LOCATION:Field 06
CONTACT:
SUMMARY:Super Team VS. Janis
DESCRIPTION:League Name: Fall Outdoor Men's 30 South\nGame Type: Regular\nG
 ame Status: Complete\nHome Team: Super Team\nAway Team: Janis\nHome Score:
  2\nAway Score: 1
END:VEVENT
BEGIN:VEVENT
UID:3063061@ezleagues.ezfacility.com
DTSTAMP:20260422T164152Z
CREATED:20260422T164152Z
DTSTART:20100818T223000Z
DTEND:20100819T000000Z
LOCATION:Field 07
CONTACT:
SUMMARY:Janis VS. TBD
DESCRIPTION:League Name: Fall Outdoor Men's 30 South\nGame Type: Regular\nG
 ame Status: Complete\nHome Team: Janis\nAway Team: TBD\nHome Score: 2\nAwa
 y Score: 3
END:VEVENT
BEGIN:VEVENT
UID:3063066@ezleagues.ezfacility.com
DTSTAMP:20260422T164152Z
CREATED:20260422T164152Z
DTSTART:20100825T223000Z
DTEND:20100826T000000Z
LOCATION:Field 10
CONTACT:
SUMMARY:Janis VS. Flash 2
DESCRIPTION:League Name: Fall Outdoor Men's 30 South\nGame Type: Regular\nG
 ame Status: Complete\nHome Team: Janis\nAway Team: Flash 2\nHome Score: 2\
 nAway Score: 3
END:VEVENT
BEGIN:VEVENT
UID:3063070@ezleagues.ezfacility.com
DTSTAMP:20260422T164152Z
CREATED:20260422T164152Z
DTSTART:20100901T223000Z
DTEND:20100902T000000Z
LOCATION:Field 09
CONTACT:
SUMMARY:Gigondas VS. Janis
DESCRIPTION:League Name: Fall Outdoor Men's 30 South\nGame Type: Regular\nG
 ame Status: Complete\nHome Team: Gigondas\nAway Team: Janis\nHome Score: 2
 \nAway Score: 2
END:VEVENT
BEGIN:VEVENT
UID:3063076@ezleagues.ezfacility.com
DTSTAMP:20260422T164152Z
CREATED:20260422T164152Z
DTSTART:20100915T223000Z
DTEND:20100916T000000Z
LOCATION:Field 04
CONTACT:
SUMMARY:Golden Monkeys VS. Janis
DESCRIPTION:League Name: Fall Outdoor Men's 30 South\nGame Type: Regular\nG
 ame Status: Complete\nHome Team: Golden Monkeys\nAway Team: Janis\nHome Sc
 ore: 0\nAway Score: 1
END:VEVENT
BEGIN:VEVENT
UID:3063079@ezleagues.ezfacility.com
DTSTAMP:20260422T164152Z
CREATED:20260422T164152Z
DTSTART:20100922T223000Z
DTEND:20100923T000000Z
LOCATION:Field 08
CONTACT:
SUMMARY:The Flash VS. Janis
DESCRIPTION:League Name: Fall Outdoor Men's 30 South\nGame Type: Regular\nG
 ame Status: Complete\nHome Team: The Flash\nAway Team: Janis\nHome Score: 
 4\nAway Score: 0
END:VEVENT
BEGIN:VEVENT
UID:3063084@ezleagues.ezfacility.com
DTSTAMP:20260422T164152Z
CREATED:20260422T164152Z
DTSTART:20100929T223000Z
DTEND:20100930T000000Z
LOCATION:Field 10
CONTACT:
SUMMARY:Janis VS. Super Team
DESCRIPTION:League Name: Fall Outdoor Men's 30 South\nGame Type: Regular\nG
 ame Status: Complete\nHome Team: Janis\nAway Team: Super Team\nHome Score:
  1\nAway Score: 2
END:VEVENT
END:VCALENDAR
