BEGIN:VCALENDAR
VERSION:2.0
PRODID:-//EZFacility.com, Inc.//EZL 2.5.5.28621
BEGIN:VEVENT
UID:3193268@ezleagues.ezfacility.com
DTSTAMP:20260426T033425Z
CREATED:20260426T033425Z
DTSTART:20100928T233000Z
DTEND:20100929T003000Z
LOCATION:South Rink
CONTACT:
SUMMARY:Nordekes VS. Chefrods
DESCRIPTION:League Name: 2010-11 Tuesday Men's 19+ Hockey "A" Pool\nGame Ty
 pe: Regular\nGame Status: Complete\nHome Team: Nordekes\nAway Team: Chefro
 ds\nHome Score: 3\nAway Score: 0
END:VEVENT
BEGIN:VEVENT
UID:3193277@ezleagues.ezfacility.com
DTSTAMP:20260426T033425Z
CREATED:20260426T033425Z
DTSTART:20101006T000000Z
DTEND:20101006T010000Z
LOCATION:North Rink
CONTACT:
SUMMARY:Heffner Lexus VS. Nordekes
DESCRIPTION:League Name: 2010-11 Tuesday Men's 19+ Hockey "A" Pool\nGame Ty
 pe: Regular\nGame Status: Complete\nHome Team: Heffner Lexus\nAway Team: N
 ordekes\nHome Score: 2\nAway Score: 6
END:VEVENT
BEGIN:VEVENT
UID:3193286@ezleagues.ezfacility.com
DTSTAMP:20260426T033425Z
CREATED:20260426T033425Z
DTSTART:20101013T020000Z
DTEND:20101013T030000Z
LOCATION:North Rink
CONTACT:
SUMMARY:Nordekes VS. Doobie Brothers
DESCRIPTION:League Name: 2010-11 Tuesday Men's 19+ Hockey "A" Pool\nGame Ty
 pe: Regular\nGame Status: Complete\nHome Team: Nordekes\nAway Team: Doobie
  Brothers\nHome Score: 4\nAway Score: 2
END:VEVENT
BEGIN:VEVENT
UID:3193295@ezleagues.ezfacility.com
DTSTAMP:20260426T033425Z
CREATED:20260426T033425Z
DTSTART:20101019T230000Z
DTEND:20101020T000000Z
LOCATION:North Rink
CONTACT:
SUMMARY:Jamieson Jets VS. Nordekes
DESCRIPTION:League Name: 2010-11 Tuesday Men's 19+ Hockey "A" Pool\nGame Ty
 pe: Regular\nGame Status: Complete\nHome Team: Jamieson Jets\nAway Team: N
 ordekes\nHome Score: 1\nAway Score: 7
END:VEVENT
BEGIN:VEVENT
UID:3193304@ezleagues.ezfacility.com
DTSTAMP:20260426T033425Z
CREATED:20260426T033425Z
DTSTART:20101027T030000Z
DTEND:20101027T040000Z
LOCATION:North Rink
CONTACT:
SUMMARY:Blumpkins VS. Nordekes
DESCRIPTION:League Name: 2010-11 Tuesday Men's 19+ Hockey "A" Pool\nGame Ty
 pe: Regular\nGame Status: Complete\nHome Team: Blumpkins\nAway Team: Norde
 kes\nHome Score: 0\nAway Score: 5
END:VEVENT
BEGIN:VEVENT
UID:3354883@ezleagues.ezfacility.com
DTSTAMP:20260426T033425Z
CREATED:20260426T033425Z
DTSTART:20101103T020000Z
DTEND:20101103T030000Z
LOCATION:North Rink
CONTACT:
SUMMARY:Nordekes VS. Duck Sauce
DESCRIPTION:League Name: 2010-11 Tuesday Men's 19+ Hockey "A" Pool\nGame Ty
 pe: Regular\nGame Status: Complete\nHome Team: Nordekes\nAway Team: Duck S
 auce\nHome Score: 3\nAway Score: 0
END:VEVENT
BEGIN:VEVENT
UID:3361859@ezleagues.ezfacility.com
DTSTAMP:20260426T033425Z
CREATED:20260426T033425Z
DTSTART:20101109T233000Z
DTEND:20101110T003000Z
LOCATION:South Rink
CONTACT:
SUMMARY:Nordekes VS. Heffner Lexus
DESCRIPTION:League Name: 2010-11 Tuesday Men's 19+ Hockey "A" Pool\nGame Ty
 pe: Regular\nGame Status: Complete\nHome Team: Nordekes\nAway Team: Heffne
 r Lexus\nHome Score: 9\nAway Score: 3
END:VEVENT
BEGIN:VEVENT
UID:3361869@ezleagues.ezfacility.com
DTSTAMP:20260426T033425Z
CREATED:20260426T033425Z
DTSTART:20101117T033000Z
DTEND:20101117T043000Z
LOCATION:South Rink
CONTACT:
SUMMARY:Nordekes VS. Burns Hoff Beavers
DESCRIPTION:League Name: 2010-11 Tuesday Men's 19+ Hockey "A" Pool\nGame Ty
 pe: Regular\nGame Status: Complete\nHome Team: Nordekes\nAway Team: Burns 
 Hoff Beavers\nHome Score: 9\nAway Score: 1
END:VEVENT
BEGIN:VEVENT
UID:3361881@ezleagues.ezfacility.com
DTSTAMP:20260426T033425Z
CREATED:20260426T033425Z
DTSTART:20101124T003000Z
DTEND:20101124T013000Z
LOCATION:South Rink
CONTACT:
SUMMARY:The Animals VS. Nordekes
DESCRIPTION:League Name: 2010-11 Tuesday Men's 19+ Hockey "A" Pool\nGame Ty
 pe: Regular\nGame Status: Complete\nHome Team: The Animals\nAway Team: Nor
 dekes\nHome Score: 1\nAway Score: 4
END:VEVENT
BEGIN:VEVENT
UID:3361893@ezleagues.ezfacility.com
DTSTAMP:20260426T033425Z
CREATED:20260426T033425Z
DTSTART:20101201T000000Z
DTEND:20101201T010000Z
LOCATION:North Rink
CONTACT:
SUMMARY:Nordekes VS. Meat Wallets
DESCRIPTION:League Name: 2010-11 Tuesday Men's 19+ Hockey "A" Pool\nGame Ty
 pe: Regular\nGame Status: Complete\nHome Team: Nordekes\nAway Team: Meat W
 allets\nHome Score: 5\nAway Score: 8
END:VEVENT
BEGIN:VEVENT
UID:3361905@ezleagues.ezfacility.com
DTSTAMP:20260426T033425Z
CREATED:20260426T033425Z
DTSTART:20101208T013000Z
DTEND:20101208T023000Z
LOCATION:South Rink
CONTACT:
SUMMARY:Ice Park Individuals 2 VS. Nordekes
DESCRIPTION:League Name: 2010-11 Tuesday Men's 19+ Hockey "A" Pool\nGame Ty
 pe: Regular\nGame Status: Complete\nHome Team: Ice Park Individuals 2\nAwa
 y Team: Nordekes\nHome Score: 3\nAway Score: 4
END:VEVENT
BEGIN:VEVENT
UID:3361916@ezleagues.ezfacility.com
DTSTAMP:20260426T033425Z
CREATED:20260426T033425Z
DTSTART:20101215T040000Z
DTEND:20101215T050000Z
LOCATION:North Rink
CONTACT:
SUMMARY:Duck Sauce VS. Nordekes
DESCRIPTION:League Name: 2010-11 Tuesday Men's 19+ Hockey "A" Pool\nGame Ty
 pe: Regular\nGame Status: Complete\nHome Team: Duck Sauce\nAway Team: Nord
 ekes\nHome Score: 1\nAway Score: 3
END:VEVENT
BEGIN:VEVENT
UID:3361926@ezleagues.ezfacility.com
DTSTAMP:20260426T033425Z
CREATED:20260426T033425Z
DTSTART:20101222T023000Z
DTEND:20101222T033000Z
LOCATION:South Rink
CONTACT:
SUMMARY:Nordekes VS. In Deep
DESCRIPTION:League Name: 2010-11 Tuesday Men's 19+ Hockey "A" Pool\nGame Ty
 pe: Regular\nGame Status: Complete\nHome Team: Nordekes\nAway Team: In Dee
 p\nHome Score: 4\nAway Score: 1
END:VEVENT
BEGIN:VEVENT
UID:3362046@ezleagues.ezfacility.com
DTSTAMP:20260426T033425Z
CREATED:20260426T033425Z
DTSTART:20110105T040000Z
DTEND:20110105T050000Z
LOCATION:North Rink
CONTACT:
SUMMARY:Nordekes VS. Heffner Lexus
DESCRIPTION:League Name: 2010-11 Tuesday Men's 19+ Hockey "A" Pool\nGame Ty
 pe: Regular\nGame Status: Complete\nHome Team: Nordekes\nAway Team: Heffne
 r Lexus\nHome Score: 8\nAway Score: 3
END:VEVENT
BEGIN:VEVENT
UID:3362056@ezleagues.ezfacility.com
DTSTAMP:20260426T033425Z
CREATED:20260426T033425Z
DTSTART:20110111T233000Z
DTEND:20110112T003000Z
LOCATION:South Rink
CONTACT:
SUMMARY:Nordekes VS. Burns Hoff Beavers
DESCRIPTION:League Name: 2010-11 Tuesday Men's 19+ Hockey "A" Pool\nGame Ty
 pe: Regular\nGame Status: Complete\nHome Team: Nordekes\nAway Team: Burns 
 Hoff Beavers\nHome Score: 4\nAway Score: 2
END:VEVENT
BEGIN:VEVENT
UID:3362068@ezleagues.ezfacility.com
DTSTAMP:20260426T033425Z
CREATED:20260426T033425Z
DTSTART:20110119T013000Z
DTEND:20110119T023000Z
LOCATION:South Rink
CONTACT:
SUMMARY:The Animals VS. Nordekes
DESCRIPTION:League Name: 2010-11 Tuesday Men's 19+ Hockey "A" Pool\nGame Ty
 pe: Regular\nGame Status: Complete\nHome Team: The Animals\nAway Team: Nor
 dekes\nHome Score: 0\nAway Score: 5
END:VEVENT
BEGIN:VEVENT
UID:3362080@ezleagues.ezfacility.com
DTSTAMP:20260426T033425Z
CREATED:20260426T033425Z
DTSTART:20110125T233000Z
DTEND:20110126T003000Z
LOCATION:South Rink
CONTACT:
SUMMARY:Nordekes VS. Meat Wallets
DESCRIPTION:League Name: 2010-11 Tuesday Men's 19+ Hockey "A" Pool\nGame Ty
 pe: Regular\nGame Status: Complete\nHome Team: Nordekes\nAway Team: Meat W
 allets\nHome Score: 2\nAway Score: 4
END:VEVENT
BEGIN:VEVENT
UID:3362092@ezleagues.ezfacility.com
DTSTAMP:20260426T033425Z
CREATED:20260426T033425Z
DTSTART:20110202T000000Z
DTEND:20110201T010000Z
LOCATION:North Rink
CONTACT:
SUMMARY:Ice Park Individuals 2 VS. Nordekes
DESCRIPTION:League Name: 2010-11 Tuesday Men's 19+ Hockey "A" Pool\nGame Ty
 pe: Regular\nGame Status: Complete\nHome Team: Ice Park Individuals 2\nAwa
 y Team: Nordekes\nHome Score: 2\nAway Score: 8
END:VEVENT
BEGIN:VEVENT
UID:3362103@ezleagues.ezfacility.com
DTSTAMP:20260426T033425Z
CREATED:20260426T033425Z
DTSTART:20110209T040000Z
DTEND:20110209T050000Z
LOCATION:North Rink
CONTACT:
SUMMARY:Duck Sauce VS. Nordekes
DESCRIPTION:League Name: 2010-11 Tuesday Men's 19+ Hockey "A" Pool\nGame Ty
 pe: Regular\nGame Status: Complete\nHome Team: Duck Sauce\nAway Team: Nord
 ekes\nHome Score: 1\nAway Score: 4
END:VEVENT
BEGIN:VEVENT
UID:3362113@ezleagues.ezfacility.com
DTSTAMP:20260426T033425Z
CREATED:20260426T033425Z
DTSTART:20110216T003000Z
DTEND:20110216T013000Z
LOCATION:South Rink
CONTACT:
SUMMARY:Nordekes VS. In Deep
DESCRIPTION:League Name: 2010-11 Tuesday Men's 19+ Hockey "A" Pool\nGame Ty
 pe: Regular\nGame Status: Complete\nHome Team: Nordekes\nAway Team: In Dee
 p\nHome Score: 4\nAway Score: 2
END:VEVENT
BEGIN:VEVENT
UID:3362123@ezleagues.ezfacility.com
DTSTAMP:20260426T033425Z
CREATED:20260426T033425Z
DTSTART:20110223T020000Z
DTEND:20110223T030000Z
LOCATION:North Rink
CONTACT:
SUMMARY:Heffner Lexus VS. Nordekes
DESCRIPTION:League Name: 2010-11 Tuesday Men's 19+ Hockey "A" Pool\nGame Ty
 pe: Regular\nGame Status: Complete\nHome Team: Heffner Lexus\nAway Team: N
 ordekes\nHome Score: 2\nAway Score: 4
END:VEVENT
BEGIN:VEVENT
UID:3362133@ezleagues.ezfacility.com
DTSTAMP:20260426T033425Z
CREATED:20260426T033425Z
DTSTART:20110302T013000Z
DTEND:20110302T023000Z
LOCATION:South Rink
CONTACT:
SUMMARY:Burns Hoff Beavers VS. Nordekes
DESCRIPTION:League Name: 2010-11 Tuesday Men's 19+ Hockey "A" Pool\nGame Ty
 pe: Regular\nGame Status: Complete\nHome Team: Burns Hoff Beavers\nAway Te
 am: Nordekes\nHome Score: 2\nAway Score: 7
END:VEVENT
BEGIN:VEVENT
UID:3362145@ezleagues.ezfacility.com
DTSTAMP:20260426T033425Z
CREATED:20260426T033425Z
DTSTART:20110309T010000Z
DTEND:20110309T020000Z
LOCATION:North Rink
CONTACT:
SUMMARY:Nordekes VS. The Animals
DESCRIPTION:League Name: 2010-11 Tuesday Men's 19+ Hockey "A" Pool\nGame Ty
 pe: Regular\nGame Status: Complete\nHome Team: Nordekes\nAway Team: The An
 imals\nHome Score: 2\nAway Score: 1
END:VEVENT
BEGIN:VEVENT
UID:3362157@ezleagues.ezfacility.com
DTSTAMP:20260426T033425Z
CREATED:20260426T033425Z
DTSTART:20110316T003000Z
DTEND:20110316T013000Z
LOCATION:South Rink
CONTACT:
SUMMARY:Meat Wallets VS. Nordekes
DESCRIPTION:League Name: 2010-11 Tuesday Men's 19+ Hockey "A" Pool\nGame Ty
 pe: Regular\nGame Status: Complete\nHome Team: Meat Wallets\nAway Team: No
 rdekes\nHome Score: 3\nAway Score: 6
END:VEVENT
END:VCALENDAR
