BEGIN:VCALENDAR
VERSION:2.0
PRODID:-//EZFacility.com, Inc.//EZL 2.5.5.28621
BEGIN:VEVENT
UID:3289353@ezleagues.ezfacility.com
DTSTAMP:20260425T231008Z
CREATED:20260425T231008Z
DTSTART:20101021T235500Z
DTEND:20101022T005000Z
LOCATION:Field 1
CONTACT:
SUMMARY:Gunners VS. Trabzon Spor
DESCRIPTION:League Name: Thursday Men's Division 2A\nGame Type: Regular\nGa
 me Status: Complete\nHome Team: Gunners\nAway Team: Trabzon Spor\nHome Sco
 re: 10\nAway Score: 11
END:VEVENT
BEGIN:VEVENT
UID:3289376@ezleagues.ezfacility.com
DTSTAMP:20260425T231008Z
CREATED:20260425T231008Z
DTSTART:20101029T005000Z
DTEND:20101029T014500Z
LOCATION: Field 3
CONTACT:
SUMMARY:Belmont Hogs FC VS. Trabzon Spor
DESCRIPTION:League Name: Thursday Men's Division 2A\nGame Type: Regular\nGa
 me Status: Complete\nHome Team: Belmont Hogs FC\nAway Team: Trabzon Spor\n
 Home Score: 5\nAway Score: 14
END:VEVENT
BEGIN:VEVENT
UID:3289426@ezleagues.ezfacility.com
DTSTAMP:20260425T231008Z
CREATED:20260425T231008Z
DTSTART:20101112T034000Z
DTEND:20101112T043500Z
LOCATION:VA Army National Guard Field 2
CONTACT:Martinez
SUMMARY:STL 1.5 VS. Trabzon Spor
DESCRIPTION:League Name: Thursday Men's Division 2A\nGame Type: Regular\nGa
 me Status: Complete\nHome Team: STL 1.5\nAway Team: Trabzon Spor\nHome Sco
 re: 8\nAway Score: 3
END:VEVENT
BEGIN:VEVENT
UID:3289451@ezleagues.ezfacility.com
DTSTAMP:20260425T231008Z
CREATED:20260425T231008Z
DTSTART:20101119T043500Z
DTEND:20101119T053000Z
LOCATION: Field 3
CONTACT:
SUMMARY:Trabzon Spor VS. Sportivoli
DESCRIPTION:League Name: Thursday Men's Division 2A\nGame Type: Regular\nGa
 me Status: Complete\nHome Team: Trabzon Spor\nAway Team: Sportivoli\nHome 
 Score: 22\nAway Score: 6
END:VEVENT
BEGIN:VEVENT
UID:3289475@ezleagues.ezfacility.com
DTSTAMP:20260425T231008Z
CREATED:20260425T231008Z
DTSTART:20101203T000000Z
DTEND:20101203T005500Z
LOCATION: Field 3
CONTACT:
SUMMARY:Trabzon Spor VS. Turkuaz
DESCRIPTION:League Name: Thursday Men's Division 2A\nGame Type: Regular\nGa
 me Status: Complete\nHome Team: Trabzon Spor\nAway Team: Turkuaz\nHome Sco
 re: 7\nAway Score: 9
END:VEVENT
BEGIN:VEVENT
UID:3289498@ezleagues.ezfacility.com
DTSTAMP:20260425T231008Z
CREATED:20260425T231008Z
DTSTART:20101210T005500Z
DTEND:20101210T015000Z
LOCATION:Field 1
CONTACT:
SUMMARY:Trabzon Spor VS. Cochabamba FC
DESCRIPTION:League Name: Thursday Men's Division 2A\nGame Type: Regular\nGa
 me Status: Complete\nHome Team: Trabzon Spor\nAway Team: Cochabamba FC\nHo
 me Score: 12\nAway Score: 8
END:VEVENT
BEGIN:VEVENT
UID:3290163@ezleagues.ezfacility.com
DTSTAMP:20260425T231008Z
CREATED:20260425T231008Z
DTSTART:20101217T015000Z
DTEND:20101217T024500Z
LOCATION: Field 3
CONTACT:
SUMMARY:Trabzon Spor VS. Cochabamba FC
DESCRIPTION:League Name: Thursday Men's Division 2A\nGame Type: Postseason\
 nGame Status: Complete\nHome Team: Trabzon Spor\nAway Team: Cochabamba FC\
 nHome Score: 7\nAway Score: 3
END:VEVENT
BEGIN:VEVENT
UID:3290413@ezleagues.ezfacility.com
DTSTAMP:20260425T231008Z
CREATED:20260425T231008Z
DTSTART:20101224T034000Z
DTEND:20101224T043500Z
LOCATION:VA Army National Guard Field 2
CONTACT:Martinez
SUMMARY:STL 1.5 VS. Trabzon Spor
DESCRIPTION:League Name: Thursday Men's Division 2A\nGame Type: Postseason\
 nGame Status: Complete\nHome Team: STL 1.5\nAway Team: Trabzon Spor\nHome 
 Score: 5\nAway Score: 8
END:VEVENT
END:VCALENDAR
