BEGIN:VCALENDAR
VERSION:2.0
PRODID:-//EZFacility.com, Inc.//EZL 2.5.5.28621
BEGIN:VEVENT
UID:3289383@ezleagues.ezfacility.com
DTSTAMP:20260422T030214Z
CREATED:20260422T030214Z
DTSTART:20101029T014500Z
DTEND:20101029T024000Z
LOCATION:VA Army National Guard Field 2
CONTACT:Martinez
SUMMARY:Los Blues VS. Malditos FC
DESCRIPTION:League Name: Thursday Men's Division 2B\nGame Type: Regular\nGa
 me Status: Complete\nHome Team: Los Blues\nAway Team: Malditos FC\nHome Sc
 ore: 4\nAway Score: 16
END:VEVENT
BEGIN:VEVENT
UID:3289406@ezleagues.ezfacility.com
DTSTAMP:20260422T030214Z
CREATED:20260422T030214Z
DTSTART:20101105T024000Z
DTEND:20101105T033500Z
LOCATION: Field 3
CONTACT:
SUMMARY:Persepolis VS. Los Blues
DESCRIPTION:League Name: Thursday Men's Division 2B\nGame Type: Regular\nGa
 me Status: Complete\nHome Team: Persepolis\nAway Team: Los Blues\nHome Sco
 re: 9\nAway Score: 4
END:VEVENT
BEGIN:VEVENT
UID:3289429@ezleagues.ezfacility.com
DTSTAMP:20260422T030214Z
CREATED:20260422T030214Z
DTSTART:20101112T043500Z
DTEND:20101112T053000Z
LOCATION:Field 1
CONTACT:
SUMMARY:Los Blues VS. Sub 37
DESCRIPTION:League Name: Thursday Men's Division 2B\nGame Type: Regular\nGa
 me Status: Complete\nHome Team: Los Blues\nAway Team: Sub 37\nHome Score: 
 5\nAway Score: 7
END:VEVENT
BEGIN:VEVENT
UID:3289452@ezleagues.ezfacility.com
DTSTAMP:20260422T030214Z
CREATED:20260422T030214Z
DTSTART:20101119T000000Z
DTEND:20101119T005500Z
LOCATION:Field 1
CONTACT:
SUMMARY:Los Blues VS. Red Devils
DESCRIPTION:League Name: Thursday Men's Division 2B\nGame Type: Regular\nGa
 me Status: Complete\nHome Team: Los Blues\nAway Team: Red Devils\nHome Sco
 re: 2\nAway Score: 15
END:VEVENT
BEGIN:VEVENT
UID:3289477@ezleagues.ezfacility.com
DTSTAMP:20260422T030214Z
CREATED:20260422T030214Z
DTSTART:20101203T005500Z
DTEND:20101203T015000Z
LOCATION:VA Army National Guard Field 2
CONTACT:Martinez
SUMMARY:Clubhouse United VS. Los Blues
DESCRIPTION:League Name: Thursday Men's Division 2B\nGame Type: Regular\nGa
 me Status: Complete\nHome Team: Clubhouse United\nAway Team: Los Blues\nHo
 me Score: 10\nAway Score: 3
END:VEVENT
BEGIN:VEVENT
UID:3289502@ezleagues.ezfacility.com
DTSTAMP:20260422T030214Z
CREATED:20260422T030214Z
DTSTART:20101210T015000Z
DTEND:20101210T024500Z
LOCATION:Field 1
CONTACT:
SUMMARY:Nexius FC VS. Los Blues
DESCRIPTION:League Name: Thursday Men's Division 2B\nGame Type: Regular\nGa
 me Status: Complete\nHome Team: Nexius FC\nAway Team: Los Blues\nHome Scor
 e: 6\nAway Score: 9
END:VEVENT
BEGIN:VEVENT
UID:3290420@ezleagues.ezfacility.com
DTSTAMP:20260422T030214Z
CREATED:20260422T030214Z
DTSTART:20101217T024500Z
DTEND:20101217T034000Z
LOCATION:VA Army National Guard Field 2
CONTACT:Martinez
SUMMARY:Persepolis VS. Los Blues
DESCRIPTION:League Name: Thursday Men's Division 2B\nGame Type: Postseason\
 nGame Status: Complete\nHome Team: Persepolis\nAway Team: Los Blues\nHome 
 Score: 7\nAway Score: 4
END:VEVENT
END:VCALENDAR
