BEGIN:VCALENDAR
VERSION:2.0
PRODID:-//EZFacility.com, Inc.//EZL 2.5.5.28621
BEGIN:VEVENT
UID:3367358@ezleagues.ezfacility.com
DTSTAMP:20260424T043929Z
CREATED:20260424T043929Z
DTSTART:20101108T030000Z
DTEND:20101108T040000Z
LOCATION:Hockey Rink
CONTACT:
SUMMARY:Mad Dads VS. Cosby Sweaters
DESCRIPTION:League Name: Inline Hockey League BRONZE\nGame Type: Regular\nG
 ame Status: Complete\nHome Team: Mad Dads\nAway Team: Cosby Sweaters\nHome
  Score: 4\nAway Score: 10
END:VEVENT
BEGIN:VEVENT
UID:3368486@ezleagues.ezfacility.com
DTSTAMP:20260424T043929Z
CREATED:20260424T043929Z
DTSTART:20101114T190000Z
DTEND:20101114T200000Z
LOCATION:Hockey Rink
CONTACT:
SUMMARY:Cosby Sweaters VS. Lame Ducks
DESCRIPTION:League Name: Inline Hockey League BRONZE\nGame Type: Regular\nG
 ame Status: Complete\nHome Team: Cosby Sweaters\nAway Team: Lame Ducks\nHo
 me Score: 3\nAway Score: 6
END:VEVENT
BEGIN:VEVENT
UID:3372581@ezleagues.ezfacility.com
DTSTAMP:20260424T043929Z
CREATED:20260424T043929Z
DTSTART:20101122T020000Z
DTEND:20101122T030000Z
LOCATION:Hockey Rink
CONTACT:
SUMMARY:Cosby Sweaters VS. Hurricanes
DESCRIPTION:League Name: Inline Hockey League BRONZE\nGame Type: Regular\nG
 ame Status: Complete\nHome Team: Cosby Sweaters\nAway Team: Hurricanes\nHo
 me Score: 3\nAway Score: 1
END:VEVENT
BEGIN:VEVENT
UID:3372704@ezleagues.ezfacility.com
DTSTAMP:20260424T043929Z
CREATED:20260424T043929Z
DTSTART:20101128T210000Z
DTEND:20101128T220000Z
LOCATION:Hockey Rink
CONTACT:
SUMMARY:Wild VS. Cosby Sweaters
DESCRIPTION:League Name: Inline Hockey League BRONZE\nGame Type: Regular\nG
 ame Status: Complete\nHome Team: Wild\nAway Team: Cosby Sweaters\nHome Sco
 re: 2\nAway Score: 20
END:VEVENT
BEGIN:VEVENT
UID:3372817@ezleagues.ezfacility.com
DTSTAMP:20260424T043929Z
CREATED:20260424T043929Z
DTSTART:20101203T010000Z
DTEND:20101203T020000Z
LOCATION:Hockey Rink
CONTACT:
SUMMARY:Cosby Sweaters VS. Unamused Pirates
DESCRIPTION:League Name: Inline Hockey League BRONZE\nGame Type: Regular\nG
 ame Status: Complete\nHome Team: Cosby Sweaters\nAway Team: Unamused Pirat
 es\nHome Score: 5\nAway Score: 4
END:VEVENT
BEGIN:VEVENT
UID:3373044@ezleagues.ezfacility.com
DTSTAMP:20260424T043929Z
CREATED:20260424T043929Z
DTSTART:20101206T040000Z
DTEND:20101206T050000Z
LOCATION:Hockey Rink
CONTACT:
SUMMARY:Cosby Sweaters VS. Blackhawks
DESCRIPTION:League Name: Inline Hockey League BRONZE\nGame Type: Regular\nG
 ame Status: Complete\nHome Team: Cosby Sweaters\nAway Team: Blackhawks\nHo
 me Score: 8\nAway Score: 6
END:VEVENT
BEGIN:VEVENT
UID:3374308@ezleagues.ezfacility.com
DTSTAMP:20260424T043929Z
CREATED:20260424T043929Z
DTSTART:20101217T000000Z
DTEND:20101217T010000Z
LOCATION:Hockey Rink
CONTACT:
SUMMARY:Lame Ducks VS. Cosby Sweaters
DESCRIPTION:League Name: Inline Hockey League BRONZE\nGame Type: Regular\nG
 ame Status: Complete\nHome Team: Lame Ducks\nAway Team: Cosby Sweaters\nHo
 me Score: 3\nAway Score: 9
END:VEVENT
BEGIN:VEVENT
UID:3374556@ezleagues.ezfacility.com
DTSTAMP:20260424T043929Z
CREATED:20260424T043929Z
DTSTART:20101220T020000Z
DTEND:20101220T030000Z
LOCATION:Hockey Rink
CONTACT:
SUMMARY:Hurricanes VS. Cosby Sweaters
DESCRIPTION:League Name: Inline Hockey League BRONZE\nGame Type: Regular\nG
 ame Status: Complete\nHome Team: Hurricanes\nAway Team: Cosby Sweaters\nHo
 me Score: 3\nAway Score: 8
END:VEVENT
BEGIN:VEVENT
UID:3374918@ezleagues.ezfacility.com
DTSTAMP:20260424T043929Z
CREATED:20260424T043929Z
DTSTART:20110102T230000Z
DTEND:20110103T000000Z
LOCATION:Hockey Rink
CONTACT:
SUMMARY:Cosby Sweaters VS. Wild
DESCRIPTION:League Name: Inline Hockey League BRONZE\nGame Type: Regular\nG
 ame Status: Complete\nHome Team: Cosby Sweaters\nAway Team: Wild\nHome Sco
 re: 9\nAway Score: 2
END:VEVENT
BEGIN:VEVENT
UID:3375573@ezleagues.ezfacility.com
DTSTAMP:20260424T043929Z
CREATED:20260424T043929Z
DTSTART:20110107T000000Z
DTEND:20110107T010000Z
LOCATION:Hockey Rink
CONTACT:
SUMMARY:Mad Dads VS. Cosby Sweaters
DESCRIPTION:League Name: Inline Hockey League BRONZE\nGame Type: Regular\nG
 ame Status: Complete\nHome Team: Mad Dads\nAway Team: Cosby Sweaters\nHome
  Score: 4\nAway Score: 1
END:VEVENT
BEGIN:VEVENT
UID:3381045@ezleagues.ezfacility.com
DTSTAMP:20260424T043929Z
CREATED:20260424T043929Z
DTSTART:20110109T220000Z
DTEND:20110109T230000Z
LOCATION:Hockey Rink
CONTACT:
SUMMARY:Unamused Pirates VS. Cosby Sweaters
DESCRIPTION:League Name: Inline Hockey League BRONZE\nGame Type: Regular\nG
 ame Status: Complete\nHome Team: Unamused Pirates\nAway Team: Cosby Sweate
 rs\nHome Score: 4\nAway Score: 5
END:VEVENT
BEGIN:VEVENT
UID:3381307@ezleagues.ezfacility.com
DTSTAMP:20260424T043929Z
CREATED:20260424T043929Z
DTSTART:20110114T010000Z
DTEND:20110114T020000Z
LOCATION:Hockey Rink
CONTACT:
SUMMARY:Blackhawks VS. Cosby Sweaters
DESCRIPTION:League Name: Inline Hockey League BRONZE\nGame Type: Regular\nG
 ame Status: Complete\nHome Team: Blackhawks\nAway Team: Cosby Sweaters\nHo
 me Score: 5\nAway Score: 8
END:VEVENT
BEGIN:VEVENT
UID:3381546@ezleagues.ezfacility.com
DTSTAMP:20260424T043929Z
CREATED:20260424T043929Z
DTSTART:20110121T000000Z
DTEND:20110121T010000Z
LOCATION:Hockey Rink
CONTACT:
SUMMARY:Cosby Sweaters VS. Mad Dads
DESCRIPTION:League Name: Inline Hockey League BRONZE\nGame Type: Regular\nG
 ame Status: Complete\nHome Team: Cosby Sweaters\nAway Team: Mad Dads\nHome
  Score: 3\nAway Score: 8
END:VEVENT
BEGIN:VEVENT
UID:3381808@ezleagues.ezfacility.com
DTSTAMP:20260424T043929Z
CREATED:20260424T043929Z
DTSTART:20110124T030000Z
DTEND:20110124T040000Z
LOCATION:Hockey Rink
CONTACT:
SUMMARY:Cosby Sweaters VS. Lame Ducks
DESCRIPTION:League Name: Inline Hockey League BRONZE\nGame Type: Regular\nG
 ame Status: Complete\nHome Team: Cosby Sweaters\nAway Team: Lame Ducks\nHo
 me Score: 1\nAway Score: 6
END:VEVENT
BEGIN:VEVENT
UID:3382489@ezleagues.ezfacility.com
DTSTAMP:20260424T043929Z
CREATED:20260424T043929Z
DTSTART:20110131T020000Z
DTEND:20110131T030000Z
LOCATION:Hockey Rink
CONTACT:
SUMMARY:Cosby Sweaters VS. Blackhawks
DESCRIPTION:League Name: Inline Hockey League BRONZE\nGame Type: Postseason
 \nGame Status: Complete\nHome Team: Cosby Sweaters\nAway Team: Blackhawks\
 nHome Score: 4\nAway Score: 5
END:VEVENT
END:VCALENDAR
