BEGIN:VCALENDAR
VERSION:2.0
PRODID:-//EZFacility.com, Inc.//EZL 2.5.5.28621
BEGIN:VEVENT
UID:3447231@ezleagues.ezfacility.com
DTSTAMP:20260426T033548Z
CREATED:20260426T033548Z
DTSTART:20101208T000000Z
DTEND:20101208T005500Z
LOCATION:VA Army National Guard Field 2
CONTACT:
SUMMARY:Partick Thistle Nil VS. Krypton
DESCRIPTION:League Name: Tuesday Men's Over-35 Division 1\nGame Type: Regul
 ar\nGame Status: Complete\nHome Team: Partick Thistle Nil\nAway Team: Kryp
 ton\nHome Score: 8\nAway Score: 7
END:VEVENT
BEGIN:VEVENT
UID:3447252@ezleagues.ezfacility.com
DTSTAMP:20260426T033548Z
CREATED:20260426T033548Z
DTSTART:20101215T005500Z
DTEND:20101215T015000Z
LOCATION: Field 3
CONTACT:
SUMMARY:Old Towne Sports Pub VS. Krypton
DESCRIPTION:League Name: Tuesday Men's Over-35 Division 1\nGame Type: Regul
 ar\nGame Status: Complete\nHome Team: Old Towne Sports Pub\nAway Team: Kry
 pton\nHome Score: 9\nAway Score: 6
END:VEVENT
BEGIN:VEVENT
UID:3447272@ezleagues.ezfacility.com
DTSTAMP:20260426T033548Z
CREATED:20260426T033548Z
DTSTART:20101222T015000Z
DTEND:20101222T024500Z
LOCATION:VA Army National Guard Field 2
CONTACT:
SUMMARY:STBW VS. Krypton
DESCRIPTION:League Name: Tuesday Men's Over-35 Division 1\nGame Type: Regul
 ar\nGame Status: Complete\nHome Team: STBW\nAway Team: Krypton\nHome Score
 : 6\nAway Score: 9
END:VEVENT
BEGIN:VEVENT
UID:3447292@ezleagues.ezfacility.com
DTSTAMP:20260426T033548Z
CREATED:20260426T033548Z
DTSTART:20101229T024500Z
DTEND:20101229T034000Z
LOCATION:Field 1
CONTACT:
SUMMARY:Krypton VS. Chez Marc
DESCRIPTION:League Name: Tuesday Men's Over-35 Division 1\nGame Type: Regul
 ar\nGame Status: Complete\nHome Team: Krypton\nAway Team: Chez Marc\nHome 
 Score: 6\nAway Score: 10
END:VEVENT
BEGIN:VEVENT
UID:3447314@ezleagues.ezfacility.com
DTSTAMP:20260426T033548Z
CREATED:20260426T033548Z
DTSTART:20110105T034000Z
DTEND:20110105T043500Z
LOCATION:VA Army National Guard Field 2
CONTACT:
SUMMARY:Krypton VS. Pisco Sour Futbol Club
DESCRIPTION:League Name: Tuesday Men's Over-35 Division 1\nGame Type: Regul
 ar\nGame Status: Complete\nHome Team: Krypton\nAway Team: Pisco Sour Futbo
 l Club\nHome Score: 2\nAway Score: 7
END:VEVENT
BEGIN:VEVENT
UID:3447336@ezleagues.ezfacility.com
DTSTAMP:20260426T033548Z
CREATED:20260426T033548Z
DTSTART:20110112T043500Z
DTEND:20110112T053000Z
LOCATION: Field 3
CONTACT:Martinez
SUMMARY:Krypton VS. Partick Thistle Nil
DESCRIPTION:League Name: Tuesday Men's Over-35 Division 1\nGame Type: Regul
 ar\nGame Status: Complete\nHome Team: Krypton\nAway Team: Partick Thistle 
 Nil\nHome Score: 7\nAway Score: 13
END:VEVENT
BEGIN:VEVENT
UID:3447872@ezleagues.ezfacility.com
DTSTAMP:20260426T033548Z
CREATED:20260426T033548Z
DTSTART:20110119T000000Z
DTEND:20110119T005500Z
LOCATION: Field 3
CONTACT:Martinez
SUMMARY:Pisco Sour Futbol Club VS. Krypton
DESCRIPTION:League Name: Tuesday Men's Over-35 Division 1\nGame Type: Posts
 eason\nGame Status: Complete\nHome Team: Pisco Sour Futbol Club\nAway Team
 : Krypton\nHome Score: 3\nAway Score: 11
END:VEVENT
END:VCALENDAR
