BEGIN:VCALENDAR
VERSION:2.0
PRODID:-//EZFacility.com, Inc.//EZL 2.5.5.28621
BEGIN:VEVENT
UID:3447216@ezleagues.ezfacility.com
DTSTAMP:20260426T033549Z
CREATED:20260426T033549Z
DTSTART:20101201T005500Z
DTEND:20101201T015000Z
LOCATION: Field 3
CONTACT:Martinez
SUMMARY:Synergy VS. Pele's Brothers
DESCRIPTION:League Name: Tuesday Men's Over-35 Division 3\nGame Type: Regul
 ar\nGame Status: Complete\nHome Team: Synergy\nAway Team: Pele's Brothers\
 nHome Score: 6\nAway Score: 6
END:VEVENT
BEGIN:VEVENT
UID:3447236@ezleagues.ezfacility.com
DTSTAMP:20260426T033549Z
CREATED:20260426T033549Z
DTSTART:20101208T015000Z
DTEND:20101208T024500Z
LOCATION:Field 1
CONTACT:
SUMMARY:Synergy VS. InBev FC
DESCRIPTION:League Name: Tuesday Men's Over-35 Division 3\nGame Type: Regul
 ar\nGame Status: Complete\nHome Team: Synergy\nAway Team: InBev FC\nHome S
 core: 11\nAway Score: 13
END:VEVENT
BEGIN:VEVENT
UID:3447256@ezleagues.ezfacility.com
DTSTAMP:20260426T033549Z
CREATED:20260426T033549Z
DTSTART:20101215T024500Z
DTEND:20101215T034000Z
LOCATION:VA Army National Guard Field 2
CONTACT:Martinez
SUMMARY:Ashburn Boyz VS. Synergy
DESCRIPTION:League Name: Tuesday Men's Over-35 Division 3\nGame Type: Regul
 ar\nGame Status: Complete\nHome Team: Ashburn Boyz\nAway Team: Synergy\nHo
 me Score: 6\nAway Score: 10
END:VEVENT
BEGIN:VEVENT
UID:3447278@ezleagues.ezfacility.com
DTSTAMP:20260426T033549Z
CREATED:20260426T033549Z
DTSTART:20101222T034000Z
DTEND:20101222T043500Z
LOCATION:VA Army National Guard Field 2
CONTACT:
SUMMARY:Synergy VS. Herndon Attack
DESCRIPTION:League Name: Tuesday Men's Over-35 Division 3\nGame Type: Regul
 ar\nGame Status: Complete\nHome Team: Synergy\nAway Team: Herndon Attack\n
 Home Score: 4\nAway Score: 10
END:VEVENT
BEGIN:VEVENT
UID:3447300@ezleagues.ezfacility.com
DTSTAMP:20260426T033549Z
CREATED:20260426T033549Z
DTSTART:20101229T043500Z
DTEND:20101229T053000Z
LOCATION: Field 3
CONTACT:Martinez
SUMMARY:Synergy VS. Past Prime
DESCRIPTION:League Name: Tuesday Men's Over-35 Division 3\nGame Type: Regul
 ar\nGame Status: Complete\nHome Team: Synergy\nAway Team: Past Prime\nHome
  Score: 3\nAway Score: 0
END:VEVENT
BEGIN:VEVENT
UID:3447342@ezleagues.ezfacility.com
DTSTAMP:20260426T033549Z
CREATED:20260426T033549Z
DTSTART:20110112T000000Z
DTEND:20110112T005500Z
LOCATION: Field 3
CONTACT:Martinez
SUMMARY:Pele's Brothers VS. Synergy
DESCRIPTION:League Name: Tuesday Men's Over-35 Division 3\nGame Type: Regul
 ar\nGame Status: Complete\nHome Team: Pele's Brothers\nAway Team: Synergy\
 nHome Score: 5\nAway Score: 10
END:VEVENT
BEGIN:VEVENT
UID:3447899@ezleagues.ezfacility.com
DTSTAMP:20260426T033549Z
CREATED:20260426T033549Z
DTSTART:20110119T015000Z
DTEND:20110119T024500Z
LOCATION:Field 1
CONTACT:
SUMMARY:Herndon Attack VS. Synergy
DESCRIPTION:League Name: Tuesday Men's Over-35 Division 3\nGame Type: Posts
 eason\nGame Status: Complete\nHome Team: Herndon Attack\nAway Team: Synerg
 y\nHome Score: 9\nAway Score: 10
END:VEVENT
BEGIN:VEVENT
UID:3447902@ezleagues.ezfacility.com
DTSTAMP:20260426T033549Z
CREATED:20260426T033549Z
DTSTART:20110126T034000Z
DTEND:20110126T043500Z
LOCATION: Field 3
CONTACT:Martinez
SUMMARY:InBev FC VS. Synergy
DESCRIPTION:League Name: Tuesday Men's Over-35 Division 3\nGame Type: Posts
 eason\nGame Status: Complete\nHome Team: InBev FC\nAway Team: Synergy\nHom
 e Score: 12\nAway Score: 7
END:VEVENT
END:VCALENDAR
