BEGIN:VCALENDAR
VERSION:2.0
PRODID:-//EZFacility.com, Inc.//EZL 2.5.5.28621
BEGIN:VEVENT
UID:3520723@ezleagues.ezfacility.com
DTSTAMP:20260419T195608Z
CREATED:20260419T195608Z
DTSTART:20110206T025000Z
DTEND:20110206T033500Z
LOCATION: Field 3
CONTACT:Portillo
SUMMARY:ASC Rebels VS. Vista Fury
DESCRIPTION:League Name: High School Girls Silver\nGame Type: Regular\nGame
  Status: Complete\nHome Team: ASC Rebels\nAway Team: Vista Fury\nHome Scor
 e: 7\nAway Score: 2
END:VEVENT
BEGIN:VEVENT
UID:3520760@ezleagues.ezfacility.com
DTSTAMP:20260419T195608Z
CREATED:20260419T195608Z
DTSTART:20110220T003000Z
DTEND:20110220T011500Z
LOCATION:Field 1
CONTACT:
SUMMARY:Loudoun 92G Black VS. ASC Rebels
DESCRIPTION:League Name: High School Girls Silver\nGame Type: Regular\nGame
  Status: Complete\nHome Team: Loudoun 92G Black\nAway Team: ASC Rebels\nHo
 me Score: 2\nAway Score: 11
END:VEVENT
BEGIN:VEVENT
UID:3520685@ezleagues.ezfacility.com
DTSTAMP:20260419T195608Z
CREATED:20260419T195608Z
DTSTART:20110220T221000Z
DTEND:20110220T225500Z
LOCATION:Field 1
CONTACT:
SUMMARY:ASC Rebels VS. LMVSC Patriots Blue
DESCRIPTION:League Name: High School Girls Silver\nGame Type: Regular\nGame
  Status: Complete\nHome Team: ASC Rebels\nAway Team: LMVSC Patriots Blue\n
 Home Score: 13\nAway Score: 6
END:VEVENT
BEGIN:VEVENT
UID:3520757@ezleagues.ezfacility.com
DTSTAMP:20260419T195608Z
CREATED:20260419T195608Z
DTSTART:20110224T230500Z
DTEND:20110224T235000Z
LOCATION: Field 3
CONTACT:
SUMMARY:Reston Nightmares VS. ASC Rebels
DESCRIPTION:League Name: High School Girls Silver\nGame Type: Regular\nGame
  Status: Complete\nHome Team: Reston Nightmares\nAway Team: ASC Rebels\nHo
 me Score: 5\nAway Score: 7
END:VEVENT
BEGIN:VEVENT
UID:3520794@ezleagues.ezfacility.com
DTSTAMP:20260419T195608Z
CREATED:20260419T195608Z
DTSTART:20110306T020000Z
DTEND:20110306T024500Z
LOCATION: Field 3
CONTACT:Martinez
SUMMARY:Fairfax High School VS. ASC Rebels
DESCRIPTION:League Name: High School Girls Silver\nGame Type: Regular\nGame
  Status: Complete\nHome Team: Fairfax High School\nAway Team: ASC Rebels\n
 Home Score: 0\nAway Score: 14
END:VEVENT
BEGIN:VEVENT
UID:3520813@ezleagues.ezfacility.com
DTSTAMP:20260419T195608Z
CREATED:20260419T195608Z
DTSTART:20110313T020000Z
DTEND:20110313T024500Z
LOCATION:Field 1
CONTACT:Martinez
SUMMARY:ASC Rebels VS. LMVSC Patriots Red
DESCRIPTION:League Name: High School Girls Silver\nGame Type: Regular\nGame
  Status: Complete\nHome Team: ASC Rebels\nAway Team: LMVSC Patriots Red\nH
 ome Score: 5\nAway Score: 6
END:VEVENT
BEGIN:VEVENT
UID:3521658@ezleagues.ezfacility.com
DTSTAMP:20260419T195608Z
CREATED:20260419T195608Z
DTSTART:20110320T010000Z
DTEND:20110320T014500Z
LOCATION: Field 3
CONTACT:
SUMMARY:LMVSC Patriots Red VS. ASC Rebels
DESCRIPTION:League Name: High School Girls Silver\nGame Type: Postseason\nG
 ame Status: Complete\nHome Team: LMVSC Patriots Red\nAway Team: ASC Rebels
 \nHome Score: 0\nAway Score: 3
END:VEVENT
END:VCALENDAR
