BEGIN:VCALENDAR
VERSION:2.0
PRODID:-//EZFacility.com, Inc.//EZL 2.5.5.28621
BEGIN:VEVENT
UID:3521430@ezleagues.ezfacility.com
DTSTAMP:20260426T033754Z
CREATED:20260426T033754Z
DTSTART:20110122T212000Z
DTEND:20110122T220500Z
LOCATION: Field 3
CONTACT:
SUMMARY:VYS Thunder White VS. CYA Freedom White
DESCRIPTION:League Name: U-12 Girls Red\nGame Type: Regular\nGame Status: C
 omplete\nHome Team: VYS Thunder White\nAway Team: CYA Freedom White\nHome 
 Score: 8\nAway Score: 2
END:VEVENT
BEGIN:VEVENT
UID:3521449@ezleagues.ezfacility.com
DTSTAMP:20260426T033754Z
CREATED:20260426T033754Z
DTSTART:20110130T195000Z
DTEND:20110130T203500Z
LOCATION:VA Army National Guard Field 2
CONTACT:Valdivia
SUMMARY:Reston Lightning VS. CYA Freedom White
DESCRIPTION:League Name: U-12 Girls Red\nGame Type: Regular\nGame Status: C
 omplete\nHome Team: Reston Lightning\nAway Team: CYA Freedom White\nHome S
 core: 7\nAway Score: 6
END:VEVENT
BEGIN:VEVENT
UID:3521468@ezleagues.ezfacility.com
DTSTAMP:20260426T033754Z
CREATED:20260426T033754Z
DTSTART:20110206T195000Z
DTEND:20110206T203500Z
LOCATION:VA Army National Guard Field 2
CONTACT:
SUMMARY:Reston Chill VS. CYA Freedom White
DESCRIPTION:League Name: U-12 Girls Red\nGame Type: Regular\nGame Status: C
 omplete\nHome Team: Reston Chill\nAway Team: CYA Freedom White\nHome Score
 : 3\nAway Score: 7
END:VEVENT
BEGIN:VEVENT
UID:3521508@ezleagues.ezfacility.com
DTSTAMP:20260426T033754Z
CREATED:20260426T033754Z
DTSTART:20110220T125000Z
DTEND:20110220T133500Z
LOCATION:Field 1
CONTACT:
SUMMARY:CYA Freedom White VS. Thunderbirds
DESCRIPTION:League Name: U-12 Girls Red\nGame Type: Regular\nGame Status: C
 omplete\nHome Team: CYA Freedom White\nAway Team: Thunderbirds\nHome Score
 : 9\nAway Score: 2
END:VEVENT
BEGIN:VEVENT
UID:3521529@ezleagues.ezfacility.com
DTSTAMP:20260426T033754Z
CREATED:20260426T033754Z
DTSTART:20110303T222000Z
DTEND:20110303T230500Z
LOCATION:VA Army National Guard Field 2
CONTACT:Martinez
SUMMARY:CYA Freedom White VS. SYA Storm Silver
DESCRIPTION:League Name: U-12 Girls Red\nGame Type: Regular\nGame Status: C
 omplete\nHome Team: CYA Freedom White\nAway Team: SYA Storm Silver\nHome S
 core: 3\nAway Score: 11
END:VEVENT
BEGIN:VEVENT
UID:3521550@ezleagues.ezfacility.com
DTSTAMP:20260426T033754Z
CREATED:20260426T033754Z
DTSTART:20110305T195000Z
DTEND:20110305T203500Z
LOCATION:VA Army National Guard Field 2
CONTACT:
SUMMARY:CYA Freedom White VS. CSC Phoenix
DESCRIPTION:League Name: U-12 Girls Red\nGame Type: Regular\nGame Status: C
 omplete\nHome Team: CYA Freedom White\nAway Team: CSC Phoenix\nHome Score:
  2\nAway Score: 5
END:VEVENT
BEGIN:VEVENT
UID:3521487@ezleagues.ezfacility.com
DTSTAMP:20260426T033754Z
CREATED:20260426T033754Z
DTSTART:20110313T110000Z
DTEND:20110313T114500Z
LOCATION: Field 3
CONTACT:
SUMMARY:CYA Freedom White VS. Reston Blaze
DESCRIPTION:League Name: U-12 Girls Red\nGame Type: Regular\nGame Status: C
 omplete\nHome Team: CYA Freedom White\nAway Team: Reston Blaze\nHome Score
 : 3\nAway Score: 5
END:VEVENT
END:VCALENDAR
