BEGIN:VCALENDAR
VERSION:2.0
PRODID:-//EZFacility.com, Inc.//EZL 2.5.5.28621
BEGIN:VEVENT
UID:3525658@ezleagues.ezfacility.com
DTSTAMP:20260424T044314Z
CREATED:20260424T044314Z
DTSTART:20110123T212000Z
DTEND:20110123T220500Z
LOCATION:VA Army National Guard Field 2
CONTACT:
SUMMARY:BAC Apex VS. CYA Rumble
DESCRIPTION:League Name: U-15 Girls Red\nGame Type: Regular\nGame Status: C
 omplete\nHome Team: BAC Apex\nAway Team: CYA Rumble\nHome Score: 4\nAway S
 core: 6
END:VEVENT
BEGIN:VEVENT
UID:3525686@ezleagues.ezfacility.com
DTSTAMP:20260424T044314Z
CREATED:20260424T044314Z
DTSTART:20110131T230500Z
DTEND:20110131T235000Z
LOCATION:Field 1
CONTACT:
SUMMARY:CYA Rumble VS. Loudoun 95G White
DESCRIPTION:League Name: U-15 Girls Red\nGame Type: Regular\nGame Status: C
 omplete\nHome Team: CYA Rumble\nAway Team: Loudoun 95G White\nHome Score: 
 7\nAway Score: 3
END:VEVENT
BEGIN:VEVENT
UID:3525714@ezleagues.ezfacility.com
DTSTAMP:20260424T044314Z
CREATED:20260424T044314Z
DTSTART:20110206T195000Z
DTEND:20110206T203500Z
LOCATION:Field 1
CONTACT:
SUMMARY:CYA Rumble VS. LFC Avalanche 95
DESCRIPTION:League Name: U-15 Girls Red\nGame Type: Regular\nGame Status: C
 omplete\nHome Team: CYA Rumble\nAway Team: LFC Avalanche 95\nHome Score: 4
 \nAway Score: 6
END:VEVENT
BEGIN:VEVENT
UID:3525769@ezleagues.ezfacility.com
DTSTAMP:20260424T044314Z
CREATED:20260424T044314Z
DTSTART:20110220T011500Z
DTEND:20110220T020000Z
LOCATION:VA Army National Guard Field 2
CONTACT:Portillo
SUMMARY:Junior Majestics 95 Blue VS. CYA Rumble
DESCRIPTION:League Name: U-15 Girls Red\nGame Type: Regular\nGame Status: C
 omplete\nHome Team: Junior Majestics 95 Blue\nAway Team: CYA Rumble\nHome 
 Score: 3\nAway Score: 5
END:VEVENT
BEGIN:VEVENT
UID:3525795@ezleagues.ezfacility.com
DTSTAMP:20260424T044314Z
CREATED:20260424T044314Z
DTSTART:20110227T212000Z
DTEND:20110227T220500Z
LOCATION:VA Army National Guard Field 2
CONTACT:Portillo
SUMMARY:McLean Fury Gold VS. CYA Rumble
DESCRIPTION:League Name: U-15 Girls Red\nGame Type: Regular\nGame Status: C
 omplete\nHome Team: McLean Fury Gold\nAway Team: CYA Rumble\nHome Score: 4
 \nAway Score: 2
END:VEVENT
BEGIN:VEVENT
UID:3525821@ezleagues.ezfacility.com
DTSTAMP:20260424T044314Z
CREATED:20260424T044314Z
DTSTART:20110306T195000Z
DTEND:20110306T203500Z
LOCATION:Field 1
CONTACT:
SUMMARY:GRFL Fusion 95 VS. CYA Rumble
DESCRIPTION:League Name: U-15 Girls Red\nGame Type: Regular\nGame Status: C
 omplete\nHome Team: GRFL Fusion 95\nAway Team: CYA Rumble\nHome Score: 3\n
 Away Score: 11
END:VEVENT
BEGIN:VEVENT
UID:3525848@ezleagues.ezfacility.com
DTSTAMP:20260424T044314Z
CREATED:20260424T044314Z
DTSTART:20110312T234000Z
DTEND:20110313T002500Z
LOCATION:Field 1
CONTACT:Martinez
SUMMARY:CYA Rumble VS. CYA Comets Purple
DESCRIPTION:League Name: U-15 Girls Red\nGame Type: Regular\nGame Status: C
 omplete\nHome Team: CYA Rumble\nAway Team: CYA Comets Purple\nHome Score: 
 2\nAway Score: 6
END:VEVENT
END:VCALENDAR
