BEGIN:VCALENDAR
VERSION:2.0
PRODID:-//EZFacility.com, Inc.//EZL 2.5.5.28621
BEGIN:VEVENT
UID:3525661@ezleagues.ezfacility.com
DTSTAMP:20260426T033556Z
CREATED:20260426T033556Z
DTSTART:20110122T195000Z
DTEND:20110122T203500Z
LOCATION:Field 1
CONTACT:Martinez
SUMMARY:McLean Fury Gold VS. LFC Avalanche 95
DESCRIPTION:League Name: U-15 Girls Red\nGame Type: Regular\nGame Status: C
 omplete\nHome Team: McLean Fury Gold\nAway Team: LFC Avalanche 95\nHome Sc
 ore: 6\nAway Score: 6
END:VEVENT
BEGIN:VEVENT
UID:3525688@ezleagues.ezfacility.com
DTSTAMP:20260426T033556Z
CREATED:20260426T033556Z
DTSTART:20110130T225500Z
DTEND:20110130T234000Z
LOCATION:Field 1
CONTACT:
SUMMARY:GRFL Fusion 95 VS. LFC Avalanche 95
DESCRIPTION:League Name: U-15 Girls Red\nGame Type: Regular\nGame Status: C
 omplete\nHome Team: GRFL Fusion 95\nAway Team: LFC Avalanche 95\nHome Scor
 e: 2\nAway Score: 10
END:VEVENT
BEGIN:VEVENT
UID:3525714@ezleagues.ezfacility.com
DTSTAMP:20260426T033556Z
CREATED:20260426T033556Z
DTSTART:20110206T195000Z
DTEND:20110206T203500Z
LOCATION:Field 1
CONTACT:
SUMMARY:CYA Rumble VS. LFC Avalanche 95
DESCRIPTION:League Name: U-15 Girls Red\nGame Type: Regular\nGame Status: C
 omplete\nHome Team: CYA Rumble\nAway Team: LFC Avalanche 95\nHome Score: 4
 \nAway Score: 6
END:VEVENT
BEGIN:VEVENT
UID:3525766@ezleagues.ezfacility.com
DTSTAMP:20260426T033556Z
CREATED:20260426T033556Z
DTSTART:20110220T181500Z
DTEND:20110220T190000Z
LOCATION:VA Army National Guard Field 2
CONTACT:
SUMMARY:LFC Avalanche 95 VS. BAC Apex
DESCRIPTION:League Name: U-15 Girls Red\nGame Type: Regular\nGame Status: C
 omplete\nHome Team: LFC Avalanche 95\nAway Team: BAC Apex\nHome Score: 5\n
 Away Score: 2
END:VEVENT
BEGIN:VEVENT
UID:3525794@ezleagues.ezfacility.com
DTSTAMP:20260426T033556Z
CREATED:20260426T033556Z
DTSTART:20110227T011500Z
DTEND:20110227T020000Z
LOCATION:VA Army National Guard Field 2
CONTACT:
SUMMARY:LFC Avalanche 95 VS. CYA Comets Purple
DESCRIPTION:League Name: U-15 Girls Red\nGame Type: Regular\nGame Status: C
 omplete\nHome Team: LFC Avalanche 95\nAway Team: CYA Comets Purple\nHome S
 core: 3\nAway Score: 9
END:VEVENT
BEGIN:VEVENT
UID:3525822@ezleagues.ezfacility.com
DTSTAMP:20260426T033556Z
CREATED:20260426T033556Z
DTSTART:20110307T230500Z
DTEND:20110307T235000Z
LOCATION:Field 1
CONTACT:
SUMMARY:LFC Avalanche 95 VS. Junior Majestics 95 Blue
DESCRIPTION:League Name: U-15 Girls Red\nGame Type: Regular\nGame Status: C
 omplete\nHome Team: LFC Avalanche 95\nAway Team: Junior Majestics 95 Blue\
 nHome Score: 1\nAway Score: 10
END:VEVENT
BEGIN:VEVENT
UID:3525849@ezleagues.ezfacility.com
DTSTAMP:20260426T033556Z
CREATED:20260426T033556Z
DTSTART:20110313T193500Z
DTEND:20110313T202000Z
LOCATION:Field 1
CONTACT:Martinez
SUMMARY:Loudoun 95G White VS. LFC Avalanche 95
DESCRIPTION:League Name: U-15 Girls Red\nGame Type: Regular\nGame Status: C
 omplete\nHome Team: Loudoun 95G White\nAway Team: LFC Avalanche 95\nHome S
 core: 2\nAway Score: 7
END:VEVENT
END:VCALENDAR
