BEGIN:VCALENDAR
VERSION:2.0
PRODID:-//EZFacility.com, Inc.//EZL 2.5.5.28621
BEGIN:VEVENT
UID:3525668@ezleagues.ezfacility.com
DTSTAMP:20260426T033403Z
CREATED:20260426T033403Z
DTSTART:20110123T011500Z
DTEND:20110123T020000Z
LOCATION: Field 3
CONTACT:Valdivia
SUMMARY:Chantilly Magic VS. FCV Courage 94
DESCRIPTION:League Name: U-16 Girls White\nGame Type: Regular\nGame Status:
  Complete\nHome Team: Chantilly Magic\nAway Team: FCV Courage 94\nHome Sco
 re: 5\nAway Score: 2
END:VEVENT
BEGIN:VEVENT
UID:3525695@ezleagues.ezfacility.com
DTSTAMP:20260426T033403Z
CREATED:20260426T033403Z
DTSTART:20110201T231000Z
DTEND:20110201T235500Z
LOCATION:VA Army National Guard Field 2
CONTACT:
SUMMARY:Chantilly Magic VS. VYS Quest White
DESCRIPTION:League Name: U-16 Girls White\nGame Type: Regular\nGame Status:
  Complete\nHome Team: Chantilly Magic\nAway Team: VYS Quest White\nHome Sc
 ore: 3\nAway Score: 1
END:VEVENT
BEGIN:VEVENT
UID:3525722@ezleagues.ezfacility.com
DTSTAMP:20260426T033403Z
CREATED:20260426T033403Z
DTSTART:20110206T181500Z
DTEND:20110206T190000Z
LOCATION:VA Army National Guard Field 2
CONTACT:
SUMMARY:Chantilly Magic VS. Chantilly Revolution '95
DESCRIPTION:League Name: U-16 Girls White\nGame Type: Regular\nGame Status:
  Complete\nHome Team: Chantilly Magic\nAway Team: Chantilly Revolution '95
 \nHome Score: 1\nAway Score: 5
END:VEVENT
BEGIN:VEVENT
UID:3525776@ezleagues.ezfacility.com
DTSTAMP:20260426T033403Z
CREATED:20260426T033403Z
DTSTART:20110220T025000Z
DTEND:20110220T033500Z
LOCATION:Field 1
CONTACT:
SUMMARY:CYA Hotshots 95 VS. Chantilly Magic
DESCRIPTION:League Name: U-16 Girls White\nGame Type: Regular\nGame Status:
  Complete\nHome Team: CYA Hotshots 95\nAway Team: Chantilly Magic\nHome Sc
 ore: 6\nAway Score: 3
END:VEVENT
BEGIN:VEVENT
UID:3525805@ezleagues.ezfacility.com
DTSTAMP:20260426T033403Z
CREATED:20260426T033403Z
DTSTART:20110227T164000Z
DTEND:20110227T172500Z
LOCATION:VA Army National Guard Field 2
CONTACT:
SUMMARY:Chantilly Magic VS. VYS Phoenix United
DESCRIPTION:League Name: U-16 Girls White\nGame Type: Regular\nGame Status:
  Complete\nHome Team: Chantilly Magic\nAway Team: VYS Phoenix United\nHome
  Score: 4\nAway Score: 0
END:VEVENT
BEGIN:VEVENT
UID:3525830@ezleagues.ezfacility.com
DTSTAMP:20260426T033403Z
CREATED:20260426T033403Z
DTSTART:20110306T164000Z
DTEND:20110306T172500Z
LOCATION:VA Army National Guard Field 2
CONTACT:
SUMMARY:Chantilly Magic VS. VYS Phoenix United
DESCRIPTION:League Name: U-16 Girls White\nGame Type: Regular\nGame Status:
  Complete\nHome Team: Chantilly Magic\nAway Team: VYS Phoenix United\nHome
  Score: 5\nAway Score: 0
END:VEVENT
BEGIN:VEVENT
UID:3525858@ezleagues.ezfacility.com
DTSTAMP:20260426T033403Z
CREATED:20260426T033403Z
DTSTART:20110313T163000Z
DTEND:20110313T171500Z
LOCATION:VA Army National Guard Field 2
CONTACT:
SUMMARY:Chantilly Magic VS. FCV Courage 94
DESCRIPTION:League Name: U-16 Girls White\nGame Type: Regular\nGame Status:
  Complete\nHome Team: Chantilly Magic\nAway Team: FCV Courage 94\nHome Sco
 re: 1\nAway Score: 6
END:VEVENT
END:VCALENDAR
