BEGIN:VCALENDAR
VERSION:2.0
PRODID:-//EZFacility.com, Inc.//EZL 2.5.5.28621
BEGIN:VEVENT
UID:3525669@ezleagues.ezfacility.com
DTSTAMP:20260426T033417Z
CREATED:20260426T033417Z
DTSTART:20110123T164000Z
DTEND:20110123T172500Z
LOCATION:VA Army National Guard Field 2
CONTACT:Portillo
SUMMARY:VYS Quest White VS. CYA Hotshots 95
DESCRIPTION:League Name: U-16 Girls White\nGame Type: Regular\nGame Status:
  Complete\nHome Team: VYS Quest White\nAway Team: CYA Hotshots 95\nHome Sc
 ore: 0\nAway Score: 7
END:VEVENT
BEGIN:VEVENT
UID:3525697@ezleagues.ezfacility.com
DTSTAMP:20260426T033417Z
CREATED:20260426T033417Z
DTSTART:20110130T181500Z
DTEND:20110130T190000Z
LOCATION:VA Army National Guard Field 2
CONTACT:Valdivia
SUMMARY:VYS Phoenix United VS. CYA Hotshots 95
DESCRIPTION:League Name: U-16 Girls White\nGame Type: Regular\nGame Status:
  Complete\nHome Team: VYS Phoenix United\nAway Team: CYA Hotshots 95\nHome
  Score: 0\nAway Score: 15
END:VEVENT
BEGIN:VEVENT
UID:3525724@ezleagues.ezfacility.com
DTSTAMP:20260426T033417Z
CREATED:20260426T033417Z
DTSTART:20110207T230500Z
DTEND:20110207T235000Z
LOCATION:Field 1
CONTACT:
SUMMARY:CYA Hotshots 95 VS. FCV Courage 94
DESCRIPTION:League Name: U-16 Girls White\nGame Type: Regular\nGame Status:
  Complete\nHome Team: CYA Hotshots 95\nAway Team: FCV Courage 94\nHome Sco
 re: 5\nAway Score: 2
END:VEVENT
BEGIN:VEVENT
UID:3525776@ezleagues.ezfacility.com
DTSTAMP:20260426T033417Z
CREATED:20260426T033417Z
DTSTART:20110220T025000Z
DTEND:20110220T033500Z
LOCATION:Field 1
CONTACT:
SUMMARY:CYA Hotshots 95 VS. Chantilly Magic
DESCRIPTION:League Name: U-16 Girls White\nGame Type: Regular\nGame Status:
  Complete\nHome Team: CYA Hotshots 95\nAway Team: Chantilly Magic\nHome Sc
 ore: 6\nAway Score: 3
END:VEVENT
BEGIN:VEVENT
UID:3525804@ezleagues.ezfacility.com
DTSTAMP:20260426T033417Z
CREATED:20260426T033417Z
DTSTART:20110227T181500Z
DTEND:20110227T190000Z
LOCATION:VA Army National Guard Field 2
CONTACT:
SUMMARY:Chantilly Revolution '95 VS. CYA Hotshots 95
DESCRIPTION:League Name: U-16 Girls White\nGame Type: Regular\nGame Status:
  Complete\nHome Team: Chantilly Revolution '95\nAway Team: CYA Hotshots 95
 \nHome Score: 7\nAway Score: 1
END:VEVENT
BEGIN:VEVENT
UID:3525831@ezleagues.ezfacility.com
DTSTAMP:20260426T033417Z
CREATED:20260426T033417Z
DTSTART:20110306T173000Z
DTEND:20110306T181500Z
LOCATION:Field 1
CONTACT:
SUMMARY:CYA Hotshots 95 VS. FCV Courage 94
DESCRIPTION:League Name: U-16 Girls White\nGame Type: Regular\nGame Status:
  Complete\nHome Team: CYA Hotshots 95\nAway Team: FCV Courage 94\nHome Sco
 re: 7\nAway Score: 4
END:VEVENT
BEGIN:VEVENT
UID:3525857@ezleagues.ezfacility.com
DTSTAMP:20260426T033417Z
CREATED:20260426T033417Z
DTSTART:20110313T171500Z
DTEND:20110313T180000Z
LOCATION:VA Army National Guard Field 2
CONTACT:
SUMMARY:CYA Hotshots 95 VS. Chantilly Revolution '95
DESCRIPTION:League Name: U-16 Girls White\nGame Type: Regular\nGame Status:
  Complete\nHome Team: CYA Hotshots 95\nAway Team: Chantilly Revolution '95
 \nHome Score: 3\nAway Score: 1
END:VEVENT
END:VCALENDAR
