BEGIN:VCALENDAR
VERSION:2.0
PRODID:-//EZFacility.com, Inc.//EZL 2.5.5.28621
BEGIN:VEVENT
UID:3609385@ezleagues.ezfacility.com
DTSTAMP:20260424T044115Z
CREATED:20260424T044115Z
DTSTART:20110108T000000Z
DTEND:20110108T010000Z
LOCATION:Hoops The Right Way Court 4
CONTACT:
SUMMARY:Crisis VS. DMV Raiders
DESCRIPTION:League Name: Men's Basketball Recreational\nGame Type: Regular\
 nGame Status: Complete\nHome Team: Crisis\nAway Team: DMV Raiders\nHome Sc
 ore: 47\nAway Score: 58
END:VEVENT
BEGIN:VEVENT
UID:3609396@ezleagues.ezfacility.com
DTSTAMP:20260424T044115Z
CREATED:20260424T044115Z
DTSTART:20110115T010000Z
DTEND:20110115T020000Z
LOCATION:Hoops The Right Way Court 5
CONTACT:
SUMMARY:Lowes Island Yellow Jackets VS. Crisis
DESCRIPTION:League Name: Men's Basketball Recreational\nGame Type: Regular\
 nGame Status: Complete\nHome Team: Lowes Island Yellow Jackets\nAway Team:
  Crisis\nHome Score: 42\nAway Score: 32
END:VEVENT
BEGIN:VEVENT
UID:3609418@ezleagues.ezfacility.com
DTSTAMP:20260424T044115Z
CREATED:20260424T044115Z
DTSTART:20110129T020000Z
DTEND:20110129T030000Z
LOCATION:Hoops The Right Way Court 5
CONTACT:
SUMMARY:The Business Men VS. Crisis
DESCRIPTION:League Name: Men's Basketball Recreational\nGame Type: Regular\
 nGame Status: Complete\nHome Team: The Business Men\nAway Team: Crisis\nHo
 me Score: 66\nAway Score: 39
END:VEVENT
BEGIN:VEVENT
UID:3609429@ezleagues.ezfacility.com
DTSTAMP:20260424T044115Z
CREATED:20260424T044115Z
DTSTART:20110205T020000Z
DTEND:20110205T030000Z
LOCATION:Hoops The Right Way Court 5
CONTACT:
SUMMARY:Crisis VS. Individual Team
DESCRIPTION:League Name: Men's Basketball Recreational\nGame Type: Regular\
 nGame Status: Complete\nHome Team: Crisis\nAway Team: Individual Team\nHom
 e Score: 28\nAway Score: 60
END:VEVENT
BEGIN:VEVENT
UID:3609439@ezleagues.ezfacility.com
DTSTAMP:20260424T044115Z
CREATED:20260424T044115Z
DTSTART:20110212T030000Z
DTEND:20110212T040000Z
LOCATION:Hoops The Right Way Court 5
CONTACT:
SUMMARY:Crisis VS. VA's Finest
DESCRIPTION:League Name: Men's Basketball Recreational\nGame Type: Regular\
 nGame Status: Complete\nHome Team: Crisis\nAway Team: VA's Finest\nHome Sc
 ore: 40\nAway Score: 53
END:VEVENT
BEGIN:VEVENT
UID:3609448@ezleagues.ezfacility.com
DTSTAMP:20260424T044115Z
CREATED:20260424T044115Z
DTSTART:20110219T030000Z
DTEND:20110219T040000Z
LOCATION:Hoops The Right Way Court 5
CONTACT:
SUMMARY:The Royals VS. Crisis
DESCRIPTION:League Name: Men's Basketball Recreational\nGame Type: Regular\
 nGame Status: Complete\nHome Team: The Royals\nAway Team: Crisis\nHome Sco
 re: 46\nAway Score: 44
END:VEVENT
BEGIN:VEVENT
UID:3609457@ezleagues.ezfacility.com
DTSTAMP:20260424T044115Z
CREATED:20260424T044115Z
DTSTART:20110226T010000Z
DTEND:20110226T020000Z
LOCATION:Hoops The Right Way Court 5
CONTACT:
SUMMARY:Crisis VS. Knight of Columbus
DESCRIPTION:League Name: Men's Basketball Recreational\nGame Type: Regular\
 nGame Status: Complete\nHome Team: Crisis\nAway Team: Knight of Columbus\n
 Home Score: 38\nAway Score: 32
END:VEVENT
BEGIN:VEVENT
UID:3609466@ezleagues.ezfacility.com
DTSTAMP:20260424T044115Z
CREATED:20260424T044115Z
DTSTART:20110312T000000Z
DTEND:20110312T010000Z
LOCATION:Hoops The Right Way Court 5
CONTACT:
SUMMARY:Terps VS. Crisis
DESCRIPTION:League Name: Men's Basketball Recreational\nGame Type: Regular\
 nGame Status: Complete\nHome Team: Terps\nAway Team: Crisis\nHome Score: 5
 8\nAway Score: 40
END:VEVENT
BEGIN:VEVENT
UID:3609705@ezleagues.ezfacility.com
DTSTAMP:20260424T044115Z
CREATED:20260424T044115Z
DTSTART:20110318T230000Z
DTEND:20110319T000000Z
LOCATION:Hoops The Right Way Court 5
CONTACT:
SUMMARY:Crisis VS. Lowes Island Yellow Jackets
DESCRIPTION:League Name: Men's Basketball Recreational\nGame Type: Postseas
 on\nGame Status: Complete\nHome Team: Crisis\nAway Team: Lowes Island Yell
 ow Jackets\nHome Score: 29\nAway Score: 28
END:VEVENT
END:VCALENDAR
