BEGIN:VCALENDAR
VERSION:2.0
PRODID:-//EZFacility.com, Inc.//EZL 2.5.5.28621
BEGIN:VEVENT
UID:3663784@ezleagues.ezfacility.com
DTSTAMP:20260426T033523Z
CREATED:20260426T033523Z
DTSTART:20110116T132100Z
DTEND:20110116T141200Z
LOCATION:Field   ID 1
CONTACT:
SUMMARY:Chaos VS. Gray Wolves
DESCRIPTION:League Name: Winter Indoor Men's 40+\nGame Type: Regular\nGame 
 Status: Complete\nHome Team: Chaos\nAway Team: Gray Wolves\nHome Score: 3\
 nAway Score: 1
END:VEVENT
BEGIN:VEVENT
UID:3656951@ezleagues.ezfacility.com
DTSTAMP:20260426T033523Z
CREATED:20260426T033523Z
DTSTART:20110123T123000Z
DTEND:20110123T132100Z
LOCATION:Field   ID 1
CONTACT:
SUMMARY:Gray Wolves VS. Horsemen
DESCRIPTION:League Name: Winter Indoor Men's 40+\nGame Type: Regular\nGame 
 Status: Complete\nHome Team: Gray Wolves\nAway Team: Horsemen\nHome Score:
  6\nAway Score: 2
END:VEVENT
BEGIN:VEVENT
UID:3681782@ezleagues.ezfacility.com
DTSTAMP:20260426T033523Z
CREATED:20260426T033523Z
DTSTART:20110130T132100Z
DTEND:20110130T141200Z
LOCATION:Field   ID 1
CONTACT:
SUMMARY:Gray Wolves VS. Pounders
DESCRIPTION:League Name: Winter Indoor Men's 40+\nGame Type: Regular\nGame 
 Status: Complete\nHome Team: Gray Wolves\nAway Team: Pounders\nHome Score:
  0\nAway Score: 6
END:VEVENT
BEGIN:VEVENT
UID:3681784@ezleagues.ezfacility.com
DTSTAMP:20260426T033523Z
CREATED:20260426T033523Z
DTSTART:20110206T123000Z
DTEND:20110206T132100Z
LOCATION:Field   ID 1
CONTACT:
SUMMARY:Shamrock Rovers VS. Gray Wolves
DESCRIPTION:League Name: Winter Indoor Men's 40+\nGame Type: Regular\nGame 
 Status: Complete\nHome Team: Shamrock Rovers\nAway Team: Gray Wolves\nHome
  Score: 13\nAway Score: 0
END:VEVENT
BEGIN:VEVENT
UID:3681789@ezleagues.ezfacility.com
DTSTAMP:20260426T033523Z
CREATED:20260426T033523Z
DTSTART:20110213T123000Z
DTEND:20110213T132100Z
LOCATION:Field   ID 1
CONTACT:
SUMMARY:Gray Wolves VS. Los Latinos
DESCRIPTION:League Name: Winter Indoor Men's 40+\nGame Type: Regular\nGame 
 Status: Complete\nHome Team: Gray Wolves\nAway Team: Los Latinos\nHome Sco
 re: 1\nAway Score: 4
END:VEVENT
BEGIN:VEVENT
UID:3681797@ezleagues.ezfacility.com
DTSTAMP:20260426T033523Z
CREATED:20260426T033523Z
DTSTART:20110227T123000Z
DTEND:20110227T132100Z
LOCATION:Field   ID 1
CONTACT:
SUMMARY:Gray Wolves VS. Noor Warrior
DESCRIPTION:League Name: Winter Indoor Men's 40+\nGame Type: Regular\nGame 
 Status: Complete\nHome Team: Gray Wolves\nAway Team: Noor Warrior\nHome Sc
 ore: 2\nAway Score: 7
END:VEVENT
BEGIN:VEVENT
UID:3681805@ezleagues.ezfacility.com
DTSTAMP:20260426T033523Z
CREATED:20260426T033523Z
DTSTART:20110306T132100Z
DTEND:20110306T141200Z
LOCATION:Field   ID 1
CONTACT:
SUMMARY:United VS. Gray Wolves
DESCRIPTION:League Name: Winter Indoor Men's 40+\nGame Type: Regular\nGame 
 Status: Complete\nHome Team: United\nAway Team: Gray Wolves\nHome Score: 7
 \nAway Score: 4
END:VEVENT
BEGIN:VEVENT
UID:3681865@ezleagues.ezfacility.com
DTSTAMP:20260426T033523Z
CREATED:20260426T033523Z
DTSTART:20110313T113000Z
DTEND:20110313T122100Z
LOCATION:Field   ID 1
CONTACT:
SUMMARY:Gray Wolves VS. Gigondas
DESCRIPTION:League Name: Winter Indoor Men's 40+\nGame Type: Regular\nGame 
 Status: Complete\nHome Team: Gray Wolves\nAway Team: Gigondas\nHome Score:
  3\nAway Score: 7
END:VEVENT
BEGIN:VEVENT
UID:3681875@ezleagues.ezfacility.com
DTSTAMP:20260426T033523Z
CREATED:20260426T033523Z
DTSTART:20110320T131200Z
DTEND:20110320T140300Z
LOCATION:Field   ID 1
CONTACT:
SUMMARY:Horsemen VS. Gray Wolves
DESCRIPTION:League Name: Winter Indoor Men's 40+\nGame Type: Regular\nGame 
 Status: Complete\nHome Team: Horsemen\nAway Team: Gray Wolves\nHome Score:
  1\nAway Score: 1
END:VEVENT
END:VCALENDAR
