BEGIN:VCALENDAR
VERSION:2.0
PRODID:-//EZFacility.com, Inc.//EZL 2.5.5.28621
BEGIN:VEVENT
UID:3661084@ezleagues.ezfacility.com
DTSTAMP:20260426T033540Z
CREATED:20260426T033540Z
DTSTART:20110122T213500Z
DTEND:20110122T222500Z
LOCATION:Hoops The Right Way Court 6
CONTACT:
SUMMARY:Loudoun 00 Black 2 VS. FPYC FCV United
DESCRIPTION:League Name: U-09/U-10 Boys Red\nGame Type: Regular\nGame Statu
 s: Complete\nHome Team: Loudoun 00 Black 2\nAway Team: FPYC FCV United\nHo
 me Score: 2\nAway Score: 2
END:VEVENT
BEGIN:VEVENT
UID:3661115@ezleagues.ezfacility.com
DTSTAMP:20260426T033540Z
CREATED:20260426T033540Z
DTSTART:20110129T204500Z
DTEND:20110129T213500Z
LOCATION:Hoops The Right Way Court 4
CONTACT:
SUMMARY:Loudoun 01 Boys Red VS. Loudoun 00 Black 2
DESCRIPTION:League Name: U-09/U-10 Boys Red\nGame Type: Regular\nGame Statu
 s: Complete\nHome Team: Loudoun 01 Boys Red\nAway Team: Loudoun 00 Black 2
 \nHome Score: 6\nAway Score: 9
END:VEVENT
BEGIN:VEVENT
UID:3661177@ezleagues.ezfacility.com
DTSTAMP:20260426T033540Z
CREATED:20260426T033540Z
DTSTART:20110213T125000Z
DTEND:20110213T134000Z
LOCATION:Hoops The Right Way Court 6
CONTACT:
SUMMARY:ASC Cosmos VS. Loudoun 00 Black 2
DESCRIPTION:League Name: U-09/U-10 Boys Red\nGame Type: Regular\nGame Statu
 s: Complete\nHome Team: ASC Cosmos\nAway Team: Loudoun 00 Black 2\nHome Sc
 ore: 6\nAway Score: 4
END:VEVENT
BEGIN:VEVENT
UID:3661208@ezleagues.ezfacility.com
DTSTAMP:20260426T033540Z
CREATED:20260426T033540Z
DTSTART:20110219T213500Z
DTEND:20110219T222500Z
LOCATION:Hoops The Right Way Court 6
CONTACT:
SUMMARY:Loudoun 00 Black 2 VS. CYA Cesena '00
DESCRIPTION:League Name: U-09/U-10 Boys Red\nGame Type: Regular\nGame Statu
 s: Complete\nHome Team: Loudoun 00 Black 2\nAway Team: CYA Cesena '00\nHom
 e Score: 4\nAway Score: 9
END:VEVENT
BEGIN:VEVENT
UID:3661238@ezleagues.ezfacility.com
DTSTAMP:20260426T033540Z
CREATED:20260426T033540Z
DTSTART:20110226T213500Z
DTEND:20110226T222500Z
LOCATION:Hoops The Right Way Court 6
CONTACT:
SUMMARY:Loudoun 00 Black 2 VS. ASC Freestyle
DESCRIPTION:League Name: U-09/U-10 Boys Red\nGame Type: Regular\nGame Statu
 s: Complete\nHome Team: Loudoun 00 Black 2\nAway Team: ASC Freestyle\nHome
  Score: 5\nAway Score: 8
END:VEVENT
BEGIN:VEVENT
UID:3661267@ezleagues.ezfacility.com
DTSTAMP:20260426T033540Z
CREATED:20260426T033540Z
DTSTART:20110305T213500Z
DTEND:20110305T222500Z
LOCATION:Hoops The Right Way Court 6
CONTACT:
SUMMARY:Great Falls SC Everton VS. Loudoun 00 Black 2
DESCRIPTION:League Name: U-09/U-10 Boys Red\nGame Type: Regular\nGame Statu
 s: Complete\nHome Team: Great Falls SC Everton\nAway Team: Loudoun 00 Blac
 k 2\nHome Score: 3\nAway Score: 0
END:VEVENT
BEGIN:VEVENT
UID:3663143@ezleagues.ezfacility.com
DTSTAMP:20260426T033540Z
CREATED:20260426T033540Z
DTSTART:20110313T160000Z
DTEND:20110313T165000Z
LOCATION:Hoops The Right Way Court 6
CONTACT:
SUMMARY:FPYC FCV United VS. Loudoun 00 Black 2
DESCRIPTION:League Name: U-09/U-10 Boys Red\nGame Type: Regular\nGame Statu
 s: Complete\nHome Team: FPYC FCV United\nAway Team: Loudoun 00 Black 2\nHo
 me Score: 9\nAway Score: 4
END:VEVENT
END:VCALENDAR
