BEGIN:VCALENDAR
VERSION:2.0
PRODID:-//EZFacility.com, Inc.//EZL 2.5.5.28621
BEGIN:VEVENT
UID:3921057@ezleagues.ezfacility.com
DTSTAMP:20260421T150315Z
CREATED:20260421T150315Z
DTSTART:20110511T234500Z
DTEND:20110512T010000Z
LOCATION:Diamond 1
CONTACT:
SUMMARY:Flama Blanca VS. Metekote
DESCRIPTION:League Name: 2011 Wednesday Men's Slo-pitch "B" Pool\nGame Type
 : Regular\nGame Status: Complete\nHome Team: Flama Blanca\nAway Team: Mete
 kote\nHome Score: 22\nAway Score: 11
END:VEVENT
BEGIN:VEVENT
UID:3921067@ezleagues.ezfacility.com
DTSTAMP:20260421T150315Z
CREATED:20260421T150315Z
DTSTART:20110518T234500Z
DTEND:20110519T010000Z
LOCATION:Diamond 3
CONTACT:
SUMMARY:Metekote VS. Blue Waffles
DESCRIPTION:League Name: 2011 Wednesday Men's Slo-pitch "B" Pool\nGame Type
 : Regular\nGame Status: Complete\nHome Team: Metekote\nAway Team: Blue Waf
 fles\nHome Score: 8\nAway Score: 8
END:VEVENT
BEGIN:VEVENT
UID:3921087@ezleagues.ezfacility.com
DTSTAMP:20260421T150315Z
CREATED:20260421T150315Z
DTSTART:20110602T021500Z
DTEND:20110602T033000Z
LOCATION:Diamond 1
CONTACT:
SUMMARY:Jeter's Never Prosper VS. Metekote
DESCRIPTION:League Name: 2011 Wednesday Men's Slo-pitch "B" Pool\nGame Type
 : Regular\nGame Status: Complete\nHome Team: Jeter's Never Prosper\nAway T
 eam: Metekote\nHome Score: 16\nAway Score: 1
END:VEVENT
BEGIN:VEVENT
UID:3921047@ezleagues.ezfacility.com
DTSTAMP:20260421T150315Z
CREATED:20260421T150315Z
DTSTART:20110608T234500Z
DTEND:20110609T010000Z
LOCATION:Diamond 1
CONTACT:
SUMMARY:Metekote VS. Wolf Pack
DESCRIPTION:League Name: 2011 Wednesday Men's Slo-pitch "B" Pool\nGame Type
 : Regular\nGame Status: Complete\nHome Team: Metekote\nAway Team: Wolf Pac
 k\nHome Score: 3\nAway Score: 7
END:VEVENT
BEGIN:VEVENT
UID:3921077@ezleagues.ezfacility.com
DTSTAMP:20260421T150315Z
CREATED:20260421T150315Z
DTSTART:20110616T021500Z
DTEND:20110616T033000Z
LOCATION:Diamond 1
CONTACT:
SUMMARY:DILLIGAF'S VS. Metekote
DESCRIPTION:League Name: 2011 Wednesday Men's Slo-pitch "B" Pool\nGame Type
 : Regular\nGame Status: Complete\nHome Team: DILLIGAF'S\nAway Team: Meteko
 te\nHome Score: 6\nAway Score: 6
END:VEVENT
BEGIN:VEVENT
UID:4032827@ezleagues.ezfacility.com
DTSTAMP:20260421T150315Z
CREATED:20260421T150315Z
DTSTART:20110622T234500Z
DTEND:20110623T010000Z
LOCATION:Diamond 3
CONTACT:
SUMMARY:Wolf Pack VS. Metekote
DESCRIPTION:League Name: 2011 Wednesday Men's Slo-pitch "C" Pool\nGame Type
 : Regular\nGame Status: Complete\nHome Team: Wolf Pack\nAway Team: Metekot
 e\nHome Score: 13\nAway Score: 8
END:VEVENT
BEGIN:VEVENT
UID:4032837@ezleagues.ezfacility.com
DTSTAMP:20260421T150315Z
CREATED:20260421T150315Z
DTSTART:20110630T010000Z
DTEND:20110630T021500Z
LOCATION:Diamond 1
CONTACT:
SUMMARY:Metekote VS. DILLIGAF'S
DESCRIPTION:League Name: 2011 Wednesday Men's Slo-pitch "C" Pool\nGame Type
 : Regular\nGame Status: Complete\nHome Team: Metekote\nAway Team: DILLIGAF
 'S\nHome Score: 12\nAway Score: 10
END:VEVENT
BEGIN:VEVENT
UID:4032857@ezleagues.ezfacility.com
DTSTAMP:20260421T150315Z
CREATED:20260421T150315Z
DTSTART:20110713T234500Z
DTEND:20110714T010000Z
LOCATION:Diamond 1
CONTACT:
SUMMARY:Blue Waffles VS. Metekote
DESCRIPTION:League Name: 2011 Wednesday Men's Slo-pitch "C" Pool\nGame Type
 : Regular\nGame Status: Complete\nHome Team: Blue Waffles\nAway Team: Mete
 kote\nHome Score: 19\nAway Score: 15
END:VEVENT
BEGIN:VEVENT
UID:4032867@ezleagues.ezfacility.com
DTSTAMP:20260421T150315Z
CREATED:20260421T150315Z
DTSTART:20110720T234500Z
DTEND:20110721T010000Z
LOCATION:Diamond 3
CONTACT:
SUMMARY:Masterbatters VS. Metekote
DESCRIPTION:League Name: 2011 Wednesday Men's Slo-pitch "C" Pool\nGame Type
 : Regular\nGame Status: Complete\nHome Team: Masterbatters\nAway Team: Met
 ekote\nHome Score: 16\nAway Score: 12
END:VEVENT
BEGIN:VEVENT
UID:4032878@ezleagues.ezfacility.com
DTSTAMP:20260421T150315Z
CREATED:20260421T150315Z
DTSTART:20110727T234500Z
DTEND:20110728T010000Z
LOCATION:Diamond 2
CONTACT:
SUMMARY:Metekote VS. Wolf Pack
DESCRIPTION:League Name: 2011 Wednesday Men's Slo-pitch "C" Pool\nGame Type
 : Regular\nGame Status: Complete\nHome Team: Metekote\nAway Team: Wolf Pac
 k\nHome Score: 1\nAway Score: 13
END:VEVENT
BEGIN:VEVENT
UID:4032888@ezleagues.ezfacility.com
DTSTAMP:20260421T150315Z
CREATED:20260421T150315Z
DTSTART:20110804T021500Z
DTEND:20110804T033000Z
LOCATION:Diamond 1
CONTACT:
SUMMARY:DILLIGAF'S VS. Metekote
DESCRIPTION:League Name: 2011 Wednesday Men's Slo-pitch "C" Pool\nGame Type
 : Regular\nGame Status: Complete\nHome Team: DILLIGAF'S\nAway Team: Meteko
 te\nHome Score: 14\nAway Score: 13
END:VEVENT
BEGIN:VEVENT
UID:4032898@ezleagues.ezfacility.com
DTSTAMP:20260421T150315Z
CREATED:20260421T150315Z
DTSTART:20110811T010000Z
DTEND:20110811T021500Z
LOCATION:Diamond 1
CONTACT:
SUMMARY:Jeter's Never Prosper VS. Metekote
DESCRIPTION:League Name: 2011 Wednesday Men's Slo-pitch "C" Pool\nGame Type
 : Regular\nGame Status: Complete\nHome Team: Jeter's Never Prosper\nAway T
 eam: Metekote\nHome Score: 12\nAway Score: 0
END:VEVENT
BEGIN:VEVENT
UID:4032908@ezleagues.ezfacility.com
DTSTAMP:20260421T150315Z
CREATED:20260421T150315Z
DTSTART:20110818T010000Z
DTEND:20110818T021500Z
LOCATION:Diamond 2
CONTACT:
SUMMARY:Metekote VS. Blue Waffles
DESCRIPTION:League Name: 2011 Wednesday Men's Slo-pitch "C" Pool\nGame Type
 : Regular\nGame Status: Complete\nHome Team: Metekote\nAway Team: Blue Waf
 fles\nHome Score: 12\nAway Score: 18
END:VEVENT
BEGIN:VEVENT
UID:4032918@ezleagues.ezfacility.com
DTSTAMP:20260421T150315Z
CREATED:20260421T150315Z
DTSTART:20110824T234500Z
DTEND:20110825T010000Z
LOCATION:Diamond 1
CONTACT:
SUMMARY:Metekote VS. Masterbatters
DESCRIPTION:League Name: 2011 Wednesday Men's Slo-pitch "C" Pool\nGame Type
 : Regular\nGame Status: Complete\nHome Team: Metekote\nAway Team: Masterba
 tters\nHome Score: 8\nAway Score: 9
END:VEVENT
BEGIN:VEVENT
UID:4032928@ezleagues.ezfacility.com
DTSTAMP:20260421T150315Z
CREATED:20260421T150315Z
DTSTART:20110901T021500Z
DTEND:20110901T033000Z
LOCATION:Diamond 1
CONTACT:
SUMMARY:Metekote VS. Wolf Pack
DESCRIPTION:League Name: 2011 Wednesday Men's Slo-pitch "C" Pool\nGame Type
 : Regular\nGame Status: Complete\nHome Team: Metekote\nAway Team: Wolf Pac
 k\nHome Score: 13\nAway Score: 13
END:VEVENT
BEGIN:VEVENT
UID:4032938@ezleagues.ezfacility.com
DTSTAMP:20260421T150315Z
CREATED:20260421T150315Z
DTSTART:20110907T234500Z
DTEND:20110908T010000Z
LOCATION:Diamond 1
CONTACT:
SUMMARY:DILLIGAF'S VS. Metekote
DESCRIPTION:League Name: 2011 Wednesday Men's Slo-pitch "C" Pool\nGame Type
 : Regular\nGame Status: Complete\nHome Team: DILLIGAF'S\nAway Team: Meteko
 te\nHome Score: 9\nAway Score: 20
END:VEVENT
BEGIN:VEVENT
UID:4032847@ezleagues.ezfacility.com
DTSTAMP:20260421T150315Z
CREATED:20260421T150315Z
DTSTART:20110915T021500Z
DTEND:20110915T033000Z
LOCATION:Diamond 1
CONTACT:
SUMMARY:Metekote VS. Isotopes
DESCRIPTION:League Name: 2011 Wednesday Men's Slo-pitch "C" Pool\nGame Type
 : Regular\nGame Status: Complete\nHome Team: Metekote\nAway Team: Isotopes
 \nHome Score: 12\nAway Score: 20
END:VEVENT
END:VCALENDAR
