BEGIN:VCALENDAR
VERSION:2.0
PRODID:-//EZFacility.com, Inc.//EZL 2.5.5.28621
BEGIN:VEVENT
UID:3938253@ezleagues.ezfacility.com
DTSTAMP:20260424T044301Z
CREATED:20260424T044301Z
DTSTART:20110510T230000Z
DTEND:20110510T233000Z
LOCATION:Volleyball Court 2
CONTACT:
SUMMARY:Hang & Bang VS. Dirty Sets
DESCRIPTION:League Name: 2011 Tuesday Co-ed Volleyball POOL A\nGame Type: R
 egular\nGame Status: Complete\nHome Team: Hang & Bang\nAway Team: Dirty Se
 ts\nHome Score: 51\nAway Score: 45
END:VEVENT
BEGIN:VEVENT
UID:3938265@ezleagues.ezfacility.com
DTSTAMP:20260424T044301Z
CREATED:20260424T044301Z
DTSTART:20110510T233000Z
DTEND:20110511T000000Z
LOCATION:Volleyball Court 4
CONTACT:
SUMMARY:The V-ballers VS. Dirty Sets
DESCRIPTION:League Name: 2011 Tuesday Co-ed Volleyball POOL A\nGame Type: R
 egular\nGame Status: Complete\nHome Team: The V-ballers\nAway Team: Dirty 
 Sets\nHome Score: 20\nAway Score: 28
END:VEVENT
BEGIN:VEVENT
UID:3938277@ezleagues.ezfacility.com
DTSTAMP:20260424T044301Z
CREATED:20260424T044301Z
DTSTART:20110511T000000Z
DTEND:20110511T003000Z
LOCATION:Volleyball Court 4
CONTACT:
SUMMARY:Gold Diggers VS. Dirty Sets
DESCRIPTION:League Name: 2011 Tuesday Co-ed Volleyball POOL A\nGame Type: R
 egular\nGame Status: Complete\nHome Team: Gold Diggers\nAway Team: Dirty S
 ets\nHome Score: 26\nAway Score: 30
END:VEVENT
BEGIN:VEVENT
UID:3938298@ezleagues.ezfacility.com
DTSTAMP:20260424T044301Z
CREATED:20260424T044301Z
DTSTART:20110518T010000Z
DTEND:20110518T013000Z
LOCATION:Volleyball Court 3
CONTACT:
SUMMARY:D.I.G. VS. Dirty Sets
DESCRIPTION:League Name: 2011 Tuesday Co-ed Volleyball POOL A\nGame Type: R
 egular\nGame Status: Complete\nHome Team: D.I.G.\nAway Team: Dirty Sets\nH
 ome Score: 32\nAway Score: 24
END:VEVENT
BEGIN:VEVENT
UID:3938299@ezleagues.ezfacility.com
DTSTAMP:20260424T044301Z
CREATED:20260424T044301Z
DTSTART:20110518T013000Z
DTEND:20110518T020000Z
LOCATION:Volleyball Court 4
CONTACT:
SUMMARY:Dirty Sets VS. Did That Hurt?
DESCRIPTION:League Name: 2011 Tuesday Co-ed Volleyball POOL A\nGame Type: R
 egular\nGame Status: Complete\nHome Team: Dirty Sets\nAway Team: Did That 
 Hurt?\nHome Score: 26\nAway Score: 26
END:VEVENT
BEGIN:VEVENT
UID:3938308@ezleagues.ezfacility.com
DTSTAMP:20260424T044301Z
CREATED:20260424T044301Z
DTSTART:20110518T023000Z
DTEND:20110518T030000Z
LOCATION:Volleyball Court 1
CONTACT:
SUMMARY:Dirty Beaches VS. Dirty Sets
DESCRIPTION:League Name: 2011 Tuesday Co-ed Volleyball POOL A\nGame Type: R
 egular\nGame Status: Complete\nHome Team: Dirty Beaches\nAway Team: Dirty 
 Sets\nHome Score: 26\nAway Score: 34
END:VEVENT
BEGIN:VEVENT
UID:3938327@ezleagues.ezfacility.com
DTSTAMP:20260424T044301Z
CREATED:20260424T044301Z
DTSTART:20110524T230000Z
DTEND:20110524T233000Z
LOCATION:Volleyball Court 1
CONTACT:
SUMMARY:Blue Balls VS. Dirty Sets
DESCRIPTION:League Name: 2011 Tuesday Co-ed Volleyball POOL A\nGame Type: R
 egular\nGame Status: Complete\nHome Team: Blue Balls\nAway Team: Dirty Set
 s\nHome Score: 24\nAway Score: 25
END:VEVENT
BEGIN:VEVENT
UID:3938342@ezleagues.ezfacility.com
DTSTAMP:20260424T044301Z
CREATED:20260424T044301Z
DTSTART:20110524T233000Z
DTEND:20110525T000000Z
LOCATION:Volleyball Court 4
CONTACT:
SUMMARY:Sets on the Beach VS. Dirty Sets
DESCRIPTION:League Name: 2011 Tuesday Co-ed Volleyball POOL A\nGame Type: R
 egular\nGame Status: Complete\nHome Team: Sets on the Beach\nAway Team: Di
 rty Sets\nHome Score: 24\nAway Score: 21
END:VEVENT
BEGIN:VEVENT
UID:3938316@ezleagues.ezfacility.com
DTSTAMP:20260424T044301Z
CREATED:20260424T044301Z
DTSTART:20110525T003000Z
DTEND:20110525T010000Z
LOCATION:Volleyball Court 1
CONTACT:
SUMMARY:I'd Hit That VS. Dirty Sets
DESCRIPTION:League Name: 2011 Tuesday Co-ed Volleyball POOL A\nGame Type: R
 egular\nGame Status: Complete\nHome Team: I'd Hit That\nAway Team: Dirty S
 ets\nHome Score: 17\nAway Score: 38
END:VEVENT
BEGIN:VEVENT
UID:3938362@ezleagues.ezfacility.com
DTSTAMP:20260424T044301Z
CREATED:20260424T044301Z
DTSTART:20110601T003000Z
DTEND:20110601T010000Z
LOCATION:Volleyball Court 3
CONTACT:
SUMMARY:Dirty Sets VS. Hang & Bang
DESCRIPTION:League Name: 2011 Tuesday Co-ed Volleyball POOL A\nGame Type: R
 egular\nGame Status: Complete\nHome Team: Dirty Sets\nAway Team: Hang & Ba
 ng\nHome Score: 25\nAway Score: 27
END:VEVENT
BEGIN:VEVENT
UID:3938374@ezleagues.ezfacility.com
DTSTAMP:20260424T044301Z
CREATED:20260424T044301Z
DTSTART:20110601T013000Z
DTEND:20110601T020000Z
LOCATION:Volleyball Court 1
CONTACT:
SUMMARY:Dirty Sets VS. Dig Deep
DESCRIPTION:League Name: 2011 Tuesday Co-ed Volleyball POOL A\nGame Type: R
 egular\nGame Status: Complete\nHome Team: Dirty Sets\nAway Team: Dig Deep\
 nHome Score: 22\nAway Score: 42
END:VEVENT
BEGIN:VEVENT
UID:3938350@ezleagues.ezfacility.com
DTSTAMP:20260424T044301Z
CREATED:20260424T044301Z
DTSTART:20110601T020000Z
DTEND:20110601T023000Z
LOCATION:Volleyball Court 3
CONTACT:
SUMMARY:Dirty Sets VS. Boozin Beach Ballers
DESCRIPTION:League Name: 2011 Tuesday Co-ed Volleyball POOL A\nGame Type: R
 egular\nGame Status: Complete\nHome Team: Dirty Sets\nAway Team: Boozin Be
 ach Ballers\nHome Score: 19\nAway Score: 22
END:VEVENT
BEGIN:VEVENT
UID:3938398@ezleagues.ezfacility.com
DTSTAMP:20260424T044301Z
CREATED:20260424T044301Z
DTSTART:20110607T223000Z
DTEND:20110607T230000Z
LOCATION:Volleyball Court 2
CONTACT:
SUMMARY:Dirty Sets VS. Gold Diggers
DESCRIPTION:League Name: 2011 Tuesday Co-ed Volleyball POOL A\nGame Type: R
 egular\nGame Status: Complete\nHome Team: Dirty Sets\nAway Team: Gold Digg
 ers\nHome Score: 28\nAway Score: 20
END:VEVENT
BEGIN:VEVENT
UID:3938409@ezleagues.ezfacility.com
DTSTAMP:20260424T044301Z
CREATED:20260424T044301Z
DTSTART:20110607T230000Z
DTEND:20110607T233000Z
LOCATION:Volleyball Court 4
CONTACT:
SUMMARY:Did That Hurt? VS. Dirty Sets
DESCRIPTION:League Name: 2011 Tuesday Co-ed Volleyball POOL A\nGame Type: R
 egular\nGame Status: Complete\nHome Team: Did That Hurt?\nAway Team: Dirty
  Sets\nHome Score: 24\nAway Score: 25
END:VEVENT
BEGIN:VEVENT
UID:3938386@ezleagues.ezfacility.com
DTSTAMP:20260424T044301Z
CREATED:20260424T044301Z
DTSTART:20110607T233000Z
DTEND:20110608T000000Z
LOCATION:Volleyball Court 4
CONTACT:
SUMMARY:Dirty Sets VS. The V-ballers
DESCRIPTION:League Name: 2011 Tuesday Co-ed Volleyball POOL A\nGame Type: R
 egular\nGame Status: Complete\nHome Team: Dirty Sets\nAway Team: The V-bal
 lers\nHome Score: 35\nAway Score: 28
END:VEVENT
BEGIN:VEVENT
UID:4016654@ezleagues.ezfacility.com
DTSTAMP:20260424T044301Z
CREATED:20260424T044301Z
DTSTART:20110615T010000Z
DTEND:20110615T013000Z
LOCATION:Volleyball Court 2
CONTACT:
SUMMARY:Hang & Bang VS. Dirty Sets
DESCRIPTION:League Name: 2011 Tuesday Co-ed Volleyball POOL A\nGame Type: R
 egular\nGame Status: Complete\nHome Team: Hang & Bang\nAway Team: Dirty Se
 ts\nHome Score: 23\nAway Score: 34
END:VEVENT
BEGIN:VEVENT
UID:4016666@ezleagues.ezfacility.com
DTSTAMP:20260424T044301Z
CREATED:20260424T044301Z
DTSTART:20110615T013000Z
DTEND:20110615T020000Z
LOCATION:Volleyball Court 4
CONTACT:
SUMMARY:Wolfpack VS. Dirty Sets
DESCRIPTION:League Name: 2011 Tuesday Co-ed Volleyball POOL A\nGame Type: R
 egular\nGame Status: Complete\nHome Team: Wolfpack\nAway Team: Dirty Sets\
 nHome Score: 24\nAway Score: 26
END:VEVENT
BEGIN:VEVENT
UID:4016678@ezleagues.ezfacility.com
DTSTAMP:20260424T044301Z
CREATED:20260424T044301Z
DTSTART:20110615T023000Z
DTEND:20110615T030000Z
LOCATION:Volleyball Court 1
CONTACT:
SUMMARY:Gold Diggers VS. Dirty Sets
DESCRIPTION:League Name: 2011 Tuesday Co-ed Volleyball POOL A\nGame Type: R
 egular\nGame Status: Complete\nHome Team: Gold Diggers\nAway Team: Dirty S
 ets\nHome Score: 23\nAway Score: 30
END:VEVENT
BEGIN:VEVENT
UID:4016689@ezleagues.ezfacility.com
DTSTAMP:20260424T044301Z
CREATED:20260424T044301Z
DTSTART:20110621T223000Z
DTEND:20110621T230000Z
LOCATION:Volleyball Court 4
CONTACT:
SUMMARY:Dirty Sets VS. Did That Hurt?
DESCRIPTION:League Name: 2011 Tuesday Co-ed Volleyball POOL A\nGame Type: R
 egular\nGame Status: Complete\nHome Team: Dirty Sets\nAway Team: Did That 
 Hurt?\nHome Score: 36\nAway Score: 18
END:VEVENT
BEGIN:VEVENT
UID:4016699@ezleagues.ezfacility.com
DTSTAMP:20260424T044301Z
CREATED:20260424T044301Z
DTSTART:20110621T230000Z
DTEND:20110621T233000Z
LOCATION:Volleyball Court 3
CONTACT:
SUMMARY:Dirty Sets VS. D.I.G.
DESCRIPTION:League Name: 2011 Tuesday Co-ed Volleyball POOL A\nGame Type: R
 egular\nGame Status: Complete\nHome Team: Dirty Sets\nAway Team: D.I.G.\nH
 ome Score: 26\nAway Score: 26
END:VEVENT
BEGIN:VEVENT
UID:4016709@ezleagues.ezfacility.com
DTSTAMP:20260424T044301Z
CREATED:20260424T044301Z
DTSTART:20110622T003000Z
DTEND:20110622T010000Z
LOCATION:Volleyball Court 1
CONTACT:
SUMMARY:Dirty Sets VS. Dirty Beaches
DESCRIPTION:League Name: 2011 Tuesday Co-ed Volleyball POOL A\nGame Type: R
 egular\nGame Status: Complete\nHome Team: Dirty Sets\nAway Team: Dirty Bea
 ches\nHome Score: 28\nAway Score: 22
END:VEVENT
BEGIN:VEVENT
UID:4016719@ezleagues.ezfacility.com
DTSTAMP:20260424T044301Z
CREATED:20260424T044301Z
DTSTART:20110629T010000Z
DTEND:20110629T013000Z
LOCATION:Volleyball Court 2
CONTACT:
SUMMARY:Dirty Sets VS. The Beach Crew
DESCRIPTION:League Name: 2011 Tuesday Co-ed Volleyball POOL A\nGame Type: R
 egular\nGame Status: Complete\nHome Team: Dirty Sets\nAway Team: The Beach
  Crew\nHome Score: 27\nAway Score: 23
END:VEVENT
BEGIN:VEVENT
UID:4016729@ezleagues.ezfacility.com
DTSTAMP:20260424T044301Z
CREATED:20260424T044301Z
DTSTART:20110629T013000Z
DTEND:20110629T020000Z
LOCATION:Volleyball Court 3
CONTACT:
SUMMARY:Dirty Sets VS. Sets on the Beach
DESCRIPTION:League Name: 2011 Tuesday Co-ed Volleyball POOL A\nGame Type: R
 egular\nGame Status: Complete\nHome Team: Dirty Sets\nAway Team: Sets on t
 he Beach\nHome Score: 21\nAway Score: 33
END:VEVENT
BEGIN:VEVENT
UID:4016739@ezleagues.ezfacility.com
DTSTAMP:20260424T044301Z
CREATED:20260424T044301Z
DTSTART:20110629T023000Z
DTEND:20110629T030000Z
LOCATION:Volleyball Court 1
CONTACT:
SUMMARY:Boo-Yah VS. Dirty Sets
DESCRIPTION:League Name: 2011 Tuesday Co-ed Volleyball POOL A\nGame Type: R
 egular\nGame Status: Complete\nHome Team: Boo-Yah\nAway Team: Dirty Sets\n
 Home Score: 23\nAway Score: 20
END:VEVENT
BEGIN:VEVENT
UID:4016751@ezleagues.ezfacility.com
DTSTAMP:20260424T044301Z
CREATED:20260424T044301Z
DTSTART:20110705T233000Z
DTEND:20110706T000000Z
LOCATION:Volleyball Court 1
CONTACT:
SUMMARY:Boozin Beach Ballers VS. Dirty Sets
DESCRIPTION:League Name: 2011 Tuesday Co-ed Volleyball POOL A\nGame Type: R
 egular\nGame Status: Complete\nHome Team: Boozin Beach Ballers\nAway Team:
  Dirty Sets\nHome Score: 27\nAway Score: 21
END:VEVENT
BEGIN:VEVENT
UID:4016763@ezleagues.ezfacility.com
DTSTAMP:20260424T044301Z
CREATED:20260424T044301Z
DTSTART:20110706T000000Z
DTEND:20110706T003000Z
LOCATION:Volleyball Court 2
CONTACT:
SUMMARY:Dig Deep VS. Dirty Sets
DESCRIPTION:League Name: 2011 Tuesday Co-ed Volleyball POOL A\nGame Type: R
 egular\nGame Status: Complete\nHome Team: Dig Deep\nAway Team: Dirty Sets\
 nHome Score: 26\nAway Score: 27
END:VEVENT
BEGIN:VEVENT
UID:4016775@ezleagues.ezfacility.com
DTSTAMP:20260424T044301Z
CREATED:20260424T044301Z
DTSTART:20110706T003000Z
DTEND:20110706T010000Z
LOCATION:Volleyball Court 2
CONTACT:
SUMMARY:Dirty Sets VS. Hang & Bang
DESCRIPTION:League Name: 2011 Tuesday Co-ed Volleyball POOL A\nGame Type: R
 egular\nGame Status: Complete\nHome Team: Dirty Sets\nAway Team: Hang & Ba
 ng\nHome Score: 25\nAway Score: 15
END:VEVENT
BEGIN:VEVENT
UID:4016810@ezleagues.ezfacility.com
DTSTAMP:20260424T044301Z
CREATED:20260424T044301Z
DTSTART:20110713T010000Z
DTEND:20110713T013000Z
LOCATION:Volleyball Court 1
CONTACT:
SUMMARY:Did That Hurt? VS. Dirty Sets
DESCRIPTION:League Name: 2011 Tuesday Co-ed Volleyball POOL A\nGame Type: R
 egular\nGame Status: Complete\nHome Team: Did That Hurt?\nAway Team: Dirty
  Sets\nHome Score: 14\nAway Score: 36
END:VEVENT
BEGIN:VEVENT
UID:4016788@ezleagues.ezfacility.com
DTSTAMP:20260424T044301Z
CREATED:20260424T044301Z
DTSTART:20110713T013000Z
DTEND:20110713T020000Z
LOCATION:Volleyball Court 1
CONTACT:
SUMMARY:Gold Diggers VS. Dirty Sets
DESCRIPTION:League Name: 2011 Tuesday Co-ed Volleyball POOL A\nGame Type: R
 egular\nGame Status: Complete\nHome Team: Gold Diggers\nAway Team: Dirty S
 ets\nHome Score: 22\nAway Score: 32
END:VEVENT
BEGIN:VEVENT
UID:4016787@ezleagues.ezfacility.com
DTSTAMP:20260424T044301Z
CREATED:20260424T044301Z
DTSTART:20110713T020000Z
DTEND:20110713T023000Z
LOCATION:Volleyball Court 2
CONTACT:
SUMMARY:Dirty Sets VS. Wolfpack
DESCRIPTION:League Name: 2011 Tuesday Co-ed Volleyball POOL A\nGame Type: R
 egular\nGame Status: Complete\nHome Team: Dirty Sets\nAway Team: Wolfpack\
 nHome Score: 27\nAway Score: 26
END:VEVENT
BEGIN:VEVENT
UID:4016840@ezleagues.ezfacility.com
DTSTAMP:20260424T044301Z
CREATED:20260424T044301Z
DTSTART:20110719T223000Z
DTEND:20110719T230000Z
LOCATION:Volleyball Court 4
CONTACT:
SUMMARY:The Beach Crew VS. Dirty Sets
DESCRIPTION:League Name: 2011 Tuesday Co-ed Volleyball POOL A\nGame Type: R
 egular\nGame Status: Complete\nHome Team: The Beach Crew\nAway Team: Dirty
  Sets\nHome Score: 14\nAway Score: 20
END:VEVENT
BEGIN:VEVENT
UID:4016830@ezleagues.ezfacility.com
DTSTAMP:20260424T044301Z
CREATED:20260424T044301Z
DTSTART:20110719T230000Z
DTEND:20110719T233000Z
LOCATION:Volleyball Court 4
CONTACT:
SUMMARY:Dirty Sets VS. Dirty Beaches
DESCRIPTION:League Name: 2011 Tuesday Co-ed Volleyball POOL A\nGame Type: R
 egular\nGame Status: Complete\nHome Team: Dirty Sets\nAway Team: Dirty Bea
 ches\nHome Score: 26\nAway Score: 24
END:VEVENT
BEGIN:VEVENT
UID:4016820@ezleagues.ezfacility.com
DTSTAMP:20260424T044301Z
CREATED:20260424T044301Z
DTSTART:20110719T233000Z
DTEND:20110720T000000Z
LOCATION:Volleyball Court 4
CONTACT:
SUMMARY:D.I.G. VS. Dirty Sets
DESCRIPTION:League Name: 2011 Tuesday Co-ed Volleyball POOL A\nGame Type: R
 egular\nGame Status: Complete\nHome Team: D.I.G.\nAway Team: Dirty Sets\nH
 ome Score: 23\nAway Score: 21
END:VEVENT
BEGIN:VEVENT
UID:4016872@ezleagues.ezfacility.com
DTSTAMP:20260424T044301Z
CREATED:20260424T044301Z
DTSTART:20110727T010000Z
DTEND:20110727T013000Z
LOCATION:Volleyball Court 3
CONTACT:
SUMMARY:Dirty Sets VS. Boozin Beach Ballers
DESCRIPTION:League Name: 2011 Tuesday Co-ed Volleyball POOL A\nGame Type: R
 egular\nGame Status: Complete\nHome Team: Dirty Sets\nAway Team: Boozin Be
 ach Ballers\nHome Score: 35\nAway Score: 15
END:VEVENT
BEGIN:VEVENT
UID:4016849@ezleagues.ezfacility.com
DTSTAMP:20260424T044301Z
CREATED:20260424T044301Z
DTSTART:20110727T020000Z
DTEND:20110727T023000Z
LOCATION:Volleyball Court 1
CONTACT:
SUMMARY:Dirty Sets VS. Boo-Yah
DESCRIPTION:League Name: 2011 Tuesday Co-ed Volleyball POOL A\nGame Type: R
 egular\nGame Status: Complete\nHome Team: Dirty Sets\nAway Team: Boo-Yah\n
 Home Score: 21\nAway Score: 39
END:VEVENT
BEGIN:VEVENT
UID:4016850@ezleagues.ezfacility.com
DTSTAMP:20260424T044301Z
CREATED:20260424T044301Z
DTSTART:20110727T023000Z
DTEND:20110727T030000Z
LOCATION:Volleyball Court 2
CONTACT:
SUMMARY:Sets on the Beach VS. Dirty Sets
DESCRIPTION:League Name: 2011 Tuesday Co-ed Volleyball POOL A\nGame Type: R
 egular\nGame Status: Complete\nHome Team: Sets on the Beach\nAway Team: Di
 rty Sets\nHome Score: 26\nAway Score: 30
END:VEVENT
BEGIN:VEVENT
UID:4016908@ezleagues.ezfacility.com
DTSTAMP:20260424T044301Z
CREATED:20260424T044301Z
DTSTART:20110802T223000Z
DTEND:20110802T230000Z
LOCATION:Volleyball Court 2
CONTACT:
SUMMARY:Dirty Sets VS. Wolfpack
DESCRIPTION:League Name: 2011 Tuesday Co-ed Volleyball POOL A\nGame Type: R
 egular\nGame Status: Complete\nHome Team: Dirty Sets\nAway Team: Wolfpack\
 nHome Score: 19\nAway Score: 35
END:VEVENT
BEGIN:VEVENT
UID:4016896@ezleagues.ezfacility.com
DTSTAMP:20260424T044301Z
CREATED:20260424T044301Z
DTSTART:20110802T233000Z
DTEND:20110803T000000Z
LOCATION:Volleyball Court 3
CONTACT:
SUMMARY:Dirty Sets VS. Dig Deep
DESCRIPTION:League Name: 2011 Tuesday Co-ed Volleyball POOL A\nGame Type: R
 egular\nGame Status: Complete\nHome Team: Dirty Sets\nAway Team: Dig Deep\
 nHome Score: 20\nAway Score: 30
END:VEVENT
BEGIN:VEVENT
UID:4016884@ezleagues.ezfacility.com
DTSTAMP:20260424T044301Z
CREATED:20260424T044301Z
DTSTART:20110803T000000Z
DTEND:20110803T003000Z
LOCATION:Volleyball Court 4
CONTACT:
SUMMARY:Dirty Sets VS. Hang & Bang
DESCRIPTION:League Name: 2011 Tuesday Co-ed Volleyball POOL A\nGame Type: R
 egular\nGame Status: Complete\nHome Team: Dirty Sets\nAway Team: Hang & Ba
 ng\nHome Score: 32\nAway Score: 22
END:VEVENT
BEGIN:VEVENT
UID:4016941@ezleagues.ezfacility.com
DTSTAMP:20260424T044301Z
CREATED:20260424T044301Z
DTSTART:20110810T003000Z
DTEND:20110810T010000Z
LOCATION:Volleyball Court 1
CONTACT:
SUMMARY:D.I.G. VS. Dirty Sets
DESCRIPTION:League Name: 2011 Tuesday Co-ed Volleyball POOL A\nGame Type: R
 egular\nGame Status: Complete\nHome Team: D.I.G.\nAway Team: Dirty Sets\nH
 ome Score: 17\nAway Score: 31
END:VEVENT
BEGIN:VEVENT
UID:4016930@ezleagues.ezfacility.com
DTSTAMP:20260424T044301Z
CREATED:20260424T044301Z
DTSTART:20110810T010000Z
DTEND:20110810T013000Z
LOCATION:Volleyball Court 2
CONTACT:
SUMMARY:Dirty Sets VS. Gold Diggers
DESCRIPTION:League Name: 2011 Tuesday Co-ed Volleyball POOL A\nGame Type: R
 egular\nGame Status: Complete\nHome Team: Dirty Sets\nAway Team: Gold Digg
 ers\nHome Score: 27\nAway Score: 14
END:VEVENT
BEGIN:VEVENT
UID:4016931@ezleagues.ezfacility.com
DTSTAMP:20260424T044301Z
CREATED:20260424T044301Z
DTSTART:20110810T020000Z
DTEND:20110810T023000Z
LOCATION:Volleyball Court 3
CONTACT:
SUMMARY:Did That Hurt? VS. Dirty Sets
DESCRIPTION:League Name: 2011 Tuesday Co-ed Volleyball POOL A\nGame Type: R
 egular\nGame Status: Complete\nHome Team: Did That Hurt?\nAway Team: Dirty
  Sets\nHome Score: 20\nAway Score: 23
END:VEVENT
BEGIN:VEVENT
UID:4016951@ezleagues.ezfacility.com
DTSTAMP:20260424T044301Z
CREATED:20260424T044301Z
DTSTART:20110816T230000Z
DTEND:20110816T233000Z
LOCATION:Volleyball Court 1
CONTACT:
SUMMARY:Dirty Beaches VS. Dirty Sets
DESCRIPTION:League Name: 2011 Tuesday Co-ed Volleyball POOL A\nGame Type: R
 egular\nGame Status: Complete\nHome Team: Dirty Beaches\nAway Team: Dirty 
 Sets\nHome Score: 0\nAway Score: 0
END:VEVENT
BEGIN:VEVENT
UID:4016961@ezleagues.ezfacility.com
DTSTAMP:20260424T044301Z
CREATED:20260424T044301Z
DTSTART:20110816T233000Z
DTEND:20110817T000000Z
LOCATION:Volleyball Court 3
CONTACT:
SUMMARY:The Beach Crew VS. Dirty Sets
DESCRIPTION:League Name: 2011 Tuesday Co-ed Volleyball POOL A\nGame Type: R
 egular\nGame Status: Complete\nHome Team: The Beach Crew\nAway Team: Dirty
  Sets\nHome Score: 24\nAway Score: 23
END:VEVENT
BEGIN:VEVENT
UID:4016971@ezleagues.ezfacility.com
DTSTAMP:20260424T044301Z
CREATED:20260424T044301Z
DTSTART:20110817T000000Z
DTEND:20110817T003000Z
LOCATION:Volleyball Court 3
CONTACT:
SUMMARY:Sets on the Beach VS. Dirty Sets
DESCRIPTION:League Name: 2011 Tuesday Co-ed Volleyball POOL A\nGame Type: R
 egular\nGame Status: Complete\nHome Team: Sets on the Beach\nAway Team: Di
 rty Sets\nHome Score: 18\nAway Score: 28
END:VEVENT
END:VCALENDAR
