BEGIN:VCALENDAR
VERSION:2.0
PRODID:-//EZFacility.com, Inc.//EZL 2.5.5.28621
BEGIN:VEVENT
UID:3950708@ezleagues.ezfacility.com
DTSTAMP:20260424T041503Z
CREATED:20260424T041503Z
DTSTART:20110514T193000Z
DTEND:20110514T210000Z
LOCATION:Field 01
CONTACT:
SUMMARY:Junior VS. FC Uno
DESCRIPTION:League Name: Spring Outdoor Men's 0pen 11v11\nGame Type: Regula
 r\nGame Status: Complete\nHome Team: Junior\nAway Team: FC Uno\nHome Score
 : 3\nAway Score: 1
END:VEVENT
BEGIN:VEVENT
UID:3966152@ezleagues.ezfacility.com
DTSTAMP:20260424T041503Z
CREATED:20260424T041503Z
DTSTART:20110604T180000Z
DTEND:20110604T193000Z
LOCATION:Field   ID 1
CONTACT:
SUMMARY:Junior VS. Flash
DESCRIPTION:League Name: Spring Outdoor Men's 0pen 11v11\nGame Type: Regula
 r\nGame Status: Complete\nHome Team: Junior\nAway Team: Flash\nHome Score:
  6\nAway Score: 0
END:VEVENT
BEGIN:VEVENT
UID:3966158@ezleagues.ezfacility.com
DTSTAMP:20260424T041503Z
CREATED:20260424T041503Z
DTSTART:20110611T180000Z
DTEND:20110611T193000Z
LOCATION:Field   ID 1
CONTACT:
SUMMARY:Junior VS. Muskingum
DESCRIPTION:League Name: Spring Outdoor Men's 0pen 11v11\nGame Type: Regula
 r\nGame Status: Complete\nHome Team: Junior\nAway Team: Muskingum\nHome Sc
 ore: 4\nAway Score: 2
END:VEVENT
BEGIN:VEVENT
UID:3966167@ezleagues.ezfacility.com
DTSTAMP:20260424T041503Z
CREATED:20260424T041503Z
DTSTART:20110618T193000Z
DTEND:20110618T210000Z
LOCATION:Field   ID 1
CONTACT:
SUMMARY:Asmara FC VS. Junior
DESCRIPTION:League Name: Spring Outdoor Men's 0pen 11v11\nGame Type: Regula
 r\nGame Status: Rescheduled\nHome Team: Asmara FC\nAway Team: Junior\n
END:VEVENT
BEGIN:VEVENT
UID:3966170@ezleagues.ezfacility.com
DTSTAMP:20260424T041503Z
CREATED:20260424T041503Z
DTSTART:20110625T180000Z
DTEND:20110625T193000Z
LOCATION:Field   ID 1
CONTACT:
SUMMARY:Junior VS. Doritos Extreme
DESCRIPTION:League Name: Spring Outdoor Men's 0pen 11v11\nGame Type: Regula
 r\nGame Status: Complete\nHome Team: Junior\nAway Team: Doritos Extreme\nH
 ome Score: 3\nAway Score: 1
END:VEVENT
BEGIN:VEVENT
UID:3966177@ezleagues.ezfacility.com
DTSTAMP:20260424T041503Z
CREATED:20260424T041503Z
DTSTART:20110709T180000Z
DTEND:20110709T193000Z
LOCATION:Field   ID 1
CONTACT:
SUMMARY:FC Uno VS. Junior
DESCRIPTION:League Name: Spring Outdoor Men's 0pen 11v11\nGame Type: Regula
 r\nGame Status: Complete\nHome Team: FC Uno\nAway Team: Junior\nHome Score
 : 7\nAway Score: 3
END:VEVENT
BEGIN:VEVENT
UID:3966187@ezleagues.ezfacility.com
DTSTAMP:20260424T041503Z
CREATED:20260424T041503Z
DTSTART:20110716T180000Z
DTEND:20110716T193000Z
LOCATION:Field   ID 1
CONTACT:
SUMMARY:Junior VS. Sea Breeze IYF
DESCRIPTION:League Name: Spring Outdoor Men's 0pen 11v11\nGame Type: Regula
 r\nGame Status: Complete\nHome Team: Junior\nAway Team: Sea Breeze IYF\nHo
 me Score: 3\nAway Score: 0
END:VEVENT
BEGIN:VEVENT
UID:3966197@ezleagues.ezfacility.com
DTSTAMP:20260424T041503Z
CREATED:20260424T041503Z
DTSTART:20110730T193000Z
DTEND:20110730T210000Z
LOCATION:Field   ID 1
CONTACT:
SUMMARY:Junior VS. Muskingum
DESCRIPTION:League Name: Spring Outdoor Men's 0pen 11v11\nGame Type: Regula
 r\nGame Status: Complete\nHome Team: Junior\nAway Team: Muskingum\nHome Sc
 ore: 1\nAway Score: 6
END:VEVENT
BEGIN:VEVENT
UID:4029165@ezleagues.ezfacility.com
DTSTAMP:20260424T041503Z
CREATED:20260424T041503Z
DTSTART:20110806T193000Z
DTEND:20110806T210000Z
LOCATION:Field   ID 1
CONTACT:
SUMMARY:Asmara FC VS. Junior
DESCRIPTION:League Name: Spring Outdoor Men's 0pen 11v11\nGame Type: Regula
 r\nGame Status: Complete\nHome Team: Asmara FC\nAway Team: Junior\nHome Sc
 ore: 3\nAway Score: 3
END:VEVENT
BEGIN:VEVENT
UID:4120076@ezleagues.ezfacility.com
DTSTAMP:20260424T041503Z
CREATED:20260424T041503Z
DTSTART:20110813T180000Z
DTEND:20110813T193000Z
LOCATION:Field   ID 1
CONTACT:
SUMMARY:Doritos Extreme VS. Junior
DESCRIPTION:League Name: Spring Outdoor Men's 0pen 11v11\nGame Type: Postse
 ason\nGame Status: Complete\nHome Team: Doritos Extreme\nAway Team: Junior
 \nHome Score: 6\nAway Score: 1
END:VEVENT
END:VCALENDAR
