BEGIN:VCALENDAR
VERSION:2.0
PRODID:-//EZFacility.com, Inc.//EZL 2.5.5.28621
BEGIN:VEVENT
UID:3959200@ezleagues.ezfacility.com
DTSTAMP:20260421T190357Z
CREATED:20260421T190357Z
DTSTART:20110605T150000Z
DTEND:20110605T163000Z
LOCATION:Field   ID 1
CONTACT:
SUMMARY:Gigondas VS. Chaos FC
DESCRIPTION:League Name: Spring Outdoor Men's 40+ 7v7\nGame Type: Regular\n
 Game Status: Complete\nHome Team: Gigondas\nAway Team: Chaos FC\nHome Scor
 e: 4\nAway Score: 0
END:VEVENT
BEGIN:VEVENT
UID:3959201@ezleagues.ezfacility.com
DTSTAMP:20260421T190357Z
CREATED:20260421T190357Z
DTSTART:20110612T120000Z
DTEND:20110612T133000Z
LOCATION:Field   ID 1
CONTACT:
SUMMARY:Graywolves VS. Gigondas
DESCRIPTION:League Name: Spring Outdoor Men's 40+ 7v7\nGame Type: Regular\n
 Game Status: Complete\nHome Team: Graywolves\nAway Team: Gigondas\nHome Sc
 ore: 3\nAway Score: 5
END:VEVENT
BEGIN:VEVENT
UID:3959206@ezleagues.ezfacility.com
DTSTAMP:20260421T190357Z
CREATED:20260421T190357Z
DTSTART:20110619T120000Z
DTEND:20110619T133000Z
LOCATION:Field   ID 1
CONTACT:
SUMMARY:Horsemen VS. Gigondas
DESCRIPTION:League Name: Spring Outdoor Men's 40+ 7v7\nGame Type: Regular\n
 Game Status: Complete\nHome Team: Horsemen\nAway Team: Gigondas\nHome Scor
 e: 1\nAway Score: 5
END:VEVENT
BEGIN:VEVENT
UID:3959292@ezleagues.ezfacility.com
DTSTAMP:20260421T190357Z
CREATED:20260421T190357Z
DTSTART:20110626T133000Z
DTEND:20110626T150000Z
LOCATION:Field   ID 1
CONTACT:
SUMMARY:Gigondas VS. Pounders
DESCRIPTION:League Name: Spring Outdoor Men's 40+ 7v7\nGame Type: Regular\n
 Game Status: Complete\nHome Team: Gigondas\nAway Team: Pounders\nHome Scor
 e: 8\nAway Score: 1
END:VEVENT
BEGIN:VEVENT
UID:3959296@ezleagues.ezfacility.com
DTSTAMP:20260421T190357Z
CREATED:20260421T190357Z
DTSTART:20110710T133000Z
DTEND:20110710T150000Z
LOCATION:Field   ID 1
CONTACT:
SUMMARY:Flash VS. Gigondas
DESCRIPTION:League Name: Spring Outdoor Men's 40+ 7v7\nGame Type: Regular\n
 Game Status: Complete\nHome Team: Flash\nAway Team: Gigondas\nHome Score: 
 3\nAway Score: 2
END:VEVENT
BEGIN:VEVENT
UID:3959305@ezleagues.ezfacility.com
DTSTAMP:20260421T190357Z
CREATED:20260421T190357Z
DTSTART:20110717T150000Z
DTEND:20110717T163000Z
LOCATION:Field   ID 1
CONTACT:
SUMMARY:Gigondas VS. FUFC
DESCRIPTION:League Name: Spring Outdoor Men's 40+ 7v7\nGame Type: Regular\n
 Game Status: Complete\nHome Team: Gigondas\nAway Team: FUFC\nHome Score: 1
 0\nAway Score: 2
END:VEVENT
BEGIN:VEVENT
UID:3959308@ezleagues.ezfacility.com
DTSTAMP:20260421T190357Z
CREATED:20260421T190357Z
DTSTART:20110727T223000Z
DTEND:20110728T000000Z
LOCATION:Field   ID 1
CONTACT:
SUMMARY:Gigondas VS. Noor
DESCRIPTION:League Name: Spring Outdoor Men's 40+ 7v7\nGame Type: Regular\n
 Game Status: Complete\nHome Team: Gigondas\nAway Team: Noor\nHome Score: 5
 \nAway Score: 5
END:VEVENT
BEGIN:VEVENT
UID:3959318@ezleagues.ezfacility.com
DTSTAMP:20260421T190357Z
CREATED:20260421T190357Z
DTSTART:20110807T133000Z
DTEND:20110807T150000Z
LOCATION:Field   ID 1
CONTACT:
SUMMARY:Gigondas VS. Pounders
DESCRIPTION:League Name: Spring Outdoor Men's 40+ 7v7\nGame Type: Regular\n
 Game Status: Complete\nHome Team: Gigondas\nAway Team: Pounders\nHome Scor
 e: 2\nAway Score: 4
END:VEVENT
END:VCALENDAR
