BEGIN:VCALENDAR
VERSION:2.0
PRODID:-//EZFacility.com, Inc.//EZL 2.5.5.28621
BEGIN:VEVENT
UID:3950758@ezleagues.ezfacility.com
DTSTAMP:20260420T002754Z
CREATED:20260420T002754Z
DTSTART:20110515T183000Z
DTEND:20110515T200000Z
LOCATION:Field A
CONTACT:
SUMMARY:Team Platinum VS. Shake and Bake
DESCRIPTION:League Name: Spring Outdoor Coed 0pen 7v7 Sunday \nGame Type: R
 egular\nGame Status: Complete\nHome Team: Team Platinum\nAway Team: Shake 
 and Bake\nHome Score: 0\nAway Score: 3
END:VEVENT
BEGIN:VEVENT
UID:3971185@ezleagues.ezfacility.com
DTSTAMP:20260420T002754Z
CREATED:20260420T002754Z
DTSTART:20110605T200000Z
DTEND:20110605T213000Z
LOCATION:Field   ID 1
CONTACT:
SUMMARY:Balls 2 The Wall VS. Shake and Bake
DESCRIPTION:League Name: Spring Outdoor Coed 0pen 7v7 Sunday \nGame Type: R
 egular\nGame Status: Complete\nHome Team: Balls 2 The Wall\nAway Team: Sha
 ke and Bake\nHome Score: 3\nAway Score: 6
END:VEVENT
BEGIN:VEVENT
UID:4000437@ezleagues.ezfacility.com
DTSTAMP:20260420T002754Z
CREATED:20260420T002754Z
DTSTART:20110612T183000Z
DTEND:20110612T200000Z
LOCATION:Field   ID 1
CONTACT:
SUMMARY:Shake and Bake VS. Almost Awesome
DESCRIPTION:League Name: Spring Outdoor Coed 0pen 7v7 Sunday \nGame Type: R
 egular\nGame Status: Complete\nHome Team: Shake and Bake\nAway Team: Almos
 t Awesome\nHome Score: 10\nAway Score: 4
END:VEVENT
BEGIN:VEVENT
UID:4002109@ezleagues.ezfacility.com
DTSTAMP:20260420T002754Z
CREATED:20260420T002754Z
DTSTART:20110619T170000Z
DTEND:20110619T183000Z
LOCATION:Field   ID 1
CONTACT:
SUMMARY:Shake and Bake VS. Jokestars
DESCRIPTION:League Name: Spring Outdoor Coed 0pen 7v7 Sunday \nGame Type: R
 egular\nGame Status: Complete\nHome Team: Shake and Bake\nAway Team: Jokes
 tars\nHome Score: 3\nAway Score: 2
END:VEVENT
BEGIN:VEVENT
UID:4002121@ezleagues.ezfacility.com
DTSTAMP:20260420T002754Z
CREATED:20260420T002754Z
DTSTART:20110626T170000Z
DTEND:20110626T183000Z
LOCATION:Field   ID 1
CONTACT:
SUMMARY:Shake and Bake VS. Thundercougarfalconbirds
DESCRIPTION:League Name: Spring Outdoor Coed 0pen 7v7 Sunday \nGame Type: R
 egular\nGame Status: Complete\nHome Team: Shake and Bake\nAway Team: Thund
 ercougarfalconbirds\nHome Score: 5\nAway Score: 4
END:VEVENT
BEGIN:VEVENT
UID:4002133@ezleagues.ezfacility.com
DTSTAMP:20260420T002754Z
CREATED:20260420T002754Z
DTSTART:20110710T183000Z
DTEND:20110710T200000Z
LOCATION:Field   ID 1
CONTACT:
SUMMARY:Shake and Bake VS. Tide FC
DESCRIPTION:League Name: Spring Outdoor Coed 0pen 7v7 Sunday \nGame Type: R
 egular\nGame Status: Complete\nHome Team: Shake and Bake\nAway Team: Tide 
 FC\nHome Score: 5\nAway Score: 4
END:VEVENT
BEGIN:VEVENT
UID:4002150@ezleagues.ezfacility.com
DTSTAMP:20260420T002754Z
CREATED:20260420T002754Z
DTSTART:20110717T183000Z
DTEND:20110717T200000Z
LOCATION:Field   ID 1
CONTACT:
SUMMARY:Shake and Bake VS. Older Than United
DESCRIPTION:League Name: Spring Outdoor Coed 0pen 7v7 Sunday \nGame Type: R
 egular\nGame Status: Complete\nHome Team: Shake and Bake\nAway Team: Older
  Than United\nHome Score: 7\nAway Score: 2
END:VEVENT
BEGIN:VEVENT
UID:4002172@ezleagues.ezfacility.com
DTSTAMP:20260420T002754Z
CREATED:20260420T002754Z
DTSTART:20110726T223000Z
DTEND:20110727T000000Z
LOCATION:Field   ID 1
CONTACT:
SUMMARY:Shake and Bake VS. Tigerblood
DESCRIPTION:League Name: Spring Outdoor Coed 0pen 7v7 Sunday \nGame Type: R
 egular\nGame Status: Complete\nHome Team: Shake and Bake\nAway Team: Tiger
 blood\nHome Score: 4\nAway Score: 8
END:VEVENT
BEGIN:VEVENT
UID:4103013@ezleagues.ezfacility.com
DTSTAMP:20260420T002754Z
CREATED:20260420T002754Z
DTSTART:20110807T170000Z
DTEND:20110807T183000Z
LOCATION:Field   ID 1
CONTACT:
SUMMARY:Grass Kickers VS. Shake and Bake
DESCRIPTION:League Name: Spring Outdoor Coed 0pen 7v7 Sunday \nGame Type: P
 ostseason\nGame Status: Complete\nHome Team: Grass Kickers\nAway Team: Sha
 ke and Bake\nHome Score: 3\nAway Score: 3
END:VEVENT
END:VCALENDAR
