BEGIN:VCALENDAR
VERSION:2.0
PRODID:-//EZFacility.com, Inc.//EZL 2.5.5.28621
BEGIN:VEVENT
UID:3959380@ezleagues.ezfacility.com
DTSTAMP:20260424T044235Z
CREATED:20260424T044235Z
DTSTART:20110526T003000Z
DTEND:20110526T013000Z
LOCATION:South Rink
CONTACT:
SUMMARY:Bob Slaght's Team VS. Kamikaze
DESCRIPTION:League Name: 2011 Wednesday 30+ Summer Hockey\nGame Type: Regul
 ar\nGame Status: Complete\nHome Team: Bob Slaght's Team\nAway Team: Kamika
 ze\nHome Score: 5\nAway Score: 9
END:VEVENT
BEGIN:VEVENT
UID:3959386@ezleagues.ezfacility.com
DTSTAMP:20260424T044235Z
CREATED:20260424T044235Z
DTSTART:20110602T010000Z
DTEND:20110602T020000Z
LOCATION:North Rink
CONTACT:
SUMMARY:Ice Park Individuals VS. Bob Slaght's Team
DESCRIPTION:League Name: 2011 Wednesday 30+ Summer Hockey\nGame Type: Regul
 ar\nGame Status: Complete\nHome Team: Ice Park Individuals\nAway Team: Bob
  Slaght's Team\nHome Score: 3\nAway Score: 1
END:VEVENT
BEGIN:VEVENT
UID:3959392@ezleagues.ezfacility.com
DTSTAMP:20260424T044235Z
CREATED:20260424T044235Z
DTSTART:20110609T010000Z
DTEND:20110609T020000Z
LOCATION:North Rink
CONTACT:
SUMMARY:TSN's VS. Bob Slaght's Team
DESCRIPTION:League Name: 2011 Wednesday 30+ Summer Hockey\nGame Type: Regul
 ar\nGame Status: Postponed\nHome Team: TSN's\nAway Team: Bob Slaght's Team
 \n
END:VEVENT
BEGIN:VEVENT
UID:3959398@ezleagues.ezfacility.com
DTSTAMP:20260424T044235Z
CREATED:20260424T044235Z
DTSTART:20110615T233000Z
DTEND:20110616T003000Z
LOCATION:South Rink
CONTACT:
SUMMARY:Rusty's Old Boys VS. Bob Slaght's Team
DESCRIPTION:League Name: 2011 Wednesday 30+ Summer Hockey\nGame Type: Regul
 ar\nGame Status: Postponed\nHome Team: Rusty's Old Boys\nAway Team: Bob Sl
 aght's Team\n
END:VEVENT
BEGIN:VEVENT
UID:4031177@ezleagues.ezfacility.com
DTSTAMP:20260424T044235Z
CREATED:20260424T044235Z
DTSTART:20110623T020000Z
DTEND:20110623T030000Z
LOCATION:Hespeler Arena 1
CONTACT:
SUMMARY:Bob Slaght's Team VS. Jets
DESCRIPTION:League Name: 2011 Wednesday 30+ Summer Hockey\nGame Type: Regul
 ar\nGame Status: Cancelled\nHome Team: Bob Slaght's Team\nAway Team: Jets\
 n
END:VEVENT
BEGIN:VEVENT
UID:4031181@ezleagues.ezfacility.com
DTSTAMP:20260424T044235Z
CREATED:20260424T044235Z
DTSTART:20110630T023000Z
DTEND:20110630T033000Z
LOCATION:Hespeler Arena 2
CONTACT:
SUMMARY:Bob Slaght's Team VS. Shear Metal
DESCRIPTION:League Name: 2011 Wednesday 30+ Summer Hockey\nGame Type: Regul
 ar\nGame Status: Postponed\nHome Team: Bob Slaght's Team\nAway Team: Shear
  Metal\n
END:VEVENT
BEGIN:VEVENT
UID:4031185@ezleagues.ezfacility.com
DTSTAMP:20260424T044235Z
CREATED:20260424T044235Z
DTSTART:20110707T013000Z
DTEND:20110707T023000Z
LOCATION:University of Guelph
CONTACT:
SUMMARY:Bob Slaght's Team VS. Molson Canadians
DESCRIPTION:League Name: 2011 Wednesday 30+ Summer Hockey\nGame Type: Regul
 ar\nGame Status: Cancelled\nHome Team: Bob Slaght's Team\nAway Team: Molso
 n Canadians\n
END:VEVENT
BEGIN:VEVENT
UID:4031189@ezleagues.ezfacility.com
DTSTAMP:20260424T044235Z
CREATED:20260424T044235Z
DTSTART:20110714T023000Z
DTEND:20110714T033000Z
LOCATION:Hespeler Arena 2
CONTACT:
SUMMARY:Bob Slaght's Team VS. Kamikaze
DESCRIPTION:League Name: 2011 Wednesday 30+ Summer Hockey\nGame Type: Regul
 ar\nGame Status: Cancelled\nHome Team: Bob Slaght's Team\nAway Team: Kamik
 aze\n
END:VEVENT
BEGIN:VEVENT
UID:4031193@ezleagues.ezfacility.com
DTSTAMP:20260424T044235Z
CREATED:20260424T044235Z
DTSTART:20110721T013000Z
DTEND:20110721T023000Z
LOCATION:Hespeler Arena 2
CONTACT:
SUMMARY:Ice Park Individuals VS. Bob Slaght's Team
DESCRIPTION:League Name: 2011 Wednesday 30+ Summer Hockey\nGame Type: Regul
 ar\nGame Status: Pending\nHome Team: Ice Park Individuals\nAway Team: Bob 
 Slaght's Team\n
END:VEVENT
BEGIN:VEVENT
UID:4031197@ezleagues.ezfacility.com
DTSTAMP:20260424T044235Z
CREATED:20260424T044235Z
DTSTART:20110728T013000Z
DTEND:20110728T023000Z
LOCATION:University of Guelph
CONTACT:
SUMMARY:TSN's VS. Bob Slaght's Team
DESCRIPTION:League Name: 2011 Wednesday 30+ Summer Hockey\nGame Type: Regul
 ar\nGame Status: Cancelled\nHome Team: TSN's\nAway Team: Bob Slaght's Team
 \n
END:VEVENT
BEGIN:VEVENT
UID:4031201@ezleagues.ezfacility.com
DTSTAMP:20260424T044235Z
CREATED:20260424T044235Z
DTSTART:20110804T013000Z
DTEND:20110804T023000Z
LOCATION:Hespeler Arena 2
CONTACT:
SUMMARY:Rusty's Old Boys VS. Bob Slaght's Team
DESCRIPTION:League Name: 2011 Wednesday 30+ Summer Hockey\nGame Type: Regul
 ar\nGame Status: Pending\nHome Team: Rusty's Old Boys\nAway Team: Bob Slag
 ht's Team\n
END:VEVENT
BEGIN:VEVENT
UID:4031205@ezleagues.ezfacility.com
DTSTAMP:20260424T044235Z
CREATED:20260424T044235Z
DTSTART:20110811T023000Z
DTEND:20110811T033000Z
LOCATION:Hespeler Arena 2
CONTACT:
SUMMARY:Jets VS. Bob Slaght's Team
DESCRIPTION:League Name: 2011 Wednesday 30+ Summer Hockey\nGame Type: Regul
 ar\nGame Status: Pending\nHome Team: Jets\nAway Team: Bob Slaght's Team\n
END:VEVENT
END:VCALENDAR
