BEGIN:VCALENDAR
VERSION:2.0
PRODID:-//EZFacility.com, Inc.//EZL 2.5.5.28621
BEGIN:VEVENT
UID:4023301@ezleagues.ezfacility.com
DTSTAMP:20260426T033701Z
CREATED:20260426T033701Z
DTSTART:20110620T180000Z
DTEND:20110620T184500Z
LOCATION:Ian Rush 2
CONTACT:
SUMMARY:The Titans VS. Standerwick FC
DESCRIPTION:League Name: Newport Monday 5-a-side Division 2\nGame Type: Reg
 ular\nGame Status: Complete\nHome Team: The Titans\nAway Team: Standerwick
  FC\nHome Score: 16\nAway Score: 4
END:VEVENT
BEGIN:VEVENT
UID:4023305@ezleagues.ezfacility.com
DTSTAMP:20260426T033701Z
CREATED:20260426T033701Z
DTSTART:20110627T193000Z
DTEND:20110627T201500Z
LOCATION:Ian Rush 2
CONTACT:
SUMMARY:Portugal VS. The Titans
DESCRIPTION:League Name: Newport Monday 5-a-side Division 2\nGame Type: Reg
 ular\nGame Status: Complete\nHome Team: Portugal\nAway Team: The Titans\nH
 ome Score: 8\nAway Score: 0
END:VEVENT
BEGIN:VEVENT
UID:4023309@ezleagues.ezfacility.com
DTSTAMP:20260426T033701Z
CREATED:20260426T033701Z
DTSTART:20110704T171500Z
DTEND:20110704T180000Z
LOCATION:Ian Rush 2
CONTACT:
SUMMARY:The Bees VS. The Titans
DESCRIPTION:League Name: Newport Monday 5-a-side Division 2\nGame Type: Reg
 ular\nGame Status: Complete\nHome Team: The Bees\nAway Team: The Titans\nH
 ome Score: 12\nAway Score: 6
END:VEVENT
BEGIN:VEVENT
UID:4023314@ezleagues.ezfacility.com
DTSTAMP:20260426T033701Z
CREATED:20260426T033701Z
DTSTART:20110711T171500Z
DTEND:20110711T180000Z
LOCATION:Ian Rush 2
CONTACT:
SUMMARY:Wheatsheaf VS. The Titans
DESCRIPTION:League Name: Newport Monday 5-a-side Division 2\nGame Type: Reg
 ular\nGame Status: Complete\nHome Team: Wheatsheaf\nAway Team: The Titans\
 nHome Score: 7\nAway Score: 2
END:VEVENT
BEGIN:VEVENT
UID:4023317@ezleagues.ezfacility.com
DTSTAMP:20260426T033701Z
CREATED:20260426T033701Z
DTSTART:20110718T193000Z
DTEND:20110718T201500Z
LOCATION:Ian Rush 2
CONTACT:
SUMMARY:NCH VS. The Titans
DESCRIPTION:League Name: Newport Monday 5-a-side Division 2\nGame Type: Reg
 ular\nGame Status: Complete\nHome Team: NCH\nAway Team: The Titans\nHome S
 core: 5\nAway Score: 5
END:VEVENT
BEGIN:VEVENT
UID:4023323@ezleagues.ezfacility.com
DTSTAMP:20260426T033701Z
CREATED:20260426T033701Z
DTSTART:20110725T180000Z
DTEND:20110725T184500Z
LOCATION:Ian Rush 2
CONTACT:
SUMMARY:The Titans VS. Silky Smooth
DESCRIPTION:League Name: Newport Monday 5-a-side Division 2\nGame Type: Reg
 ular\nGame Status: Complete\nHome Team: The Titans\nAway Team: Silky Smoot
 h\nHome Score: 24\nAway Score: 2
END:VEVENT
BEGIN:VEVENT
UID:4023325@ezleagues.ezfacility.com
DTSTAMP:20260426T033701Z
CREATED:20260426T033701Z
DTSTART:20110801T180000Z
DTEND:20110801T184500Z
LOCATION:Ian Rush 2
CONTACT:
SUMMARY:The Titans VS. Mulitple Scoregasm
DESCRIPTION:League Name: Newport Monday 5-a-side Division 2\nGame Type: Reg
 ular\nGame Status: Complete\nHome Team: The Titans\nAway Team: Mulitple Sc
 oregasm\nHome Score: 4\nAway Score: 7
END:VEVENT
BEGIN:VEVENT
UID:4023330@ezleagues.ezfacility.com
DTSTAMP:20260426T033701Z
CREATED:20260426T033701Z
DTSTART:20110808T180000Z
DTEND:20110808T184500Z
LOCATION:Ian Rush 2
CONTACT:
SUMMARY:Standerwick FC VS. The Titans
DESCRIPTION:League Name: Newport Monday 5-a-side Division 2\nGame Type: Reg
 ular\nGame Status: Complete\nHome Team: Standerwick FC\nAway Team: The Tit
 ans\nHome Score: 6\nAway Score: 5
END:VEVENT
BEGIN:VEVENT
UID:4023334@ezleagues.ezfacility.com
DTSTAMP:20260426T033701Z
CREATED:20260426T033701Z
DTSTART:20110815T193000Z
DTEND:20110815T201500Z
LOCATION:Ian Rush 2
CONTACT:
SUMMARY:The Titans VS. Portugal
DESCRIPTION:League Name: Newport Monday 5-a-side Division 2\nGame Type: Reg
 ular\nGame Status: Complete\nHome Team: The Titans\nAway Team: Portugal\nH
 ome Score: 7\nAway Score: 6
END:VEVENT
BEGIN:VEVENT
UID:4023338@ezleagues.ezfacility.com
DTSTAMP:20260426T033701Z
CREATED:20260426T033701Z
DTSTART:20110822T193000Z
DTEND:20110822T201500Z
LOCATION:John Charles 1
CONTACT:
SUMMARY:The Titans VS. The Bees
DESCRIPTION:League Name: Newport Monday 5-a-side Division 2\nGame Type: Reg
 ular\nGame Status: Complete\nHome Team: The Titans\nAway Team: The Bees\nH
 ome Score: 13\nAway Score: 0
END:VEVENT
BEGIN:VEVENT
UID:4023345@ezleagues.ezfacility.com
DTSTAMP:20260426T033701Z
CREATED:20260426T033701Z
DTSTART:20110905T171500Z
DTEND:20110905T180000Z
LOCATION:Ian Rush 2
CONTACT:
SUMMARY:The Titans VS. NCH
DESCRIPTION:League Name: Newport Monday 5-a-side Division 2\nGame Type: Reg
 ular\nGame Status: Complete\nHome Team: The Titans\nAway Team: NCH\nHome S
 core: 9\nAway Score: 4
END:VEVENT
BEGIN:VEVENT
UID:4023351@ezleagues.ezfacility.com
DTSTAMP:20260426T033701Z
CREATED:20260426T033701Z
DTSTART:20110912T193000Z
DTEND:20110912T201500Z
LOCATION:Billy Meredith 4
CONTACT:
SUMMARY:Silky Smooth VS. The Titans
DESCRIPTION:League Name: Newport Monday 5-a-side Division 2\nGame Type: Reg
 ular\nGame Status: Complete\nHome Team: Silky Smooth\nAway Team: The Titan
 s\nHome Score: 2\nAway Score: 11
END:VEVENT
BEGIN:VEVENT
UID:4023353@ezleagues.ezfacility.com
DTSTAMP:20260426T033701Z
CREATED:20260426T033701Z
DTSTART:20110919T180000Z
DTEND:20110919T184500Z
LOCATION:Ian Rush 2
CONTACT:
SUMMARY:Mulitple Scoregasm VS. The Titans
DESCRIPTION:League Name: Newport Monday 5-a-side Division 2\nGame Type: Reg
 ular\nGame Status: Complete\nHome Team: Mulitple Scoregasm\nAway Team: The
  Titans\nHome Score: 10\nAway Score: 6
END:VEVENT
BEGIN:VEVENT
UID:4023343@ezleagues.ezfacility.com
DTSTAMP:20260426T033701Z
CREATED:20260426T033701Z
DTSTART:20110926T171500Z
DTEND:20110926T180000Z
LOCATION:John Charles 1
CONTACT:
SUMMARY:The Titans VS. Wheatsheaf
DESCRIPTION:League Name: Newport Monday 5-a-side Division 2\nGame Type: Reg
 ular\nGame Status: Complete\nHome Team: The Titans\nAway Team: Wheatsheaf\
 nHome Score: 3\nAway Score: 9
END:VEVENT
END:VCALENDAR
