BEGIN:VCALENDAR
VERSION:2.0
PRODID:-//EZFacility.com, Inc.//EZL 2.5.5.28621
BEGIN:VEVENT
UID:4023300@ezleagues.ezfacility.com
DTSTAMP:20260424T044057Z
CREATED:20260424T044057Z
DTSTART:20110620T171500Z
DTEND:20110620T180000Z
LOCATION:Ian Rush 2
CONTACT:
SUMMARY:The Bees VS. Mulitple Scoregasm
DESCRIPTION:League Name: Newport Monday 5-a-side Division 2\nGame Type: Reg
 ular\nGame Status: Complete\nHome Team: The Bees\nAway Team: Mulitple Scor
 egasm\nHome Score: 8\nAway Score: 9
END:VEVENT
BEGIN:VEVENT
UID:4023304@ezleagues.ezfacility.com
DTSTAMP:20260424T044057Z
CREATED:20260424T044057Z
DTSTART:20110627T171500Z
DTEND:20110627T180000Z
LOCATION:Ian Rush 2
CONTACT:
SUMMARY:Mulitple Scoregasm VS. Wheatsheaf
DESCRIPTION:League Name: Newport Monday 5-a-side Division 2\nGame Type: Reg
 ular\nGame Status: Complete\nHome Team: Mulitple Scoregasm\nAway Team: Whe
 atsheaf\nHome Score: 10\nAway Score: 8
END:VEVENT
BEGIN:VEVENT
UID:4023307@ezleagues.ezfacility.com
DTSTAMP:20260424T044057Z
CREATED:20260424T044057Z
DTSTART:20110704T184500Z
DTEND:20110704T193000Z
LOCATION:Ian Rush 2
CONTACT:
SUMMARY:Mulitple Scoregasm VS. NCH
DESCRIPTION:League Name: Newport Monday 5-a-side Division 2\nGame Type: Reg
 ular\nGame Status: Complete\nHome Team: Mulitple Scoregasm\nAway Team: NCH
 \nHome Score: 12\nAway Score: 6
END:VEVENT
BEGIN:VEVENT
UID:4023311@ezleagues.ezfacility.com
DTSTAMP:20260424T044057Z
CREATED:20260424T044057Z
DTSTART:20110711T180000Z
DTEND:20110711T184500Z
LOCATION:Ian Rush 2
CONTACT:
SUMMARY:Mulitple Scoregasm VS. Silky Smooth
DESCRIPTION:League Name: Newport Monday 5-a-side Division 2\nGame Type: Reg
 ular\nGame Status: Complete\nHome Team: Mulitple Scoregasm\nAway Team: Sil
 ky Smooth\nHome Score: 13\nAway Score: 0
END:VEVENT
BEGIN:VEVENT
UID:4023316@ezleagues.ezfacility.com
DTSTAMP:20260424T044057Z
CREATED:20260424T044057Z
DTSTART:20110718T184500Z
DTEND:20110718T193000Z
LOCATION:Ian Rush 2
CONTACT:
SUMMARY:Portugal VS. Mulitple Scoregasm
DESCRIPTION:League Name: Newport Monday 5-a-side Division 2\nGame Type: Reg
 ular\nGame Status: Complete\nHome Team: Portugal\nAway Team: Mulitple Scor
 egasm\nHome Score: 3\nAway Score: 7
END:VEVENT
BEGIN:VEVENT
UID:4023320@ezleagues.ezfacility.com
DTSTAMP:20260424T044057Z
CREATED:20260424T044057Z
DTSTART:20110725T171500Z
DTEND:20110725T180000Z
LOCATION:Ian Rush 2
CONTACT:
SUMMARY:Standerwick FC VS. Mulitple Scoregasm
DESCRIPTION:League Name: Newport Monday 5-a-side Division 2\nGame Type: Reg
 ular\nGame Status: Complete\nHome Team: Standerwick FC\nAway Team: Mulitpl
 e Scoregasm\nHome Score: 1\nAway Score: 13
END:VEVENT
BEGIN:VEVENT
UID:4023325@ezleagues.ezfacility.com
DTSTAMP:20260424T044057Z
CREATED:20260424T044057Z
DTSTART:20110801T180000Z
DTEND:20110801T184500Z
LOCATION:Ian Rush 2
CONTACT:
SUMMARY:The Titans VS. Mulitple Scoregasm
DESCRIPTION:League Name: Newport Monday 5-a-side Division 2\nGame Type: Reg
 ular\nGame Status: Complete\nHome Team: The Titans\nAway Team: Mulitple Sc
 oregasm\nHome Score: 4\nAway Score: 7
END:VEVENT
BEGIN:VEVENT
UID:4023329@ezleagues.ezfacility.com
DTSTAMP:20260424T044057Z
CREATED:20260424T044057Z
DTSTART:20110808T171500Z
DTEND:20110808T180000Z
LOCATION:Ian Rush 2
CONTACT:
SUMMARY:Mulitple Scoregasm VS. The Bees
DESCRIPTION:League Name: Newport Monday 5-a-side Division 2\nGame Type: Reg
 ular\nGame Status: Complete\nHome Team: Mulitple Scoregasm\nAway Team: The
  Bees\nHome Score: 6\nAway Score: 0
END:VEVENT
BEGIN:VEVENT
UID:4023333@ezleagues.ezfacility.com
DTSTAMP:20260424T044057Z
CREATED:20260424T044057Z
DTSTART:20110815T171500Z
DTEND:20110815T180000Z
LOCATION:Ian Rush 2
CONTACT:
SUMMARY:Wheatsheaf VS. Mulitple Scoregasm
DESCRIPTION:League Name: Newport Monday 5-a-side Division 2\nGame Type: Reg
 ular\nGame Status: Complete\nHome Team: Wheatsheaf\nAway Team: Mulitple Sc
 oregasm\nHome Score: 9\nAway Score: 12
END:VEVENT
BEGIN:VEVENT
UID:4023336@ezleagues.ezfacility.com
DTSTAMP:20260424T044057Z
CREATED:20260424T044057Z
DTSTART:20110822T180000Z
DTEND:20110822T184500Z
LOCATION:Ian Rush 2
CONTACT:
SUMMARY:NCH VS. Mulitple Scoregasm
DESCRIPTION:League Name: Newport Monday 5-a-side Division 2\nGame Type: Reg
 ular\nGame Status: Complete\nHome Team: NCH\nAway Team: Mulitple Scoregasm
 \nHome Score: 3\nAway Score: 17
END:VEVENT
BEGIN:VEVENT
UID:4023340@ezleagues.ezfacility.com
DTSTAMP:20260424T044057Z
CREATED:20260424T044057Z
DTSTART:20110829T184500Z
DTEND:20110829T193000Z
LOCATION:John Charles 1
CONTACT:
SUMMARY:Silky Smooth VS. Mulitple Scoregasm
DESCRIPTION:League Name: Newport Monday 5-a-side Division 2\nGame Type: Reg
 ular\nGame Status: Complete\nHome Team: Silky Smooth\nAway Team: Mulitple 
 Scoregasm\nHome Score: 0\nAway Score: 16
END:VEVENT
BEGIN:VEVENT
UID:4023344@ezleagues.ezfacility.com
DTSTAMP:20260424T044057Z
CREATED:20260424T044057Z
DTSTART:20110905T184500Z
DTEND:20110905T193000Z
LOCATION:Ian Rush 2
CONTACT:
SUMMARY:Mulitple Scoregasm VS. Portugal
DESCRIPTION:League Name: Newport Monday 5-a-side Division 2\nGame Type: Reg
 ular\nGame Status: Complete\nHome Team: Mulitple Scoregasm\nAway Team: Por
 tugal\nHome Score: 0\nAway Score: 0
END:VEVENT
BEGIN:VEVENT
UID:4023348@ezleagues.ezfacility.com
DTSTAMP:20260424T044057Z
CREATED:20260424T044057Z
DTSTART:20110912T180000Z
DTEND:20110912T184500Z
LOCATION:Ian Rush 2
CONTACT:
SUMMARY:Mulitple Scoregasm VS. Standerwick FC
DESCRIPTION:League Name: Newport Monday 5-a-side Division 2\nGame Type: Reg
 ular\nGame Status: Complete\nHome Team: Mulitple Scoregasm\nAway Team: Sta
 nderwick FC\nHome Score: 8\nAway Score: 3
END:VEVENT
BEGIN:VEVENT
UID:4023353@ezleagues.ezfacility.com
DTSTAMP:20260424T044057Z
CREATED:20260424T044057Z
DTSTART:20110919T180000Z
DTEND:20110919T184500Z
LOCATION:Ian Rush 2
CONTACT:
SUMMARY:Mulitple Scoregasm VS. The Titans
DESCRIPTION:League Name: Newport Monday 5-a-side Division 2\nGame Type: Reg
 ular\nGame Status: Complete\nHome Team: Mulitple Scoregasm\nAway Team: The
  Titans\nHome Score: 10\nAway Score: 6
END:VEVENT
END:VCALENDAR
