BEGIN:VCALENDAR
VERSION:2.0
PRODID:-//EZFacility.com, Inc.//EZL 2.5.5.28621
BEGIN:VEVENT
UID:4109617@ezleagues.ezfacility.com
DTSTAMP:20260424T044150Z
CREATED:20260424T044150Z
DTSTART:20110814T200000Z
DTEND:20110814T213000Z
LOCATION:Field   ID 1
CONTACT:
SUMMARY:SPASTIC ELDERS VS. OUTLAWS
DESCRIPTION:League Name: Fall Outdoor Coed 30+11v11\nGame Type: Regular\nGa
 me Status: Complete\nHome Team: SPASTIC ELDERS\nAway Team: OUTLAWS\nHome S
 core: 1\nAway Score: 2
END:VEVENT
BEGIN:VEVENT
UID:4109627@ezleagues.ezfacility.com
DTSTAMP:20260424T044150Z
CREATED:20260424T044150Z
DTSTART:20110821T213000Z
DTEND:20110821T230000Z
LOCATION:Field   ID 1
CONTACT:
SUMMARY:OUTLAWS VS. ALTERED STATES
DESCRIPTION:League Name: Fall Outdoor Coed 30+11v11\nGame Type: Regular\nGa
 me Status: Complete\nHome Team: OUTLAWS\nAway Team: ALTERED STATES\nHome S
 core: 4\nAway Score: 0
END:VEVENT
BEGIN:VEVENT
UID:4109633@ezleagues.ezfacility.com
DTSTAMP:20260424T044150Z
CREATED:20260424T044150Z
DTSTART:20110828T213000Z
DTEND:20110828T230000Z
LOCATION:Field   ID 1
CONTACT:
SUMMARY:ASPIRIN VS. OUTLAWS
DESCRIPTION:League Name: Fall Outdoor Coed 30+11v11\nGame Type: Regular\nGa
 me Status: Complete\nHome Team: ASPIRIN\nAway Team: OUTLAWS\nHome Score: 2
 \nAway Score: 5
END:VEVENT
BEGIN:VEVENT
UID:4109640@ezleagues.ezfacility.com
DTSTAMP:20260424T044150Z
CREATED:20260424T044150Z
DTSTART:20110911T200000Z
DTEND:20110911T213000Z
LOCATION:Field   ID 1
CONTACT:
SUMMARY:OUTLAWS VS. ACHTUNG
DESCRIPTION:League Name: Fall Outdoor Coed 30+11v11\nGame Type: Regular\nGa
 me Status: Complete\nHome Team: OUTLAWS\nAway Team: ACHTUNG\nHome Score: 0
 \nAway Score: 1
END:VEVENT
BEGIN:VEVENT
UID:4109654@ezleagues.ezfacility.com
DTSTAMP:20260424T044150Z
CREATED:20260424T044150Z
DTSTART:20110918T213000Z
DTEND:20110918T230000Z
LOCATION:Field   ID 1
CONTACT:
SUMMARY:SLICK AS SNOT VS. OUTLAWS
DESCRIPTION:League Name: Fall Outdoor Coed 30+11v11\nGame Type: Regular\nGa
 me Status: Complete\nHome Team: SLICK AS SNOT\nAway Team: OUTLAWS\nHome Sc
 ore: 0\nAway Score: 6
END:VEVENT
BEGIN:VEVENT
UID:4109666@ezleagues.ezfacility.com
DTSTAMP:20260424T044150Z
CREATED:20260424T044150Z
DTSTART:20110925T200000Z
DTEND:20110925T213000Z
LOCATION:Field   ID 1
CONTACT:
SUMMARY:OUTLAWS VS. GREEN HORNETS
DESCRIPTION:League Name: Fall Outdoor Coed 30+11v11\nGame Type: Regular\nGa
 me Status: Complete\nHome Team: OUTLAWS\nAway Team: GREEN HORNETS\nHome Sc
 ore: 1\nAway Score: 3
END:VEVENT
BEGIN:VEVENT
UID:4109672@ezleagues.ezfacility.com
DTSTAMP:20260424T044150Z
CREATED:20260424T044150Z
DTSTART:20111002T200000Z
DTEND:20111002T213000Z
LOCATION:Field   ID 1
CONTACT:
SUMMARY:RED ROCKETS VS. OUTLAWS
DESCRIPTION:League Name: Fall Outdoor Coed 30+11v11\nGame Type: Regular\nGa
 me Status: Complete\nHome Team: RED ROCKETS\nAway Team: OUTLAWS\nHome Scor
 e: 1\nAway Score: 0
END:VEVENT
BEGIN:VEVENT
UID:4109681@ezleagues.ezfacility.com
DTSTAMP:20260424T044150Z
CREATED:20260424T044150Z
DTSTART:20111009T213000Z
DTEND:20111009T230000Z
LOCATION:Field   ID 1
CONTACT:
SUMMARY:LEFTOVERS VS. OUTLAWS
DESCRIPTION:League Name: Fall Outdoor Coed 30+11v11\nGame Type: Regular\nGa
 me Status: Complete\nHome Team: LEFTOVERS\nAway Team: OUTLAWS\nHome Score:
  2\nAway Score: 3
END:VEVENT
END:VCALENDAR
