BEGIN:VCALENDAR
VERSION:2.0
PRODID:-//EZFacility.com, Inc.//EZL 2.5.5.28621
BEGIN:VEVENT
UID:4148642@ezleagues.ezfacility.com
DTSTAMP:20260426T033627Z
CREATED:20260426T033627Z
DTSTART:20110830T010000Z
DTEND:20110830T013000Z
LOCATION:Volleyball Court 4
CONTACT:
SUMMARY:Ice Park Individuals VS. Suckatash Flash
DESCRIPTION:League Name: 2011 Monday Co-ed Volleyball POOL "B" PLAYOFFS\nGa
 me Type: Regular\nGame Status: Complete\nHome Team: Ice Park Individuals\n
 Away Team: Suckatash Flash\nHome Score: 21\nAway Score: 22
END:VEVENT
BEGIN:VEVENT
UID:4148652@ezleagues.ezfacility.com
DTSTAMP:20260426T033627Z
CREATED:20260426T033627Z
DTSTART:20110830T020000Z
DTEND:20110830T023000Z
LOCATION:Volleyball Court 1
CONTACT:
SUMMARY:Ice Park Individuals VS. Sandy Boxes
DESCRIPTION:League Name: 2011 Monday Co-ed Volleyball POOL "B" PLAYOFFS\nGa
 me Type: Regular\nGame Status: Complete\nHome Team: Ice Park Individuals\n
 Away Team: Sandy Boxes\nHome Score: 20\nAway Score: 10
END:VEVENT
BEGIN:VEVENT
UID:4148662@ezleagues.ezfacility.com
DTSTAMP:20260426T033627Z
CREATED:20260426T033627Z
DTSTART:20110830T023000Z
DTEND:20110830T030000Z
LOCATION:Volleyball Court 4
CONTACT:
SUMMARY:Work in Progress VS. Ice Park Individuals
DESCRIPTION:League Name: 2011 Monday Co-ed Volleyball POOL "B" PLAYOFFS\nGa
 me Type: Regular\nGame Status: Complete\nHome Team: Work in Progress\nAway
  Team: Ice Park Individuals\nHome Score: 23\nAway Score: 22
END:VEVENT
BEGIN:VEVENT
UID:4148673@ezleagues.ezfacility.com
DTSTAMP:20260426T033627Z
CREATED:20260426T033627Z
DTSTART:20110912T230000Z
DTEND:20110912T233000Z
LOCATION:Volleyball Court 2
CONTACT:
SUMMARY:Suckatash Flash VS. Ice Park Individuals
DESCRIPTION:League Name: 2011 Monday Co-ed Volleyball POOL "B" PLAYOFFS\nGa
 me Type: Regular\nGame Status: Complete\nHome Team: Suckatash Flash\nAway 
 Team: Ice Park Individuals\nHome Score: 24\nAway Score: 14
END:VEVENT
BEGIN:VEVENT
UID:4148690@ezleagues.ezfacility.com
DTSTAMP:20260426T033627Z
CREATED:20260426T033627Z
DTSTART:20110912T233000Z
DTEND:20110913T000000Z
LOCATION:Volleyball Court 3
CONTACT:
SUMMARY:Sandy Boxes VS. Ice Park Individuals
DESCRIPTION:League Name: 2011 Monday Co-ed Volleyball POOL "B" PLAYOFFS\nGa
 me Type: Regular\nGame Status: Complete\nHome Team: Sandy Boxes\nAway Team
 : Ice Park Individuals\nHome Score: 0\nAway Score: 15
END:VEVENT
BEGIN:VEVENT
UID:4148698@ezleagues.ezfacility.com
DTSTAMP:20260426T033627Z
CREATED:20260426T033627Z
DTSTART:20110913T003000Z
DTEND:20110913T010000Z
LOCATION:Volleyball Court 4
CONTACT:
SUMMARY:Work in Progress VS. Ice Park Individuals
DESCRIPTION:League Name: 2011 Monday Co-ed Volleyball POOL "B" PLAYOFFS\nGa
 me Type: Regular\nGame Status: Complete\nHome Team: Work in Progress\nAway
  Team: Ice Park Individuals\nHome Score: 20\nAway Score: 30
END:VEVENT
BEGIN:VEVENT
UID:4205170@ezleagues.ezfacility.com
DTSTAMP:20260426T033627Z
CREATED:20260426T033627Z
DTSTART:20110927T000000Z
DTEND:20110927T003000Z
LOCATION:Volleyball Court 3
CONTACT:
SUMMARY:The Team VS. Ice Park Individuals
DESCRIPTION:League Name: 2011 Monday Co-ed Volleyball POOL "B" PLAYOFFS\nGa
 me Type: Regular\nGame Status: Pending\nHome Team: The Team\nAway Team: Ic
 e Park Individuals\n
END:VEVENT
BEGIN:VEVENT
UID:4205228@ezleagues.ezfacility.com
DTSTAMP:20260426T033627Z
CREATED:20260426T033627Z
DTSTART:20110927T010000Z
DTEND:20110927T013000Z
LOCATION:Volleyball Court 3
CONTACT:
SUMMARY:Butterflies & Unicorns  VS. Ice Park Individuals
DESCRIPTION:League Name: 2011 Monday Co-ed Volleyball POOL "B" PLAYOFFS\nGa
 me Type: Regular\nGame Status: Pending\nHome Team: Butterflies & Unicorns 
 \nAway Team: Ice Park Individuals\n
END:VEVENT
BEGIN:VEVENT
UID:4205230@ezleagues.ezfacility.com
DTSTAMP:20260426T033627Z
CREATED:20260426T033627Z
DTSTART:20110927T013000Z
DTEND:20110927T020000Z
LOCATION:Volleyball Court 1
CONTACT:
SUMMARY:Suckatash Flash VS. Ice Park Individuals
DESCRIPTION:League Name: 2011 Monday Co-ed Volleyball POOL "B" PLAYOFFS\nGa
 me Type: Regular\nGame Status: Pending\nHome Team: Suckatash Flash\nAway T
 eam: Ice Park Individuals\n
END:VEVENT
END:VCALENDAR
