BEGIN:VCALENDAR
VERSION:2.0
PRODID:-//EZFacility.com, Inc.//EZL 2.5.5.28621
BEGIN:VEVENT
UID:4319117@ezleagues.ezfacility.com
DTSTAMP:20260426T033803Z
CREATED:20260426T033803Z
DTSTART:20111022T020000Z
DTEND:20111022T025000Z
LOCATION:Field   ID 1
CONTACT:
SUMMARY:Monarcas VS. High Tide
DESCRIPTION:League Name: Fall Indoor 2011  Coed 40+\nGame Type: Regular\nGa
 me Status: Complete\nHome Team: Monarcas\nAway Team: High Tide\nHome Score
 : 7\nAway Score: 1
END:VEVENT
BEGIN:VEVENT
UID:4319414@ezleagues.ezfacility.com
DTSTAMP:20260426T033803Z
CREATED:20260426T033803Z
DTSTART:20111028T231500Z
DTEND:20111029T000500Z
LOCATION:Field   ID 1
CONTACT:
SUMMARY:Quasars VS. High Tide
DESCRIPTION:League Name: Fall Indoor 2011  Coed 40+\nGame Type: Regular\nGa
 me Status: Complete\nHome Team: Quasars\nAway Team: High Tide\nHome Score:
  7\nAway Score: 3
END:VEVENT
BEGIN:VEVENT
UID:4319475@ezleagues.ezfacility.com
DTSTAMP:20260426T033803Z
CREATED:20260426T033803Z
DTSTART:20111105T010500Z
DTEND:20111105T015500Z
LOCATION:Field   ID 2
CONTACT:
SUMMARY:High Tide VS. Rip Tide
DESCRIPTION:League Name: Fall Indoor 2011  Coed 40+\nGame Type: Regular\nGa
 me Status: Complete\nHome Team: High Tide\nAway Team: Rip Tide\nHome Score
 : 4\nAway Score: 10
END:VEVENT
BEGIN:VEVENT
UID:4319524@ezleagues.ezfacility.com
DTSTAMP:20260426T033803Z
CREATED:20260426T033803Z
DTSTART:20111112T020500Z
DTEND:20111112T025500Z
LOCATION:Field   ID 1
CONTACT:
SUMMARY:High Tide VS. T Squared
DESCRIPTION:League Name: Fall Indoor 2011  Coed 40+\nGame Type: Regular\nGa
 me Status: Complete\nHome Team: High Tide\nAway Team: T Squared\nHome Scor
 e: 7\nAway Score: 5
END:VEVENT
BEGIN:VEVENT
UID:4319538@ezleagues.ezfacility.com
DTSTAMP:20260426T033803Z
CREATED:20260426T033803Z
DTSTART:20111118T232000Z
DTEND:20111119T001000Z
LOCATION:Field   ID 1
CONTACT:
SUMMARY:Pale Ales VS. High Tide
DESCRIPTION:League Name: Fall Indoor 2011  Coed 40+\nGame Type: Regular\nGa
 me Status: Complete\nHome Team: Pale Ales\nAway Team: High Tide\nHome Scor
 e: 1\nAway Score: 6
END:VEVENT
BEGIN:VEVENT
UID:4319668@ezleagues.ezfacility.com
DTSTAMP:20260426T033803Z
CREATED:20260426T033803Z
DTSTART:20111203T035500Z
DTEND:20111203T044500Z
LOCATION:Field   ID 3
CONTACT:
SUMMARY:High Tide VS. Low Tide
DESCRIPTION:League Name: Fall Indoor 2011  Coed 40+\nGame Type: Regular\nGa
 me Status: Complete\nHome Team: High Tide\nAway Team: Low Tide\nHome Score
 : 6\nAway Score: 3
END:VEVENT
BEGIN:VEVENT
UID:4319672@ezleagues.ezfacility.com
DTSTAMP:20260426T033803Z
CREATED:20260426T033803Z
DTSTART:20111210T020500Z
DTEND:20111210T025500Z
LOCATION:Field   ID 3
CONTACT:
SUMMARY:Real Tired VS. High Tide
DESCRIPTION:League Name: Fall Indoor 2011  Coed 40+\nGame Type: Regular\nGa
 me Status: Complete\nHome Team: Real Tired\nAway Team: High Tide\nHome Sco
 re: 7\nAway Score: 2
END:VEVENT
BEGIN:VEVENT
UID:4319686@ezleagues.ezfacility.com
DTSTAMP:20260426T033803Z
CREATED:20260426T033803Z
DTSTART:20111217T035500Z
DTEND:20111217T044500Z
LOCATION:Field   ID 1
CONTACT:
SUMMARY:High Tide VS. Olentangy United
DESCRIPTION:League Name: Fall Indoor 2011  Coed 40+\nGame Type: Regular\nGa
 me Status: Complete\nHome Team: High Tide\nAway Team: Olentangy United\nHo
 me Score: 4\nAway Score: 2
END:VEVENT
BEGIN:VEVENT
UID:4319690@ezleagues.ezfacility.com
DTSTAMP:20260426T033803Z
CREATED:20260426T033803Z
DTSTART:20111224T011000Z
DTEND:20111224T020000Z
LOCATION:Field   ID 2
CONTACT:
SUMMARY:2 1/2 Men VS. High Tide
DESCRIPTION:League Name: Fall Indoor 2011  Coed 40+\nGame Type: Regular\nGa
 me Status: Complete\nHome Team: 2 1/2 Men\nAway Team: High Tide\nHome Scor
 e: 4\nAway Score: 9
END:VEVENT
END:VCALENDAR
