BEGIN:VCALENDAR
VERSION:2.0
PRODID:-//EZFacility.com, Inc.//EZL 2.5.5.28621
BEGIN:VEVENT
UID:4319116@ezleagues.ezfacility.com
DTSTAMP:20260426T033803Z
CREATED:20260426T033803Z
DTSTART:20111022T010500Z
DTEND:20111022T015500Z
LOCATION:Field   ID 1
CONTACT:
SUMMARY:Real Tired VS. Rip Tide
DESCRIPTION:League Name: Fall Indoor 2011  Coed 40+\nGame Type: Regular\nGa
 me Status: Complete\nHome Team: Real Tired\nAway Team: Rip Tide\nHome Scor
 e: 10\nAway Score: 2
END:VEVENT
BEGIN:VEVENT
UID:4319420@ezleagues.ezfacility.com
DTSTAMP:20260426T033803Z
CREATED:20260426T033803Z
DTSTART:20111029T020000Z
DTEND:20111029T025000Z
LOCATION:Field   ID 1
CONTACT:
SUMMARY:Real Tired VS. 2 1/2 Men
DESCRIPTION:League Name: Fall Indoor 2011  Coed 40+\nGame Type: Regular\nGa
 me Status: Complete\nHome Team: Real Tired\nAway Team: 2 1/2 Men\nHome Sco
 re: 4\nAway Score: 4
END:VEVENT
BEGIN:VEVENT
UID:4319480@ezleagues.ezfacility.com
DTSTAMP:20260426T033803Z
CREATED:20260426T033803Z
DTSTART:20111105T025500Z
DTEND:20111105T034500Z
LOCATION:Field   ID 3
CONTACT:
SUMMARY:Real Tired VS. Quasars
DESCRIPTION:League Name: Fall Indoor 2011  Coed 40+\nGame Type: Regular\nGa
 me Status: Complete\nHome Team: Real Tired\nAway Team: Quasars\nHome Score
 : 3\nAway Score: 4
END:VEVENT
BEGIN:VEVENT
UID:4319484@ezleagues.ezfacility.com
DTSTAMP:20260426T033803Z
CREATED:20260426T033803Z
DTSTART:20111112T011000Z
DTEND:20111112T020000Z
LOCATION:Field   ID 1
CONTACT:
SUMMARY:Chaos VS. Real Tired
DESCRIPTION:League Name: Fall Indoor 2011  Coed 40+\nGame Type: Regular\nGa
 me Status: Complete\nHome Team: Chaos\nAway Team: Real Tired\nHome Score: 
 3\nAway Score: 3
END:VEVENT
BEGIN:VEVENT
UID:4319543@ezleagues.ezfacility.com
DTSTAMP:20260426T033803Z
CREATED:20260426T033803Z
DTSTART:20111119T001500Z
DTEND:20111119T010500Z
LOCATION:Field   ID 1
CONTACT:
SUMMARY:Cosmos VS. Real Tired
DESCRIPTION:League Name: Fall Indoor 2011  Coed 40+\nGame Type: Regular\nGa
 me Status: Complete\nHome Team: Cosmos\nAway Team: Real Tired\nHome Score:
  6\nAway Score: 5
END:VEVENT
BEGIN:VEVENT
UID:4319659@ezleagues.ezfacility.com
DTSTAMP:20260426T033803Z
CREATED:20260426T033803Z
DTSTART:20111203T011000Z
DTEND:20111203T020000Z
LOCATION:Field   ID 2
CONTACT:
SUMMARY:Maybe We'll Get Lucky VS. Real Tired
DESCRIPTION:League Name: Fall Indoor 2011  Coed 40+\nGame Type: Regular\nGa
 me Status: Complete\nHome Team: Maybe We'll Get Lucky\nAway Team: Real Tir
 ed\nHome Score: 6\nAway Score: 4
END:VEVENT
BEGIN:VEVENT
UID:4319672@ezleagues.ezfacility.com
DTSTAMP:20260426T033803Z
CREATED:20260426T033803Z
DTSTART:20111210T020500Z
DTEND:20111210T025500Z
LOCATION:Field   ID 3
CONTACT:
SUMMARY:Real Tired VS. High Tide
DESCRIPTION:League Name: Fall Indoor 2011  Coed 40+\nGame Type: Regular\nGa
 me Status: Complete\nHome Team: Real Tired\nAway Team: High Tide\nHome Sco
 re: 7\nAway Score: 2
END:VEVENT
BEGIN:VEVENT
UID:4319678@ezleagues.ezfacility.com
DTSTAMP:20260426T033803Z
CREATED:20260426T033803Z
DTSTART:20111216T232000Z
DTEND:20111217T001000Z
LOCATION:Field   ID 1
CONTACT:
SUMMARY:Real Tired VS. Antiques
DESCRIPTION:League Name: Fall Indoor 2011  Coed 40+\nGame Type: Regular\nGa
 me Status: Complete\nHome Team: Real Tired\nAway Team: Antiques\nHome Scor
 e: 1\nAway Score: 12
END:VEVENT
BEGIN:VEVENT
UID:4319694@ezleagues.ezfacility.com
DTSTAMP:20260426T033803Z
CREATED:20260426T033803Z
DTSTART:20111224T030000Z
DTEND:20111224T035000Z
LOCATION:Field   ID 3
CONTACT:
SUMMARY:Pale Ales VS. Real Tired
DESCRIPTION:League Name: Fall Indoor 2011  Coed 40+\nGame Type: Regular\nGa
 me Status: Complete\nHome Team: Pale Ales\nAway Team: Real Tired\nHome Sco
 re: 1\nAway Score: 9
END:VEVENT
END:VCALENDAR
