BEGIN:VCALENDAR
VERSION:2.0
PRODID:-//EZFacility.com, Inc.//EZL 2.5.5.28621
BEGIN:VEVENT
UID:4336105@ezleagues.ezfacility.com
DTSTAMP:20260419T204551Z
CREATED:20260419T204551Z
DTSTART:20111027T025500Z
DTEND:20111027T035000Z
LOCATION:Field   ID 1
CONTACT:
SUMMARY:Fiascos FC VS. The Hotshots
DESCRIPTION:League Name: Fall Indoor 2011 Men's 0pen  South\nGame Type: Reg
 ular\nGame Status: Complete\nHome Team: Fiascos FC\nAway Team: The Hotshot
 s\nHome Score: 14\nAway Score: 6
END:VEVENT
BEGIN:VEVENT
UID:4348871@ezleagues.ezfacility.com
DTSTAMP:20260419T204551Z
CREATED:20260419T204551Z
DTSTART:20111102T231500Z
DTEND:20111103T001000Z
LOCATION:Field   ID 1
CONTACT:
SUMMARY:The Hotshots VS. Barcelona Juniors
DESCRIPTION:League Name: Fall Indoor 2011 Men's 0pen  South\nGame Type: Reg
 ular\nGame Status: Complete\nHome Team: The Hotshots\nAway Team: Barcelona
  Juniors\nHome Score: 1\nAway Score: 21
END:VEVENT
BEGIN:VEVENT
UID:4348944@ezleagues.ezfacility.com
DTSTAMP:20260419T204551Z
CREATED:20260419T204551Z
DTSTART:20111110T030000Z
DTEND:20111110T035500Z
LOCATION:Field   ID 3
CONTACT:
SUMMARY:Vinegar Strokes VS. The Hotshots
DESCRIPTION:League Name: Fall Indoor 2011 Men's 0pen  South\nGame Type: Reg
 ular\nGame Status: Complete\nHome Team: Vinegar Strokes\nAway Team: The Ho
 tshots\nHome Score: 18\nAway Score: 1
END:VEVENT
BEGIN:VEVENT
UID:4348971@ezleagues.ezfacility.com
DTSTAMP:20260419T204551Z
CREATED:20260419T204551Z
DTSTART:20111117T020500Z
DTEND:20111117T030000Z
LOCATION:Field   ID 1
CONTACT:
SUMMARY:The Hotshots VS. Older Spice
DESCRIPTION:League Name: Fall Indoor 2011 Men's 0pen  South\nGame Type: Reg
 ular\nGame Status: Complete\nHome Team: The Hotshots\nAway Team: Older Spi
 ce\nHome Score: 1\nAway Score: 13
END:VEVENT
BEGIN:VEVENT
UID:4348975@ezleagues.ezfacility.com
DTSTAMP:20260419T204551Z
CREATED:20260419T204551Z
DTSTART:20111124T001500Z
DTEND:20111124T011000Z
LOCATION:Field   ID 2
CONTACT:
SUMMARY:Jamal's Squad VS. The Hotshots
DESCRIPTION:League Name: Fall Indoor 2011 Men's 0pen  South\nGame Type: Reg
 ular\nGame Status: Complete\nHome Team: Jamal's Squad\nAway Team: The Hots
 hots\nHome Score: 13\nAway Score: 1
END:VEVENT
BEGIN:VEVENT
UID:4349021@ezleagues.ezfacility.com
DTSTAMP:20260419T204551Z
CREATED:20260419T204551Z
DTSTART:20111208T035500Z
DTEND:20111208T045000Z
LOCATION:Field   ID 3
CONTACT:
SUMMARY:The Hotshots VS. FC Gunners A
DESCRIPTION:League Name: Fall Indoor 2011 Men's 0pen  South\nGame Type: Reg
 ular\nGame Status: Complete\nHome Team: The Hotshots\nAway Team: FC Gunner
 s A\nHome Score: 2\nAway Score: 15
END:VEVENT
BEGIN:VEVENT
UID:4349028@ezleagues.ezfacility.com
DTSTAMP:20260419T204551Z
CREATED:20260419T204551Z
DTSTART:20111215T020500Z
DTEND:20111215T030000Z
LOCATION:Field   ID 3
CONTACT:
SUMMARY:40 Thieves VS. The Hotshots
DESCRIPTION:League Name: Fall Indoor 2011 Men's 0pen  South\nGame Type: Reg
 ular\nGame Status: Complete\nHome Team: 40 Thieves\nAway Team: The Hotshot
 s\nHome Score: 13\nAway Score: 2
END:VEVENT
BEGIN:VEVENT
UID:4349039@ezleagues.ezfacility.com
DTSTAMP:20260419T204551Z
CREATED:20260419T204551Z
DTSTART:20111222T030000Z
DTEND:20111222T035500Z
LOCATION:Field   ID 1
CONTACT:
SUMMARY:The Hotshots VS. Toros
DESCRIPTION:League Name: Fall Indoor 2011 Men's 0pen  South\nGame Type: Reg
 ular\nGame Status: Complete\nHome Team: The Hotshots\nAway Team: Toros\nHo
 me Score: 4\nAway Score: 12
END:VEVENT
BEGIN:VEVENT
UID:4349042@ezleagues.ezfacility.com
DTSTAMP:20260419T204551Z
CREATED:20260419T204551Z
DTSTART:20111229T011000Z
DTEND:20111229T020500Z
LOCATION:Field   ID 1
CONTACT:
SUMMARY:Lee Aliakbar Express VS. The Hotshots
DESCRIPTION:League Name: Fall Indoor 2011 Men's 0pen  South\nGame Type: Reg
 ular\nGame Status: Complete\nHome Team: Lee Aliakbar Express\nAway Team: T
 he Hotshots\nHome Score: 10\nAway Score: 3
END:VEVENT
END:VCALENDAR
