BEGIN:VCALENDAR
VERSION:2.0
PRODID:-//EZFacility.com, Inc.//EZL 2.5.5.28621
BEGIN:VEVENT
UID:4341952@ezleagues.ezfacility.com
DTSTAMP:20260424T044414Z
CREATED:20260424T044414Z
DTSTART:20111029T204000Z
DTEND:20111029T213000Z
LOCATION:Field   ID 1
CONTACT:
SUMMARY:Aztecas VS. Hombres
DESCRIPTION:League Name: Fall Indoor 2011 Boy's U-15/U-16\nGame Type: Regul
 ar\nGame Status: Complete\nHome Team: Aztecas\nAway Team: Hombres\nHome Sc
 ore: 1\nAway Score: 5
END:VEVENT
BEGIN:VEVENT
UID:4341954@ezleagues.ezfacility.com
DTSTAMP:20260424T044414Z
CREATED:20260424T044414Z
DTSTART:20111105T175500Z
DTEND:20111105T184500Z
LOCATION:Field   ID 1
CONTACT:
SUMMARY:Hombres VS. HFC Blue Fury
DESCRIPTION:League Name: Fall Indoor 2011 Boy's U-15/U-16\nGame Type: Regul
 ar\nGame Status: Complete\nHome Team: Hombres\nAway Team: HFC Blue Fury\nH
 ome Score: 3\nAway Score: 1
END:VEVENT
BEGIN:VEVENT
UID:4341982@ezleagues.ezfacility.com
DTSTAMP:20260424T044414Z
CREATED:20260424T044414Z
DTSTART:20111112T214000Z
DTEND:20111112T223000Z
LOCATION:Field   ID 1
CONTACT:
SUMMARY:Hilliard Jags VS. Hombres
DESCRIPTION:League Name: Fall Indoor 2011 Boy's U-15/U-16\nGame Type: Regul
 ar\nGame Status: Complete\nHome Team: Hilliard Jags\nAway Team: Hombres\nH
 ome Score: 2\nAway Score: 12
END:VEVENT
BEGIN:VEVENT
UID:4341985@ezleagues.ezfacility.com
DTSTAMP:20260424T044414Z
CREATED:20260424T044414Z
DTSTART:20111119T214000Z
DTEND:20111119T223000Z
LOCATION:Field   ID 1
CONTACT:
SUMMARY:Hombres VS. UA United
DESCRIPTION:League Name: Fall Indoor 2011 Boy's U-15/U-16\nGame Type: Regul
 ar\nGame Status: Complete\nHome Team: Hombres\nAway Team: UA United\nHome 
 Score: 7\nAway Score: 3
END:VEVENT
BEGIN:VEVENT
UID:4341987@ezleagues.ezfacility.com
DTSTAMP:20260424T044414Z
CREATED:20260424T044414Z
DTSTART:20111126T195000Z
DTEND:20111126T204000Z
LOCATION:Field   ID 1
CONTACT:
SUMMARY:JASA VS. Hombres
DESCRIPTION:League Name: Fall Indoor 2011 Boy's U-15/U-16\nGame Type: Regul
 ar\nGame Status: Complete\nHome Team: JASA\nAway Team: Hombres\nHome Score
 : 2\nAway Score: 6
END:VEVENT
BEGIN:VEVENT
UID:4341995@ezleagues.ezfacility.com
DTSTAMP:20260424T044414Z
CREATED:20260424T044414Z
DTSTART:20111203T214000Z
DTEND:20111203T223000Z
LOCATION:Field   ID 1
CONTACT:
SUMMARY:Hombres VS. SBSA Green
DESCRIPTION:League Name: Fall Indoor 2011 Boy's U-15/U-16\nGame Type: Regul
 ar\nGame Status: Complete\nHome Team: Hombres\nAway Team: SBSA Green\nHome
  Score: 1\nAway Score: 3
END:VEVENT
BEGIN:VEVENT
UID:4341997@ezleagues.ezfacility.com
DTSTAMP:20260424T044414Z
CREATED:20260424T044414Z
DTSTART:20111210T204500Z
DTEND:20111210T213500Z
LOCATION:Field   ID 1
CONTACT:
SUMMARY:SBSA White VS. Hombres
DESCRIPTION:League Name: Fall Indoor 2011 Boy's U-15/U-16\nGame Type: Regul
 ar\nGame Status: Complete\nHome Team: SBSA White\nAway Team: Hombres\nHome
  Score: 4\nAway Score: 3
END:VEVENT
BEGIN:VEVENT
UID:4342001@ezleagues.ezfacility.com
DTSTAMP:20260424T044414Z
CREATED:20260424T044414Z
DTSTART:20111212T232000Z
DTEND:20111213T001000Z
LOCATION:Field   ID 1
CONTACT:
SUMMARY:Hombres VS. Aztecas
DESCRIPTION:League Name: Fall Indoor 2011 Boy's U-15/U-16\nGame Type: Regul
 ar\nGame Status: Complete\nHome Team: Hombres\nAway Team: Aztecas\nHome Sc
 ore: 4\nAway Score: 6
END:VEVENT
BEGIN:VEVENT
UID:4342006@ezleagues.ezfacility.com
DTSTAMP:20260424T044414Z
CREATED:20260424T044414Z
DTSTART:20111220T011000Z
DTEND:20111220T020000Z
LOCATION:Field   ID 1
CONTACT:
SUMMARY:HFC Blue Fury VS. Hombres
DESCRIPTION:League Name: Fall Indoor 2011 Boy's U-15/U-16\nGame Type: Regul
 ar\nGame Status: Complete\nHome Team: HFC Blue Fury\nAway Team: Hombres\nH
 ome Score: 5\nAway Score: 6
END:VEVENT
END:VCALENDAR
