BEGIN:VCALENDAR
VERSION:2.0
PRODID:-//EZFacility.com, Inc.//EZL 2.5.5.28621
BEGIN:VEVENT
UID:4342577@ezleagues.ezfacility.com
DTSTAMP:20260424T043237Z
CREATED:20260424T043237Z
DTSTART:20111026T020000Z
DTEND:20111026T025500Z
LOCATION:Field   ID 1
CONTACT:
SUMMARY:Columbus Screw VS. Inishmore Knights
DESCRIPTION:League Name: Fall Indoor 2011 Men's 0pen West\nGame Type: Regul
 ar\nGame Status: Complete\nHome Team: Columbus Screw\nAway Team: Inishmore
  Knights\nHome Score: 1\nAway Score: 12
END:VEVENT
BEGIN:VEVENT
UID:4342582@ezleagues.ezfacility.com
DTSTAMP:20260424T043237Z
CREATED:20260424T043237Z
DTSTART:20111102T001000Z
DTEND:20111102T010500Z
LOCATION:Field   ID 1
CONTACT:
SUMMARY:Free Agents VS. Columbus Screw
DESCRIPTION:League Name: Fall Indoor 2011 Men's 0pen West\nGame Type: Regul
 ar\nGame Status: Complete\nHome Team: Free Agents\nAway Team: Columbus Scr
 ew\nHome Score: 1\nAway Score: 5
END:VEVENT
BEGIN:VEVENT
UID:4342587@ezleagues.ezfacility.com
DTSTAMP:20260424T043237Z
CREATED:20260424T043237Z
DTSTART:20111109T020500Z
DTEND:20111109T030000Z
LOCATION:Field   ID 1
CONTACT:
SUMMARY:Buenas Noches VS. Columbus Screw
DESCRIPTION:League Name: Fall Indoor 2011 Men's 0pen West\nGame Type: Regul
 ar\nGame Status: Complete\nHome Team: Buenas Noches\nAway Team: Columbus S
 crew\nHome Score: 14\nAway Score: 0
END:VEVENT
BEGIN:VEVENT
UID:4342595@ezleagues.ezfacility.com
DTSTAMP:20260424T043237Z
CREATED:20260424T043237Z
DTSTART:20111116T035500Z
DTEND:20111116T045000Z
LOCATION:Field   ID 3
CONTACT:
SUMMARY:Columbus Screw VS. Purple Diamonds
DESCRIPTION:League Name: Fall Indoor 2011 Men's 0pen West\nGame Type: Regul
 ar\nGame Status: Complete\nHome Team: Columbus Screw\nAway Team: Purple Di
 amonds\nHome Score: 1\nAway Score: 6
END:VEVENT
BEGIN:VEVENT
UID:4342598@ezleagues.ezfacility.com
DTSTAMP:20260424T043237Z
CREATED:20260424T043237Z
DTSTART:20111123T020500Z
DTEND:20111123T030000Z
LOCATION:Field   ID 1
CONTACT:
SUMMARY:Manchestnuts United VS. Columbus Screw
DESCRIPTION:League Name: Fall Indoor 2011 Men's 0pen West\nGame Type: Regul
 ar\nGame Status: Complete\nHome Team: Manchestnuts United\nAway Team: Colu
 mbus Screw\nHome Score: 2\nAway Score: 1
END:VEVENT
BEGIN:VEVENT
UID:4342601@ezleagues.ezfacility.com
DTSTAMP:20260424T043237Z
CREATED:20260424T043237Z
DTSTART:20111130T001500Z
DTEND:20111130T011000Z
LOCATION:Field   ID 3
CONTACT:
SUMMARY:Columbus Screw VS. Jonnys FC
DESCRIPTION:League Name: Fall Indoor 2011 Men's 0pen West\nGame Type: Regul
 ar\nGame Status: Complete\nHome Team: Columbus Screw\nAway Team: Jonnys FC
 \nHome Score: 1\nAway Score: 2
END:VEVENT
BEGIN:VEVENT
UID:4342608@ezleagues.ezfacility.com
DTSTAMP:20260424T043237Z
CREATED:20260424T043237Z
DTSTART:20111207T030000Z
DTEND:20111207T035500Z
LOCATION:Field   ID 1
CONTACT:
SUMMARY:HTH VS. Columbus Screw
DESCRIPTION:League Name: Fall Indoor 2011 Men's 0pen West\nGame Type: Regul
 ar\nGame Status: Complete\nHome Team: HTH\nAway Team: Columbus Screw\nHome
  Score: 11\nAway Score: 2
END:VEVENT
BEGIN:VEVENT
UID:4342619@ezleagues.ezfacility.com
DTSTAMP:20260424T043237Z
CREATED:20260424T043237Z
DTSTART:20111221T030000Z
DTEND:20111221T035500Z
LOCATION:Field   ID 1
CONTACT:
SUMMARY:Columbus Screw VS. Blue Steel
DESCRIPTION:League Name: Fall Indoor 2011 Men's 0pen West\nGame Type: Regul
 ar\nGame Status: Complete\nHome Team: Columbus Screw\nAway Team: Blue Stee
 l\nHome Score: 9\nAway Score: 5
END:VEVENT
BEGIN:VEVENT
UID:4342623@ezleagues.ezfacility.com
DTSTAMP:20260424T043237Z
CREATED:20260424T043237Z
DTSTART:20120104T001500Z
DTEND:20120104T011000Z
LOCATION:Field   ID 1
CONTACT:
SUMMARY:NWA VS. Columbus Screw
DESCRIPTION:League Name: Fall Indoor 2011 Men's 0pen West\nGame Type: Regul
 ar\nGame Status: Complete\nHome Team: NWA\nAway Team: Columbus Screw\nHome
  Score: 10\nAway Score: 9
END:VEVENT
END:VCALENDAR
