BEGIN:VCALENDAR
VERSION:2.0
PRODID:-//EZFacility.com, Inc.//EZL 2.5.5.28621
BEGIN:VEVENT
UID:4728552@ezleagues.ezfacility.com
DTSTAMP:20260423T014207Z
CREATED:20260423T014207Z
DTSTART:20120225T025500Z
DTEND:20120225T035000Z
LOCATION:Hockey Rink
CONTACT:
SUMMARY:Your Mom VS. WTP?
DESCRIPTION:League Name: NYS Hockey Fri Coed\nGame Type: Regular\nGame Stat
 us: Complete\nHome Team: Your Mom\nAway Team: WTP?\nHome Score: 1\nAway Sc
 ore: 3
END:VEVENT
BEGIN:VEVENT
UID:4728555@ezleagues.ezfacility.com
DTSTAMP:20260423T014207Z
CREATED:20260423T014207Z
DTSTART:20120303T035000Z
DTEND:20120303T044500Z
LOCATION:Hockey Rink
CONTACT:
SUMMARY:KnuckleDraggers VS. Your Mom
DESCRIPTION:League Name: NYS Hockey Fri Coed\nGame Type: Regular\nGame Stat
 us: Complete\nHome Team: KnuckleDraggers\nAway Team: Your Mom\nHome Score:
  4\nAway Score: 3
END:VEVENT
BEGIN:VEVENT
UID:4728560@ezleagues.ezfacility.com
DTSTAMP:20260423T014207Z
CREATED:20260423T014207Z
DTSTART:20120310T020000Z
DTEND:20120310T025500Z
LOCATION:Hockey Rink
CONTACT:
SUMMARY:Your Mom VS. Hawks
DESCRIPTION:League Name: NYS Hockey Fri Coed\nGame Type: Regular\nGame Stat
 us: Complete\nHome Team: Your Mom\nAway Team: Hawks\nHome Score: 1\nAway S
 core: 2
END:VEVENT
BEGIN:VEVENT
UID:4728570@ezleagues.ezfacility.com
DTSTAMP:20260423T014207Z
CREATED:20260423T014207Z
DTSTART:20120324T020000Z
DTEND:20120324T025500Z
LOCATION:Hockey Rink
CONTACT:
SUMMARY:Your Mom VS. BIF
DESCRIPTION:League Name: NYS Hockey Fri Coed\nGame Type: Regular\nGame Stat
 us: Complete\nHome Team: Your Mom\nAway Team: BIF\nHome Score: 5\nAway Sco
 re: 5
END:VEVENT
BEGIN:VEVENT
UID:4728574@ezleagues.ezfacility.com
DTSTAMP:20260423T014207Z
CREATED:20260423T014207Z
DTSTART:20120331T025500Z
DTEND:20120331T035000Z
LOCATION:Hockey Rink
CONTACT:
SUMMARY:Cereal Killers VS. Your Mom
DESCRIPTION:League Name: NYS Hockey Fri Coed\nGame Type: Regular\nGame Stat
 us: Complete\nHome Team: Cereal Killers\nAway Team: Your Mom\nHome Score: 
 1\nAway Score: 3
END:VEVENT
BEGIN:VEVENT
UID:4728565@ezleagues.ezfacility.com
DTSTAMP:20260423T014207Z
CREATED:20260423T014207Z
DTSTART:20120414T044500Z
DTEND:20120414T054000Z
LOCATION:Hockey Rink
CONTACT:
SUMMARY:Your Mom VS. Dust Bunnies
DESCRIPTION:League Name: NYS Hockey Fri Coed\nGame Type: Regular\nGame Stat
 us: Complete\nHome Team: Your Mom\nAway Team: Dust Bunnies\nHome Score: 3\
 nAway Score: 7
END:VEVENT
BEGIN:VEVENT
UID:4728583@ezleagues.ezfacility.com
DTSTAMP:20260423T014207Z
CREATED:20260423T014207Z
DTSTART:20120421T035000Z
DTEND:20120421T044500Z
LOCATION:Hockey Rink
CONTACT:
SUMMARY:KnuckleDraggers VS. Your Mom
DESCRIPTION:League Name: NYS Hockey Fri Coed\nGame Type: Regular\nGame Stat
 us: Complete\nHome Team: KnuckleDraggers\nAway Team: Your Mom\nHome Score:
  7\nAway Score: 5
END:VEVENT
BEGIN:VEVENT
UID:4728577@ezleagues.ezfacility.com
DTSTAMP:20260423T014207Z
CREATED:20260423T014207Z
DTSTART:20120428T020000Z
DTEND:20120428T025500Z
LOCATION:Hockey Rink
CONTACT:
SUMMARY:JPA VS. Your Mom
DESCRIPTION:League Name: NYS Hockey Fri Coed\nGame Type: Regular\nGame Stat
 us: Complete\nHome Team: JPA\nAway Team: Your Mom\nHome Score: 6\nAway Sco
 re: 4
END:VEVENT
BEGIN:VEVENT
UID:4728581@ezleagues.ezfacility.com
DTSTAMP:20260423T014207Z
CREATED:20260423T014207Z
DTSTART:20120505T020000Z
DTEND:20120505T025500Z
LOCATION:Hockey Rink
CONTACT:
SUMMARY:Your Mom VS. Cereal Killers
DESCRIPTION:League Name: NYS Hockey Fri Coed\nGame Type: Regular\nGame Stat
 us: Complete\nHome Team: Your Mom\nAway Team: Cereal Killers\nHome Score: 
 1\nAway Score: 2
END:VEVENT
BEGIN:VEVENT
UID:4546951@ezleagues.ezfacility.com
DTSTAMP:20260423T014207Z
CREATED:20260423T014207Z
DTSTART:20120512T025500Z
DTEND:20120512T035000Z
LOCATION:Hockey Rink
CONTACT:
SUMMARY:WTP? VS. Your Mom
DESCRIPTION:League Name: NYS Hockey Fri Coed\nGame Type: Postseason\nGame S
 tatus: Complete\nHome Team: WTP?\nAway Team: Your Mom\nHome Score: 5\nAway
  Score: 3
END:VEVENT
BEGIN:VEVENT
UID:4546963@ezleagues.ezfacility.com
DTSTAMP:20260423T014207Z
CREATED:20260423T014207Z
DTSTART:20120519T020000Z
DTEND:20120519T025500Z
LOCATION:Hockey Rink
CONTACT:
SUMMARY:Your Mom VS. Cereal Killers
DESCRIPTION:League Name: NYS Hockey Fri Coed\nGame Type: Postseason\nGame S
 tatus: Complete\nHome Team: Your Mom\nAway Team: Cereal Killers\nHome Scor
 e: 5\nAway Score: 4
END:VEVENT
END:VCALENDAR
