BEGIN:VCALENDAR
VERSION:2.0
PRODID:-//EZFacility.com, Inc.//EZL 2.5.5.28621
BEGIN:VEVENT
UID:4638230@ezleagues.ezfacility.com
DTSTAMP:20260426T034849Z
CREATED:20260426T034849Z
DTSTART:20120114T233000Z
DTEND:20120115T002500Z
LOCATION:Field   ID 1
CONTACT:
SUMMARY:Back In Black VS. Hilliard Jaguars
DESCRIPTION:League Name: Winter Indoor 2012 Boy's U-14\nGame Type: Regular\
 nGame Status: Complete\nHome Team: Back In Black\nAway Team: Hilliard Jagu
 ars\nHome Score: 6\nAway Score: 15
END:VEVENT
BEGIN:VEVENT
UID:4638234@ezleagues.ezfacility.com
DTSTAMP:20260426T034849Z
CREATED:20260426T034849Z
DTSTART:20120121T233000Z
DTEND:20120122T002500Z
LOCATION:Field   ID 1
CONTACT:
SUMMARY:Hilliard Jaguars VS. Blackpool
DESCRIPTION:League Name: Winter Indoor 2012 Boy's U-14\nGame Type: Regular\
 nGame Status: Complete\nHome Team: Hilliard Jaguars\nAway Team: Blackpool\
 nHome Score: 2\nAway Score: 13
END:VEVENT
BEGIN:VEVENT
UID:4638244@ezleagues.ezfacility.com
DTSTAMP:20260426T034849Z
CREATED:20260426T034849Z
DTSTART:20120129T002500Z
DTEND:20120129T012000Z
LOCATION:Field   ID 1
CONTACT:
SUMMARY:Delaware Knights VS. Hilliard Jaguars
DESCRIPTION:League Name: Winter Indoor 2012 Boy's U-14\nGame Type: Regular\
 nGame Status: Complete\nHome Team: Delaware Knights\nAway Team: Hilliard J
 aguars\nHome Score: 5\nAway Score: 5
END:VEVENT
BEGIN:VEVENT
UID:4638246@ezleagues.ezfacility.com
DTSTAMP:20260426T034849Z
CREATED:20260426T034849Z
DTSTART:20120204T233000Z
DTEND:20120205T002500Z
LOCATION:Field   ID 2
CONTACT:
SUMMARY:Hilliard Jaguars VS. Dublin Strikers
DESCRIPTION:League Name: Winter Indoor 2012 Boy's U-14\nGame Type: Regular\
 nGame Status: Complete\nHome Team: Hilliard Jaguars\nAway Team: Dublin Str
 ikers\nHome Score: 1\nAway Score: 11
END:VEVENT
BEGIN:VEVENT
UID:4638300@ezleagues.ezfacility.com
DTSTAMP:20260426T034849Z
CREATED:20260426T034849Z
DTSTART:20120211T233000Z
DTEND:20120212T002500Z
LOCATION:Field   ID 2
CONTACT:
SUMMARY:Dublin United VS. Hilliard Jaguars
DESCRIPTION:League Name: Winter Indoor 2012 Boy's U-14\nGame Type: Regular\
 nGame Status: Complete\nHome Team: Dublin United\nAway Team: Hilliard Jagu
 ars\nHome Score: 7\nAway Score: 6
END:VEVENT
BEGIN:VEVENT
UID:4638306@ezleagues.ezfacility.com
DTSTAMP:20260426T034849Z
CREATED:20260426T034849Z
DTSTART:20120218T233000Z
DTEND:20120219T002500Z
LOCATION:Field   ID 1
CONTACT:
SUMMARY:Hilliard Jaguars VS. Hastings Bear 8
DESCRIPTION:League Name: Winter Indoor 2012 Boy's U-14\nGame Type: Regular\
 nGame Status: Complete\nHome Team: Hilliard Jaguars\nAway Team: Hastings B
 ear 8\nHome Score: 5\nAway Score: 7
END:VEVENT
BEGIN:VEVENT
UID:4638319@ezleagues.ezfacility.com
DTSTAMP:20260426T034849Z
CREATED:20260426T034849Z
DTSTART:20120226T002500Z
DTEND:20120226T012000Z
LOCATION:Field   ID 2
CONTACT:
SUMMARY:HFC Blue VS. Hilliard Jaguars
DESCRIPTION:League Name: Winter Indoor 2012 Boy's U-14\nGame Type: Regular\
 nGame Status: Complete\nHome Team: HFC Blue\nAway Team: Hilliard Jaguars\n
 Home Score: 6\nAway Score: 1
END:VEVENT
BEGIN:VEVENT
UID:4638327@ezleagues.ezfacility.com
DTSTAMP:20260426T034849Z
CREATED:20260426T034849Z
DTSTART:20120305T222500Z
DTEND:20120305T232000Z
LOCATION:Field   ID 2
CONTACT:
SUMMARY:Hilliard Jaguars VS. Club Ohio Arsenal
DESCRIPTION:League Name: Winter Indoor 2012 Boy's U-14\nGame Type: Regular\
 nGame Status: Complete\nHome Team: Hilliard Jaguars\nAway Team: Club Ohio 
 Arsenal\nHome Score: 4\nAway Score: 5
END:VEVENT
BEGIN:VEVENT
UID:4638336@ezleagues.ezfacility.com
DTSTAMP:20260426T034849Z
CREATED:20260426T034849Z
DTSTART:20120312T222000Z
DTEND:20120312T231500Z
LOCATION:Field   ID 1
CONTACT:
SUMMARY:Hilliard Jaguars VS. Marysville Blast
DESCRIPTION:League Name: Winter Indoor 2012 Boy's U-14\nGame Type: Regular\
 nGame Status: Complete\nHome Team: Hilliard Jaguars\nAway Team: Marysville
  Blast\nHome Score: 10\nAway Score: 4
END:VEVENT
END:VCALENDAR
