BEGIN:VCALENDAR
VERSION:2.0
PRODID:-//EZFacility.com, Inc.//EZL 2.5.5.28621
BEGIN:VEVENT
UID:4642840@ezleagues.ezfacility.com
DTSTAMP:20260426T034829Z
CREATED:20260426T034829Z
DTSTART:20120114T123000Z
DTEND:20120114T132500Z
LOCATION:Field   ID 1
CONTACT:
SUMMARY:Dingoes VS. Pink Cheetahs
DESCRIPTION:League Name: Winter Indoor 2012 Girl's  U-07/08\nGame Type: Reg
 ular\nGame Status: Complete\nHome Team: Dingoes\nAway Team: Pink Cheetahs\
 nHome Score: 10\nAway Score: 2
END:VEVENT
BEGIN:VEVENT
UID:4642852@ezleagues.ezfacility.com
DTSTAMP:20260426T034829Z
CREATED:20260426T034829Z
DTSTART:20120121T132500Z
DTEND:20120121T142000Z
LOCATION:Field   ID 1
CONTACT:
SUMMARY:SF Academy Navy VS. Dingoes
DESCRIPTION:League Name: Winter Indoor 2012 Girl's  U-07/08\nGame Type: Reg
 ular\nGame Status: Complete\nHome Team: SF Academy Navy\nAway Team: Dingoe
 s\nHome Score: 1\nAway Score: 6
END:VEVENT
BEGIN:VEVENT
UID:4642868@ezleagues.ezfacility.com
DTSTAMP:20260426T034829Z
CREATED:20260426T034829Z
DTSTART:20120128T142000Z
DTEND:20120128T151500Z
LOCATION:Field   ID 1
CONTACT:
SUMMARY:Dingoes VS. SoundQuakes
DESCRIPTION:League Name: Winter Indoor 2012 Girl's  U-07/08\nGame Type: Reg
 ular\nGame Status: Complete\nHome Team: Dingoes\nAway Team: SoundQuakes\nH
 ome Score: 6\nAway Score: 3
END:VEVENT
BEGIN:VEVENT
UID:4642920@ezleagues.ezfacility.com
DTSTAMP:20260426T034829Z
CREATED:20260426T034829Z
DTSTART:20120204T123000Z
DTEND:20120204T132500Z
LOCATION:Field   ID 1
CONTACT:
SUMMARY:Club Ohio Sky VS. Dingoes
DESCRIPTION:League Name: Winter Indoor 2012 Girl's  U-07/08\nGame Type: Reg
 ular\nGame Status: Complete\nHome Team: Club Ohio Sky\nAway Team: Dingoes\
 nHome Score: 8\nAway Score: 0
END:VEVENT
BEGIN:VEVENT
UID:4642957@ezleagues.ezfacility.com
DTSTAMP:20260426T034829Z
CREATED:20260426T034829Z
DTSTART:20120211T180000Z
DTEND:20120211T185500Z
LOCATION:Field   ID 1
CONTACT:
SUMMARY:CFC Magic VS. Dingoes
DESCRIPTION:League Name: Winter Indoor 2012 Girl's  U-07/08\nGame Type: Reg
 ular\nGame Status: Complete\nHome Team: CFC Magic\nAway Team: Dingoes\nHom
 e Score: 3\nAway Score: 2
END:VEVENT
BEGIN:VEVENT
UID:4642980@ezleagues.ezfacility.com
DTSTAMP:20260426T034829Z
CREATED:20260426T034829Z
DTSTART:20120218T151500Z
DTEND:20120218T161000Z
LOCATION:Field   ID 1
CONTACT:
SUMMARY:Dingoes VS. Dublin Tigres
DESCRIPTION:League Name: Winter Indoor 2012 Girl's  U-07/08\nGame Type: Reg
 ular\nGame Status: Complete\nHome Team: Dingoes\nAway Team: Dublin Tigres\
 nHome Score: 6\nAway Score: 1
END:VEVENT
BEGIN:VEVENT
UID:4642991@ezleagues.ezfacility.com
DTSTAMP:20260426T034829Z
CREATED:20260426T034829Z
DTSTART:20120225T132500Z
DTEND:20120225T142000Z
LOCATION:Field   ID 2
CONTACT:
SUMMARY:HFC Academy VS. Dingoes
DESCRIPTION:League Name: Winter Indoor 2012 Girl's  U-07/08\nGame Type: Reg
 ular\nGame Status: Complete\nHome Team: HFC Academy\nAway Team: Dingoes\nH
 ome Score: 6\nAway Score: 3
END:VEVENT
BEGIN:VEVENT
UID:4643018@ezleagues.ezfacility.com
DTSTAMP:20260426T034829Z
CREATED:20260426T034829Z
DTSTART:20120303T142000Z
DTEND:20120303T151500Z
LOCATION:Field   ID 3
CONTACT:
SUMMARY:Dingoes VS. Hot Stuff
DESCRIPTION:League Name: Winter Indoor 2012 Girl's  U-07/08\nGame Type: Reg
 ular\nGame Status: Complete\nHome Team: Dingoes\nAway Team: Hot Stuff\nHom
 e Score: 2\nAway Score: 2
END:VEVENT
BEGIN:VEVENT
UID:4643038@ezleagues.ezfacility.com
DTSTAMP:20260426T034829Z
CREATED:20260426T034829Z
DTSTART:20120310T180000Z
DTEND:20120310T185500Z
LOCATION:Field   ID 2
CONTACT:
SUMMARY:Worthington Peace Dolphins VS. Dingoes
DESCRIPTION:League Name: Winter Indoor 2012 Girl's  U-07/08\nGame Type: Reg
 ular\nGame Status: Complete\nHome Team: Worthington Peace Dolphins\nAway T
 eam: Dingoes\nHome Score: 0\nAway Score: 10
END:VEVENT
END:VCALENDAR
