BEGIN:VCALENDAR
VERSION:2.0
PRODID:-//EZFacility.com, Inc.//EZL 2.5.5.28621
BEGIN:VEVENT
UID:4704434@ezleagues.ezfacility.com
DTSTAMP:20260425T141643Z
CREATED:20260425T141643Z
DTSTART:20120303T015000Z
DTEND:20120303T024000Z
LOCATION:Practice
CONTACT:
SUMMARY:Flames VS. Tailgaters
DESCRIPTION:League Name: Hockey-Fri Copper\nGame Type: Regular\nGame Status
 : Complete\nHome Team: Flames\nAway Team: Tailgaters\nHome Score: 5\nAway 
 Score: 6
END:VEVENT
BEGIN:VEVENT
UID:4704437@ezleagues.ezfacility.com
DTSTAMP:20260425T141643Z
CREATED:20260425T141643Z
DTSTART:20120310T024000Z
DTEND:20120310T033000Z
LOCATION:Practice
CONTACT:
SUMMARY:Sparrs VS. Tailgaters
DESCRIPTION:League Name: Hockey-Fri Copper\nGame Type: Regular\nGame Status
 : Complete\nHome Team: Sparrs\nAway Team: Tailgaters\nHome Score: 3\nAway 
 Score: 4
END:VEVENT
BEGIN:VEVENT
UID:4704439@ezleagues.ezfacility.com
DTSTAMP:20260425T141643Z
CREATED:20260425T141643Z
DTSTART:20120317T024000Z
DTEND:20120317T033000Z
LOCATION:Practice
CONTACT:
SUMMARY:Tailgaters VS. Blue Notes
DESCRIPTION:League Name: Hockey-Fri Copper\nGame Type: Regular\nGame Status
 : Complete\nHome Team: Tailgaters\nAway Team: Blue Notes\nHome Score: 3\nA
 way Score: 0
END:VEVENT
BEGIN:VEVENT
UID:4704440@ezleagues.ezfacility.com
DTSTAMP:20260425T141643Z
CREATED:20260425T141643Z
DTSTART:20120324T024000Z
DTEND:20120324T033000Z
LOCATION:Practice
CONTACT:
SUMMARY:Flames VS. Tailgaters
DESCRIPTION:League Name: Hockey-Fri Copper\nGame Type: Regular\nGame Status
 : Complete\nHome Team: Flames\nAway Team: Tailgaters\nHome Score: 4\nAway 
 Score: 5
END:VEVENT
BEGIN:VEVENT
UID:4706126@ezleagues.ezfacility.com
DTSTAMP:20260425T141643Z
CREATED:20260425T141643Z
DTSTART:20120331T024100Z
DTEND:20120331T033100Z
LOCATION:Practice
CONTACT:No Game
SUMMARY:Tailgaters VS. Bye
DESCRIPTION:League Name: Hockey-Fri Copper\nGame Type: Regular\nGame Status
 : Pending\nHome Team: Tailgaters\nAway Team: Bye\n
END:VEVENT
BEGIN:VEVENT
UID:4704445@ezleagues.ezfacility.com
DTSTAMP:20260425T141643Z
CREATED:20260425T141643Z
DTSTART:20120407T015000Z
DTEND:20120407T024000Z
LOCATION:Practice
CONTACT:
SUMMARY:Tailgaters VS. Blue Notes
DESCRIPTION:League Name: Hockey-Fri Copper\nGame Type: Regular\nGame Status
 : Complete\nHome Team: Tailgaters\nAway Team: Blue Notes\nHome Score: 4\nA
 way Score: 6
END:VEVENT
BEGIN:VEVENT
UID:4704446@ezleagues.ezfacility.com
DTSTAMP:20260425T141643Z
CREATED:20260425T141643Z
DTSTART:20120414T015000Z
DTEND:20120414T024000Z
LOCATION:Practice
CONTACT:
SUMMARY:Tailgaters VS. Flames
DESCRIPTION:League Name: Hockey-Fri Copper\nGame Type: Regular\nGame Status
 : Complete\nHome Team: Tailgaters\nAway Team: Flames\nHome Score: 5\nAway 
 Score: 3
END:VEVENT
BEGIN:VEVENT
UID:4704449@ezleagues.ezfacility.com
DTSTAMP:20260425T141643Z
CREATED:20260425T141643Z
DTSTART:20120421T024000Z
DTEND:20120421T033000Z
LOCATION:Practice
CONTACT:
SUMMARY:Tailgaters VS. Sparrs
DESCRIPTION:League Name: Hockey-Fri Copper\nGame Type: Regular\nGame Status
 : Complete\nHome Team: Tailgaters\nAway Team: Sparrs\nHome Score: 2\nAway 
 Score: 1
END:VEVENT
BEGIN:VEVENT
UID:4704451@ezleagues.ezfacility.com
DTSTAMP:20260425T141643Z
CREATED:20260425T141643Z
DTSTART:20120428T024000Z
DTEND:20120428T033000Z
LOCATION:Practice
CONTACT:
SUMMARY:Blue Notes VS. Tailgaters
DESCRIPTION:League Name: Hockey-Fri Copper\nGame Type: Regular\nGame Status
 : Complete\nHome Team: Blue Notes\nAway Team: Tailgaters\nHome Score: 1\nA
 way Score: 0
END:VEVENT
BEGIN:VEVENT
UID:4706133@ezleagues.ezfacility.com
DTSTAMP:20260425T141643Z
CREATED:20260425T141643Z
DTSTART:20120429T010500Z
DTEND:20120429T015500Z
LOCATION:Practice
CONTACT:
SUMMARY:Tailgaters VS. Lazy Pucks
DESCRIPTION:League Name: Hockey-Fri Copper\nGame Type: Regular\nGame Status
 : Complete\nHome Team: Tailgaters\nAway Team: Lazy Pucks\nHome Score: 4\nA
 way Score: 2
END:VEVENT
BEGIN:VEVENT
UID:4706131@ezleagues.ezfacility.com
DTSTAMP:20260425T141643Z
CREATED:20260425T141643Z
DTSTART:20120505T024100Z
DTEND:20120505T033100Z
LOCATION:Practice
CONTACT:No Game
SUMMARY:Tailgaters VS. Bye
DESCRIPTION:League Name: Hockey-Fri Copper\nGame Type: Regular\nGame Status
 : Pending\nHome Team: Tailgaters\nAway Team: Bye\n
END:VEVENT
BEGIN:VEVENT
UID:4704455@ezleagues.ezfacility.com
DTSTAMP:20260425T141643Z
CREATED:20260425T141643Z
DTSTART:20120512T012000Z
DTEND:20120512T021000Z
LOCATION:Practice
CONTACT:
SUMMARY:Tailgaters VS. HazzMatts
DESCRIPTION:League Name: Hockey-Fri Copper\nGame Type: Postseason\nGame Sta
 tus: Pending\nHome Team: Tailgaters\nAway Team: HazzMatts\n
END:VEVENT
BEGIN:VEVENT
UID:4704457@ezleagues.ezfacility.com
DTSTAMP:20260425T141643Z
CREATED:20260425T141643Z
DTSTART:20120519T024500Z
DTEND:20120519T033500Z
LOCATION:Practice
CONTACT:
SUMMARY:Tailgaters VS. Blue Notes
DESCRIPTION:League Name: Hockey-Fri Copper\nGame Type: Postseason\nGame Sta
 tus: Complete\nHome Team: Tailgaters\nAway Team: Blue Notes\nHome Score: 1
 \nAway Score: 9
END:VEVENT
END:VCALENDAR
