BEGIN:VCALENDAR
VERSION:2.0
PRODID:-//EZFacility.com, Inc.//EZL 2.5.5.28621
BEGIN:VEVENT
UID:4704435@ezleagues.ezfacility.com
DTSTAMP:20260424T203305Z
CREATED:20260424T203305Z
DTSTART:20120303T024000Z
DTEND:20120303T033000Z
LOCATION:Practice
CONTACT:
SUMMARY:Blue Notes VS. Sparrs
DESCRIPTION:League Name: Hockey-Fri Copper\nGame Type: Regular\nGame Status
 : Complete\nHome Team: Blue Notes\nAway Team: Sparrs\nHome Score: 3\nAway 
 Score: 4
END:VEVENT
BEGIN:VEVENT
UID:4706123@ezleagues.ezfacility.com
DTSTAMP:20260424T203305Z
CREATED:20260424T203305Z
DTSTART:20120310T024100Z
DTEND:20120310T033100Z
LOCATION:Practice
CONTACT:No Game
SUMMARY:Blue Notes VS. Bye
DESCRIPTION:League Name: Hockey-Fri Copper\nGame Type: Regular\nGame Status
 : Pending\nHome Team: Blue Notes\nAway Team: Bye\n
END:VEVENT
BEGIN:VEVENT
UID:4704439@ezleagues.ezfacility.com
DTSTAMP:20260424T203305Z
CREATED:20260424T203305Z
DTSTART:20120317T024000Z
DTEND:20120317T033000Z
LOCATION:Practice
CONTACT:
SUMMARY:Tailgaters VS. Blue Notes
DESCRIPTION:League Name: Hockey-Fri Copper\nGame Type: Regular\nGame Status
 : Complete\nHome Team: Tailgaters\nAway Team: Blue Notes\nHome Score: 3\nA
 way Score: 0
END:VEVENT
BEGIN:VEVENT
UID:4704441@ezleagues.ezfacility.com
DTSTAMP:20260424T203305Z
CREATED:20260424T203305Z
DTSTART:20120324T015000Z
DTEND:20120324T024000Z
LOCATION:Practice
CONTACT:
SUMMARY:Blue Notes VS. Dos Amigos
DESCRIPTION:League Name: Hockey-Fri Copper\nGame Type: Regular\nGame Status
 : Complete\nHome Team: Blue Notes\nAway Team: Dos Amigos\nHome Score: 2\nA
 way Score: 5
END:VEVENT
BEGIN:VEVENT
UID:4704442@ezleagues.ezfacility.com
DTSTAMP:20260424T203305Z
CREATED:20260424T203305Z
DTSTART:20120331T024000Z
DTEND:20120331T033000Z
LOCATION:Practice
CONTACT:
SUMMARY:Flames VS. Blue Notes
DESCRIPTION:League Name: Hockey-Fri Copper\nGame Type: Regular\nGame Status
 : Complete\nHome Team: Flames\nAway Team: Blue Notes\nHome Score: 3\nAway 
 Score: 3
END:VEVENT
BEGIN:VEVENT
UID:4704445@ezleagues.ezfacility.com
DTSTAMP:20260424T203305Z
CREATED:20260424T203305Z
DTSTART:20120407T015000Z
DTEND:20120407T024000Z
LOCATION:Practice
CONTACT:
SUMMARY:Tailgaters VS. Blue Notes
DESCRIPTION:League Name: Hockey-Fri Copper\nGame Type: Regular\nGame Status
 : Complete\nHome Team: Tailgaters\nAway Team: Blue Notes\nHome Score: 4\nA
 way Score: 6
END:VEVENT
BEGIN:VEVENT
UID:4706128@ezleagues.ezfacility.com
DTSTAMP:20260424T203305Z
CREATED:20260424T203305Z
DTSTART:20120414T024100Z
DTEND:20120414T033100Z
LOCATION:Practice
CONTACT:No Game
SUMMARY:Blue Notes VS. Bye
DESCRIPTION:League Name: Hockey-Fri Copper\nGame Type: Regular\nGame Status
 : Pending\nHome Team: Blue Notes\nAway Team: Bye\n
END:VEVENT
BEGIN:VEVENT
UID:4704448@ezleagues.ezfacility.com
DTSTAMP:20260424T203305Z
CREATED:20260424T203305Z
DTSTART:20120421T015000Z
DTEND:20120421T024000Z
LOCATION:Practice
CONTACT:
SUMMARY:Blue Notes VS. Dos Amigos
DESCRIPTION:League Name: Hockey-Fri Copper\nGame Type: Regular\nGame Status
 : Complete\nHome Team: Blue Notes\nAway Team: Dos Amigos\nHome Score: 6\nA
 way Score: 1
END:VEVENT
BEGIN:VEVENT
UID:4704451@ezleagues.ezfacility.com
DTSTAMP:20260424T203305Z
CREATED:20260424T203305Z
DTSTART:20120428T024000Z
DTEND:20120428T033000Z
LOCATION:Practice
CONTACT:
SUMMARY:Blue Notes VS. Tailgaters
DESCRIPTION:League Name: Hockey-Fri Copper\nGame Type: Regular\nGame Status
 : Complete\nHome Team: Blue Notes\nAway Team: Tailgaters\nHome Score: 1\nA
 way Score: 0
END:VEVENT
BEGIN:VEVENT
UID:4706132@ezleagues.ezfacility.com
DTSTAMP:20260424T203305Z
CREATED:20260424T203305Z
DTSTART:20120429T015500Z
DTEND:20120429T024500Z
LOCATION:Practice
CONTACT:
SUMMARY:Sparrs VS. Blue Notes
DESCRIPTION:League Name: Hockey-Fri Copper\nGame Type: Regular\nGame Status
 : Complete\nHome Team: Sparrs\nAway Team: Blue Notes\nHome Score: 2\nAway 
 Score: 2
END:VEVENT
BEGIN:VEVENT
UID:4704453@ezleagues.ezfacility.com
DTSTAMP:20260424T203305Z
CREATED:20260424T203305Z
DTSTART:20120505T015000Z
DTEND:20120505T024000Z
LOCATION:Practice
CONTACT:
SUMMARY:Blue Notes VS. Dos Amigos
DESCRIPTION:League Name: Hockey-Fri Copper\nGame Type: Regular\nGame Status
 : Complete\nHome Team: Blue Notes\nAway Team: Dos Amigos\nHome Score: 4\nA
 way Score: 4
END:VEVENT
BEGIN:VEVENT
UID:4945459@ezleagues.ezfacility.com
DTSTAMP:20260424T203305Z
CREATED:20260424T203305Z
DTSTART:20120512T035000Z
DTEND:20120512T044000Z
LOCATION:Practice
CONTACT:
SUMMARY:Blue Notes VS. Dos Amigos
DESCRIPTION:League Name: Hockey-Fri Copper\nGame Type: Postseason\nGame Sta
 tus: Pending\nHome Team: Blue Notes\nAway Team: Dos Amigos\n
END:VEVENT
BEGIN:VEVENT
UID:4960250@ezleagues.ezfacility.com
DTSTAMP:20260424T203305Z
CREATED:20260424T203305Z
DTSTART:20120519T010000Z
DTEND:20120519T015000Z
LOCATION:Practice
CONTACT:
SUMMARY:Blue Notes VS. Flames
DESCRIPTION:League Name: Hockey-Fri Copper\nGame Type: Postseason\nGame Sta
 tus: Complete\nHome Team: Blue Notes\nAway Team: Flames\nHome Score: 4\nAw
 ay Score: 3
END:VEVENT
BEGIN:VEVENT
UID:4704457@ezleagues.ezfacility.com
DTSTAMP:20260424T203305Z
CREATED:20260424T203305Z
DTSTART:20120519T024500Z
DTEND:20120519T033500Z
LOCATION:Practice
CONTACT:
SUMMARY:Tailgaters VS. Blue Notes
DESCRIPTION:League Name: Hockey-Fri Copper\nGame Type: Postseason\nGame Sta
 tus: Complete\nHome Team: Tailgaters\nAway Team: Blue Notes\nHome Score: 1
 \nAway Score: 9
END:VEVENT
END:VCALENDAR
