BEGIN:VCALENDAR
VERSION:2.0
PRODID:-//EZFacility.com, Inc.//EZL 2.5.5.28621
BEGIN:VEVENT
UID:4637769@ezleagues.ezfacility.com
DTSTAMP:20260426T033648Z
CREATED:20260426T033648Z
DTSTART:20120114T170500Z
DTEND:20120114T180000Z
LOCATION:Field   ID 1
CONTACT:
SUMMARY:Noor Hurricanes VS. Point Plus
DESCRIPTION:League Name: Winter Indoor 2012 Boy's U-09 East\nGame Type: Reg
 ular\nGame Status: Complete\nHome Team: Noor Hurricanes\nAway Team: Point 
 Plus\nHome Score: 0\nAway Score: 14
END:VEVENT
BEGIN:VEVENT
UID:4637772@ezleagues.ezfacility.com
DTSTAMP:20260426T033648Z
CREATED:20260426T033648Z
DTSTART:20120121T180000Z
DTEND:20120121T185500Z
LOCATION:Field   ID 1
CONTACT:
SUMMARY:Point Plus VS. HFC Select Silver
DESCRIPTION:League Name: Winter Indoor 2012 Boy's U-09 East\nGame Type: Reg
 ular\nGame Status: Complete\nHome Team: Point Plus\nAway Team: HFC Select 
 Silver\nHome Score: 14\nAway Score: 1
END:VEVENT
BEGIN:VEVENT
UID:4637799@ezleagues.ezfacility.com
DTSTAMP:20260426T033648Z
CREATED:20260426T033648Z
DTSTART:20120128T161000Z
DTEND:20120128T170500Z
LOCATION:Field   ID 1
CONTACT:
SUMMARY:Point Plus VS. SF Academy Blue
DESCRIPTION:League Name: Winter Indoor 2012 Boy's U-09 East\nGame Type: Reg
 ular\nGame Status: Complete\nHome Team: Point Plus\nAway Team: SF Academy 
 Blue\nHome Score: 10\nAway Score: 2
END:VEVENT
BEGIN:VEVENT
UID:4637832@ezleagues.ezfacility.com
DTSTAMP:20260426T033648Z
CREATED:20260426T033648Z
DTSTART:20120204T223500Z
DTEND:20120204T233000Z
LOCATION:Field   ID 2
CONTACT:
SUMMARY:SF Academy Green VS. Point Plus
DESCRIPTION:League Name: Winter Indoor 2012 Boy's U-09 East\nGame Type: Reg
 ular\nGame Status: Complete\nHome Team: SF Academy Green\nAway Team: Point
  Plus\nHome Score: 2\nAway Score: 5
END:VEVENT
BEGIN:VEVENT
UID:4637896@ezleagues.ezfacility.com
DTSTAMP:20260426T033648Z
CREATED:20260426T033648Z
DTSTART:20120211T195000Z
DTEND:20120211T204500Z
LOCATION:Field   ID 3
CONTACT:
SUMMARY:Point Plus VS. Hilliard Jaguars
DESCRIPTION:League Name: Winter Indoor 2012 Boy's U-09 East\nGame Type: Reg
 ular\nGame Status: Complete\nHome Team: Point Plus\nAway Team: Hilliard Ja
 guars\nHome Score: 16\nAway Score: 0
END:VEVENT
BEGIN:VEVENT
UID:4637900@ezleagues.ezfacility.com
DTSTAMP:20260426T033648Z
CREATED:20260426T033648Z
DTSTART:20120218T180000Z
DTEND:20120218T185500Z
LOCATION:Field   ID 1
CONTACT:
SUMMARY:Point Plus VS. Noor Hurricanes
DESCRIPTION:League Name: Winter Indoor 2012 Boy's U-09 East\nGame Type: Reg
 ular\nGame Status: Complete\nHome Team: Point Plus\nAway Team: Noor Hurric
 anes\nHome Score: 7\nAway Score: 1
END:VEVENT
BEGIN:VEVENT
UID:4637903@ezleagues.ezfacility.com
DTSTAMP:20260426T033648Z
CREATED:20260426T033648Z
DTSTART:20120225T214000Z
DTEND:20120225T223500Z
LOCATION:Field   ID 2
CONTACT:
SUMMARY:HFC Select Silver VS. Point Plus
DESCRIPTION:League Name: Winter Indoor 2012 Boy's U-09 East\nGame Type: Reg
 ular\nGame Status: Complete\nHome Team: HFC Select Silver\nAway Team: Poin
 t Plus\nHome Score: 0\nAway Score: 13
END:VEVENT
BEGIN:VEVENT
UID:4637905@ezleagues.ezfacility.com
DTSTAMP:20260426T033648Z
CREATED:20260426T033648Z
DTSTART:20120303T161000Z
DTEND:20120303T170500Z
LOCATION:Field   ID 2
CONTACT:
SUMMARY:SF Academy Blue VS. Point Plus
DESCRIPTION:League Name: Winter Indoor 2012 Boy's U-09 East\nGame Type: Reg
 ular\nGame Status: Complete\nHome Team: SF Academy Blue\nAway Team: Point 
 Plus\nHome Score: 1\nAway Score: 10
END:VEVENT
BEGIN:VEVENT
UID:4637935@ezleagues.ezfacility.com
DTSTAMP:20260426T033648Z
CREATED:20260426T033648Z
DTSTART:20120310T214000Z
DTEND:20120310T223500Z
LOCATION:Field   ID 1
CONTACT:
SUMMARY:Point Plus VS. SF Academy Green
DESCRIPTION:League Name: Winter Indoor 2012 Boy's U-09 East\nGame Type: Reg
 ular\nGame Status: Complete\nHome Team: Point Plus\nAway Team: SF Academy 
 Green\nHome Score: 11\nAway Score: 1
END:VEVENT
END:VCALENDAR
