BEGIN:VCALENDAR
VERSION:2.0
PRODID:-//EZFacility.com, Inc.//EZL 2.5.5.28621
BEGIN:VEVENT
UID:4721208@ezleagues.ezfacility.com
DTSTAMP:20260424T043147Z
CREATED:20260424T043147Z
DTSTART:20120212T023000Z
DTEND:20120212T031800Z
LOCATION:TSA Field 2
CONTACT:
SUMMARY:Friends United  VS. Aguila 
DESCRIPTION:League Name: Sat Men`s La Super Liga \nGame Type: Regular\nGame
  Status: Complete\nHome Team: Friends United \nAway Team: Aguila \nHome Sc
 ore: 4\nAway Score: 7
END:VEVENT
BEGIN:VEVENT
UID:4721225@ezleagues.ezfacility.com
DTSTAMP:20260424T043147Z
CREATED:20260424T043147Z
DTSTART:20120219T032000Z
DTEND:20120219T040800Z
LOCATION:Large Field 1
CONTACT:
SUMMARY:Friends United  VS. Pumas
DESCRIPTION:League Name: Sat Men`s La Super Liga \nGame Type: Regular\nGame
  Status: Complete\nHome Team: Friends United \nAway Team: Pumas\nHome Scor
 e: 2\nAway Score: 3
END:VEVENT
BEGIN:VEVENT
UID:4721238@ezleagues.ezfacility.com
DTSTAMP:20260424T043147Z
CREATED:20260424T043147Z
DTSTART:20120226T005000Z
DTEND:20120226T013800Z
LOCATION:TSA Field 2
CONTACT:
SUMMARY:Friends United  VS. The Blues
DESCRIPTION:League Name: Sat Men`s La Super Liga \nGame Type: Regular\nGame
  Status: Complete\nHome Team: Friends United \nAway Team: The Blues\nHome 
 Score: 3\nAway Score: 7
END:VEVENT
BEGIN:VEVENT
UID:4721257@ezleagues.ezfacility.com
DTSTAMP:20260424T043147Z
CREATED:20260424T043147Z
DTSTART:20120304T032000Z
DTEND:20120304T040800Z
LOCATION:Large Field 1
CONTACT:
SUMMARY:Independiente VS. Friends United 
DESCRIPTION:League Name: Sat Men`s La Super Liga \nGame Type: Regular\nGame
  Status: Complete\nHome Team: Independiente\nAway Team: Friends United \nH
 ome Score: 7\nAway Score: 6
END:VEVENT
BEGIN:VEVENT
UID:4721272@ezleagues.ezfacility.com
DTSTAMP:20260424T043147Z
CREATED:20260424T043147Z
DTSTART:20120311T041000Z
DTEND:20120311T045800Z
LOCATION:TSA Field 2
CONTACT:
SUMMARY:Holanda VS. Friends United 
DESCRIPTION:League Name: Sat Men`s La Super Liga \nGame Type: Regular\nGame
  Status: Complete\nHome Team: Holanda\nAway Team: Friends United \nHome Sc
 ore: 4\nAway Score: 7
END:VEVENT
BEGIN:VEVENT
UID:4721287@ezleagues.ezfacility.com
DTSTAMP:20260424T043147Z
CREATED:20260424T043147Z
DTSTART:20120318T004000Z
DTEND:20120318T012800Z
LOCATION:Large Field 1
CONTACT:
SUMMARY:FC Puebla VS. Friends United 
DESCRIPTION:League Name: Sat Men`s La Super Liga \nGame Type: Regular\nGame
  Status: Complete\nHome Team: FC Puebla\nAway Team: Friends United \nHome 
 Score: 1\nAway Score: 1
END:VEVENT
BEGIN:VEVENT
UID:4721303@ezleagues.ezfacility.com
DTSTAMP:20260424T043147Z
CREATED:20260424T043147Z
DTSTART:20120325T031000Z
DTEND:20120325T035800Z
LOCATION:TSA Field 2
CONTACT:
SUMMARY:410 Junior  VS. Friends United 
DESCRIPTION:League Name: Sat Men`s La Super Liga \nGame Type: Regular\nGame
  Status: Complete\nHome Team: 410 Junior \nAway Team: Friends United \nHom
 e Score: 6\nAway Score: 3
END:VEVENT
BEGIN:VEVENT
UID:4847382@ezleagues.ezfacility.com
DTSTAMP:20260424T043147Z
CREATED:20260424T043147Z
DTSTART:20120331T225000Z
DTEND:20120331T233800Z
LOCATION:Large Field 1
CONTACT:
SUMMARY:Friends United  VS. Holanda
DESCRIPTION:League Name: Sat Men`s La Super Liga \nGame Type: Regular\nGame
  Status: Complete\nHome Team: Friends United \nAway Team: Holanda\nHome Sc
 ore: 0\nAway Score: 0
END:VEVENT
BEGIN:VEVENT
UID:4865572@ezleagues.ezfacility.com
DTSTAMP:20260424T043147Z
CREATED:20260424T043147Z
DTSTART:20120408T020000Z
DTEND:20120408T024800Z
LOCATION:TSA Field 2
CONTACT:
SUMMARY:Friends United  VS. Holanda
DESCRIPTION:League Name: Sat Men`s La Super Liga \nGame Type: Regular\nGame
  Status: Complete\nHome Team: Friends United \nAway Team: Holanda\nHome Sc
 ore: 0\nAway Score: 0
END:VEVENT
END:VCALENDAR
